BEGIN:VCALENDAR
VERSION:2.0
PRODID:-//TJ Sokol Bedřichov Jihlava90060//NONSGML kigkonsult.se iCalcreator 2.41.80//
CALSCALE:GREGORIAN
UID:62646661-3235-4635-b634-363566303130
BEGIN:VEVENT
UID:35346530-6636-4166-a661-326463626237
DTSTAMP:20260422T183016Z
DESCRIPTION:3/7 Bedřichov - Mělník 1:3 (-17\,20\,-18\,-10)
DTSTART;TZID=Europe/Berlin:20251129T100000
DTEND;TZID=Europe/Berlin:20251129T120000
LOCATION:TJ Sokol Bedřichov\, Jihlava\, Sokolovská 4656 Jihlava
SUMMARY:2-U18Z-C: Bedřichov-Mělník
END:VEVENT
BEGIN:VEVENT
UID:35663565-6564-4632-a263-353866396539
DTSTAMP:20260422T183016Z
DESCRIPTION:4/10 Bedřichov - Mělník 3:2 (-20\,-20\,24\,18\,4)
DTSTART;TZID=Europe/Berlin:20251129T140000
DTEND;TZID=Europe/Berlin:20251129T160000
LOCATION:TJ Sokol Bedřichov\, Jihlava\, Sokolovská 4656 Jihlava
SUMMARY:2-U18Z-C: Bedřichov-Mělník
END:VEVENT
BEGIN:VEVENT
UID:66666630-3737-4362-b363-303137633835
DTSTAMP:20260422T183016Z
DESCRIPTION:7/19 Bedřichov - Benátky n. J. 0:3 (-19\,-23\,-21)
DTSTART;TZID=Europe/Berlin:20251025T100000
DTEND;TZID=Europe/Berlin:20251025T120000
LOCATION:TJ Sokol Bedřichov\, Jihlava\, Sokolovská 4656 Jihlava
SUMMARY:2-U18Z-C: Bedřichov-Benátky n. J.
END:VEVENT
BEGIN:VEVENT
UID:37326335-6130-4364-b631-383763666463
DTSTAMP:20260422T183016Z
DESCRIPTION:8/22 Bedřichov - Benátky n. J. 0:3 (-20\,-19\,-20)
DTSTART;TZID=Europe/Berlin:20251025T140000
DTEND;TZID=Europe/Berlin:20251025T160000
LOCATION:TJ Sokol Bedřichov\, Jihlava\, Sokolovská 4656 Jihlava
SUMMARY:2-U18Z-C: Bedřichov-Benátky n. J.
END:VEVENT
BEGIN:VEVENT
UID:31373761-3031-4631-b536-316364353130
DTSTAMP:20260422T183016Z
DESCRIPTION:11/31 Bedřichov - Mikulova B 1:3 (-20\,21\,-21\,-20)
DTSTART;TZID=Europe/Berlin:20251108T100000
DTEND;TZID=Europe/Berlin:20251108T120000
LOCATION:TJ Sokol Bedřichov\, Jihlava\, Sokolovská 4656 Jihlava
SUMMARY:2-U18Z-C: Bedřichov-Mikulova B
END:VEVENT
BEGIN:VEVENT
UID:33303234-3337-4435-b263-653634316664
DTSTAMP:20260422T183016Z
DESCRIPTION:12/34 Bedřichov - Mikulova B 3:0 (13\,13\,21)
DTSTART;TZID=Europe/Berlin:20251108T140000
DTEND;TZID=Europe/Berlin:20251108T160000
LOCATION:TJ Sokol Bedřichov\, Jihlava\, Sokolovská 4656 Jihlava
SUMMARY:2-U18Z-C: Bedřichov-Mikulova B
END:VEVENT
BEGIN:VEVENT
UID:30373037-3061-4433-b935-653262653863
DTSTAMP:20260422T183016Z
DESCRIPTION:15/43 Bedřichov - Pelhřimov 3:1 (21\,12\,-21\,17)
DTSTART;TZID=Europe/Berlin:20251206T100000
DTEND;TZID=Europe/Berlin:20251206T120000
LOCATION:TJ Sokol Bedřichov\, Jihlava\, Sokolovská 4656 Jihlava
SUMMARY:2-U18Z-C: Bedřichov-Pelhřimov
END:VEVENT
BEGIN:VEVENT
UID:30656266-6337-4837-b534-383431336136
DTSTAMP:20260422T183016Z
DESCRIPTION:16/46 Bedřichov - Pelhřimov 3:0 (18\,15\,19)
DTSTART;TZID=Europe/Berlin:20251206T140000
DTEND;TZID=Europe/Berlin:20251206T160000
LOCATION:TJ Sokol Bedřichov\, Jihlava\, Sokolovská 4656 Jihlava
SUMMARY:2-U18Z-C: Bedřichov-Pelhřimov
END:VEVENT
BEGIN:VEVENT
UID:64333030-3962-4363-b337-303365313764
DTSTAMP:20260422T183016Z
DESCRIPTION:19/55 Bedřichov - Meteor 3:0 (13\,23\,21)
DTSTART;TZID=Europe/Berlin:20260131T100000
DTEND;TZID=Europe/Berlin:20260131T120000
LOCATION:TJ Sokol Bedřichov\, Jihlava\, Sokolovská 4656 Jihlava
SUMMARY:2-U18Z-C: Bedřichov-Meteor
END:VEVENT
BEGIN:VEVENT
UID:30613039-3361-4534-b133-313366373134
DTSTAMP:20260422T183016Z
DESCRIPTION:20/58 Bedřichov - Meteor 3:0 (24\,15\,15)
DTSTART;TZID=Europe/Berlin:20260131T140000
DTEND;TZID=Europe/Berlin:20260131T160000
LOCATION:TJ Sokol Bedřichov\, Jihlava\, Sokolovská 4656 Jihlava
SUMMARY:2-U18Z-C: Bedřichov-Meteor
END:VEVENT
BEGIN:VEVENT
UID:65316437-3261-4463-b262-313236336531
DTSTAMP:20260422T183016Z
DESCRIPTION:1/1 Mikulova B - Bedřichov 3:0 (12\,18\,21)
DTSTART;TZID=Europe/Berlin:20250920T120000
DTEND;TZID=Europe/Berlin:20250920T140000
LOCATION:Sportovní hala DDM Praha 12 - Monet\, Herrmannova 2016 Praha - Mod
 řany
SUMMARY:2-U18Z-C: Mikulova B-Bedřichov
END:VEVENT
BEGIN:VEVENT
UID:63383965-3564-4362-a133-386264663732
DTSTAMP:20260422T183016Z
DESCRIPTION:2/4 Mikulova B - Bedřichov 3:0 (15\,16\,15)
DTSTART;TZID=Europe/Berlin:20250920T160000
DTEND;TZID=Europe/Berlin:20250920T180000
LOCATION:Sportovní hala DDM Praha 12 - Monet\, Herrmannova 2016 Praha - Mod
 řany
SUMMARY:2-U18Z-C: Mikulova B-Bedřichov
END:VEVENT
BEGIN:VEVENT
UID:35626161-6336-4464-a464-656134366262
DTSTAMP:20260422T183016Z
DESCRIPTION:5/13 Pelhřimov - Bedřichov 0:3 (-19\,-9\,-12)
DTSTART;TZID=Europe/Berlin:20251011T100000
DTEND;TZID=Europe/Berlin:20251011T120000
LOCATION:Základní škola Pelhřimov\, Osvobození\, Osvobození 1881 Pelhřimov
SUMMARY:2-U18Z-C: Pelhřimov-Bedřichov
END:VEVENT
BEGIN:VEVENT
UID:38666639-6564-4838-b462-653135346135
DTSTAMP:20260422T183016Z
DESCRIPTION:6/16 Pelhřimov - Bedřichov 0:3 (-19\,-20\,-14)
DTSTART;TZID=Europe/Berlin:20251011T140000
DTEND;TZID=Europe/Berlin:20251011T160000
LOCATION:Základní škola Pelhřimov\, Osvobození\, Osvobození 1881 Pelhřimov
SUMMARY:2-U18Z-C: Pelhřimov-Bedřichov
END:VEVENT
BEGIN:VEVENT
UID:37636461-6366-4138-a362-363135316331
DTSTAMP:20260422T183016Z
DESCRIPTION:9/25 Meteor - Bedřichov 1:3 (13\,-20\,-15\,-25)
DTSTART;TZID=Europe/Berlin:20251101T110000
DTEND;TZID=Europe/Berlin:20251101T130000
LOCATION:ZŠ Žernosecká\, Žernosecká 1597 Praha - Kobylisy
SUMMARY:2-U18Z-C: Meteor-Bedřichov
END:VEVENT
BEGIN:VEVENT
UID:35333432-6664-4730-b161-663934623038
DTSTAMP:20260422T183016Z
DESCRIPTION:10/28 Meteor - Bedřichov 3:0 (25\,13\,8)
DTSTART;TZID=Europe/Berlin:20251101T150000
DTEND;TZID=Europe/Berlin:20251101T170000
LOCATION:ZŠ Žernosecká\, Žernosecká 1597 Praha - Kobylisy
SUMMARY:2-U18Z-C: Meteor-Bedřichov
END:VEVENT
BEGIN:VEVENT
UID:39396561-3762-4839-b562-646532373235
DTSTAMP:20260422T183016Z
DESCRIPTION:13/37 Mělník - Bedřichov 2:3 (-18\,23\,19\,-21\,-13)
DTSTART;TZID=Europe/Berlin:20251122T100000
DTEND;TZID=Europe/Berlin:20251122T120000
LOCATION:Hala SPŠS - Koktánek\, Pražská 416 Mělník
SUMMARY:2-U18Z-C: Mělník-Bedřichov
END:VEVENT
BEGIN:VEVENT
UID:33613566-3061-4865-b037-323234343565
DTSTAMP:20260422T183016Z
DESCRIPTION:14/40 Mělník - Bedřichov 3:0 (5\,16\,17)
DTSTART;TZID=Europe/Berlin:20251122T140000
DTEND;TZID=Europe/Berlin:20251122T160000
LOCATION:Hala SPŠS - Koktánek\, Pražská 416 Mělník
SUMMARY:2-U18Z-C: Mělník-Bedřichov
END:VEVENT
BEGIN:VEVENT
UID:64623062-6332-4066-b538-333433626235
DTSTAMP:20260422T183016Z
DESCRIPTION:17/49 Benátky n. J. - Bedřichov 3:0 (11\,12\,18)
DTSTART;TZID=Europe/Berlin:20260124T110000
DTEND;TZID=Europe/Berlin:20260124T130000
LOCATION:Nibe aréna\, městská sportovní hala\, 5. května 746 Benátky nad Ji
 zerou - Benátky nad Jizerou II
SUMMARY:2-U18Z-C: Benátky n. J.-Bedřichov
END:VEVENT
BEGIN:VEVENT
UID:34356135-3437-4333-b062-323363616336
DTSTAMP:20260422T183016Z
DESCRIPTION:18/52 Benátky n. J. - Bedřichov 3:0 (17\,23\,21)
DTSTART;TZID=Europe/Berlin:20260124T150000
DTEND;TZID=Europe/Berlin:20260124T170000
LOCATION:Nibe aréna\, městská sportovní hala\, 5. května 746 Benátky nad Ji
 zerou - Benátky nad Jizerou II
SUMMARY:2-U18Z-C: Benátky n. J.-Bedřichov
END:VEVENT
BEGIN:VEVENT
UID:62356633-6231-4938-a364-313433636363
DTSTAMP:20260422T183016Z
DESCRIPTION:5/13 Bedřichov - Kolín 3:0 (16\,21\,14)
DTSTART;TZID=Europe/Berlin:20260307T100000
DTEND;TZID=Europe/Berlin:20260307T120000
LOCATION:TJ Sokol Bedřichov\, Jihlava\, Sokolovská 4656 Jihlava
SUMMARY:2-U18Z-O: Bedřichov-Kolín
END:VEVENT
BEGIN:VEVENT
UID:33356563-3337-4239-a335-343238633030
DTSTAMP:20260422T183016Z
DESCRIPTION:6/16 Bedřichov - Kolín 3:1 (-25\,16\,20\,22)
DTSTART;TZID=Europe/Berlin:20260307T140000
DTEND;TZID=Europe/Berlin:20260307T160000
LOCATION:TJ Sokol Bedřichov\, Jihlava\, Sokolovská 4656 Jihlava
SUMMARY:2-U18Z-O: Bedřichov-Kolín
END:VEVENT
BEGIN:VEVENT
UID:64653930-6337-4863-b761-376134636431
DTSTAMP:20260422T183016Z
DESCRIPTION:7/19 Bedřichov - Slavia 3:0 (25\,23\,23)
DTSTART;TZID=Europe/Berlin:20260314T100000
DTEND;TZID=Europe/Berlin:20260314T120000
LOCATION:TJ Sokol Bedřichov\, Jihlava\, Sokolovská 4656 Jihlava
SUMMARY:2-U18Z-O: Bedřichov-Slavia
END:VEVENT
BEGIN:VEVENT
UID:32616233-3366-4939-b830-383633643830
DTSTAMP:20260422T183016Z
DESCRIPTION:8/22 Bedřichov - Slavia 1:3 (-20\,-17\,28\,-23)
DTSTART;TZID=Europe/Berlin:20260314T140000
DTEND;TZID=Europe/Berlin:20260314T160000
LOCATION:TJ Sokol Bedřichov\, Jihlava\, Sokolovská 4656 Jihlava
SUMMARY:2-U18Z-O: Bedřichov-Slavia
END:VEVENT
BEGIN:VEVENT
UID:30313633-6438-4732-a131-383939616361
DTSTAMP:20260422T183016Z
DESCRIPTION:9/26 Bedřichov - Hronov 3:1 (21\,-23\,20\,16)
DTSTART;TZID=Europe/Berlin:20260328T100000
DTEND;TZID=Europe/Berlin:20260328T120000
LOCATION:TJ Sokol Bedřichov\, Jihlava\, Sokolovská 4656 Jihlava
SUMMARY:2-U18Z-O: Bedřichov-Hronov
END:VEVENT
BEGIN:VEVENT
UID:34636564-3838-4634-b333-363461646633
DTSTAMP:20260422T183016Z
DESCRIPTION:10/29 Bedřichov - Hronov 3:0 (25\,20\,19)
DTSTART;TZID=Europe/Berlin:20260328T140000
DTEND;TZID=Europe/Berlin:20260328T160000
LOCATION:TJ Sokol Bedřichov\, Jihlava\, Sokolovská 4656 Jihlava
SUMMARY:2-U18Z-O: Bedřichov-Hronov
END:VEVENT
BEGIN:VEVENT
UID:36613066-3137-4962-a665-353232323938
DTSTAMP:20260422T183016Z
DESCRIPTION:1/1 Slavia - Bedřichov 3:0 (17\,19\,21)
DTSTART;TZID=Europe/Berlin:20260214T100000
DTEND;TZID=Europe/Berlin:20260214T120000
LOCATION:Sportovní hala Slavia Praha\, Vladivostocká 1460 Praha - Vršovice
SUMMARY:2-U18Z-O: Slavia-Bedřichov
END:VEVENT
BEGIN:VEVENT
UID:61373336-6430-4739-a337-623433636161
DTSTAMP:20260422T183016Z
DESCRIPTION:2/4 Slavia - Bedřichov 0:3 (-17\,-16\,-24)
DTSTART;TZID=Europe/Berlin:20260214T140000
DTEND;TZID=Europe/Berlin:20260214T160000
LOCATION:Sportovní hala Slavia Praha\, Vladivostocká 1460 Praha - Vršovice
SUMMARY:2-U18Z-O: Slavia-Bedřichov
END:VEVENT
BEGIN:VEVENT
UID:61313339-3866-4862-b039-633835633664
DTSTAMP:20260422T183016Z
DESCRIPTION:3/8 Hronov - Bedřichov 0:3 (-16\,-21\,-16)
DTSTART;TZID=Europe/Berlin:20260321T100000
DTEND;TZID=Europe/Berlin:20260321T120000
LOCATION:ZŠ Hronov\, Palackého 162 Hronov
SUMMARY:2-U18Z-O: Hronov-Bedřichov
END:VEVENT
BEGIN:VEVENT
UID:62373266-3832-4331-b936-356536396464
DTSTAMP:20260422T183016Z
DESCRIPTION:4/11 Hronov - Bedřichov 0:3 (-21\,-20\,-17)
DTSTART;TZID=Europe/Berlin:20260321T140000
DTEND;TZID=Europe/Berlin:20260321T160000
LOCATION:ZŠ Hronov\, Palackého 162 Hronov
SUMMARY:2-U18Z-O: Hronov-Bedřichov
END:VEVENT
BEGIN:VEVENT
UID:30373866-3065-4531-b935-386335363035
DTSTAMP:20260422T183016Z
DESCRIPTION:11/31 Kolín - Bedřichov 0:3 (-21\,-24\,-23)
DTSTART;TZID=Europe/Berlin:20260404T120000
DTEND;TZID=Europe/Berlin:20260404T140000
LOCATION:hala STAV\, SOŠ Kolín\, Brankovická 1417 Kolín - Kolín V
SUMMARY:2-U18Z-O: Kolín-Bedřichov
END:VEVENT
BEGIN:VEVENT
UID:37383664-6666-4964-b737-313035666131
DTSTAMP:20260422T183016Z
DESCRIPTION:12/34 Kolín - Bedřichov 0:3 (-4\,-18\,-23)
DTSTART;TZID=Europe/Berlin:20260404T160000
DTEND;TZID=Europe/Berlin:20260404T180000
LOCATION:hala STAV\, SOŠ Kolín\, Brankovická 1417 Kolín - Kolín V
SUMMARY:2-U18Z-O: Kolín-Bedřichov
END:VEVENT
END:VCALENDAR
