BEGIN:VCALENDAR
VERSION:2.0
PRODID:-//VK Raškovice90065//NONSGML kigkonsult.se iCalcreator 2.41.80//
CALSCALE:GREGORIAN
UID:63626632-3164-4062-a165-323362333765
BEGIN:VEVENT
UID:32373132-3663-4033-a231-383733613538
DTSTAMP:20260422T001312Z
DESCRIPTION:3/7 Raškovice - Přerov 0:3 (-17\,-15\,-20)
DTSTART;TZID=Europe/Berlin:20251004T100000
DTEND;TZID=Europe/Berlin:20251004T120000
LOCATION:Víceúčelová sportovní hala\,  Raškovice18
SUMMARY:2-U18Z-E: Raškovice-Přerov
END:VEVENT
BEGIN:VEVENT
UID:35313038-3836-4661-a439-643063396330
DTSTAMP:20260422T001312Z
DESCRIPTION:4/10 Raškovice - Přerov 0:3 (-16\,-12\,-13)
DTSTART;TZID=Europe/Berlin:20251004T140000
DTEND;TZID=Europe/Berlin:20251004T160000
LOCATION:Víceúčelová sportovní hala\,  Raškovice18
SUMMARY:2-U18Z-E: Raškovice-Přerov
END:VEVENT
BEGIN:VEVENT
UID:62366235-6330-4931-b338-396563353261
DTSTAMP:20260422T001312Z
DESCRIPTION:5/13 Raškovice - UP Olomouc 3:0 (14\,15\,19)
DTSTART;TZID=Europe/Berlin:20251011T100000
DTEND;TZID=Europe/Berlin:20251011T120000
LOCATION:Víceúčelová sportovní hala\,  Raškovice18
SUMMARY:2-U18Z-E: Raškovice-UP Olomouc
END:VEVENT
BEGIN:VEVENT
UID:31633834-3736-4538-b234-323035316438
DTSTAMP:20260422T001312Z
DESCRIPTION:6/16 Raškovice - UP Olomouc 3:1 (18\,-18\,13\,14)
DTSTART;TZID=Europe/Berlin:20251011T140000
DTEND;TZID=Europe/Berlin:20251011T160000
LOCATION:Víceúčelová sportovní hala\,  Raškovice18
SUMMARY:2-U18Z-E: Raškovice-UP Olomouc
END:VEVENT
BEGIN:VEVENT
UID:33393930-3034-4565-b464-386135663938
DTSTAMP:20260422T001312Z
DESCRIPTION:7/19 Raškovice - VAM Olomouc 2:3 (21\,-17\,19\,-16\,-8)
DTSTART;TZID=Europe/Berlin:20251026T100000
DTEND;TZID=Europe/Berlin:20251026T120000
LOCATION:Víceúčelová sportovní hala\,  Raškovice18
SUMMARY:2-U18Z-E: Raškovice-VAM Olomouc
END:VEVENT
BEGIN:VEVENT
UID:31336436-3631-4631-a638-326634316437
DTSTAMP:20260422T001312Z
DESCRIPTION:8/22 Raškovice - VAM Olomouc 3:0 (23\,21\,20)
DTSTART;TZID=Europe/Berlin:20251026T140000
DTEND;TZID=Europe/Berlin:20251026T160000
LOCATION:Víceúčelová sportovní hala\,  Raškovice18
SUMMARY:2-U18Z-E: Raškovice-VAM Olomouc
END:VEVENT
BEGIN:VEVENT
UID:66313135-3436-4330-b031-303530636262
DTSTAMP:20260422T001312Z
DESCRIPTION:11/31 Raškovice - Ostrava B 3:0 (21\,15\,19)
DTSTART;TZID=Europe/Berlin:20251108T100000
DTEND;TZID=Europe/Berlin:20251108T120000
LOCATION:Víceúčelová sportovní hala\,  Raškovice18
SUMMARY:2-U18Z-E: Raškovice-Ostrava B
END:VEVENT
BEGIN:VEVENT
UID:62303163-3539-4033-b135-353362613166
DTSTAMP:20260422T001312Z
DESCRIPTION:12/34 Raškovice - Ostrava B 3:1 (-18\,11\,13\,21)
DTSTART;TZID=Europe/Berlin:20251108T140000
DTEND;TZID=Europe/Berlin:20251108T160000
LOCATION:Víceúčelová sportovní hala\,  Raškovice18
SUMMARY:2-U18Z-E: Raškovice-Ostrava B
END:VEVENT
BEGIN:VEVENT
UID:38313965-6365-4066-a337-336131393133
DTSTAMP:20260422T001312Z
DESCRIPTION:19/55 Raškovice - Opava 3:0 (15\,13\,15)
DTSTART;TZID=Europe/Berlin:20260201T100000
DTEND;TZID=Europe/Berlin:20260201T120000
LOCATION:Víceúčelová sportovní hala\,  Raškovice18
SUMMARY:2-U18Z-E: Raškovice-Opava
END:VEVENT
BEGIN:VEVENT
UID:33633938-3931-4766-b330-633163386532
DTSTAMP:20260422T001312Z
DESCRIPTION:20/58 Raškovice - Opava 3:2 (22\,-26\,16\,-20\,14)
DTSTART;TZID=Europe/Berlin:20260201T140000
DTEND;TZID=Europe/Berlin:20260201T160000
LOCATION:Víceúčelová sportovní hala\,  Raškovice18
SUMMARY:2-U18Z-E: Raškovice-Opava
END:VEVENT
BEGIN:VEVENT
UID:30333639-6137-4437-b666-393134326339
DTSTAMP:20260422T001312Z
DESCRIPTION:1/1 Ostrava B - Raškovice 3:1 (22\,-16\,12\,22)
DTSTART;TZID=Europe/Berlin:20250920T090000
DTEND;TZID=Europe/Berlin:20250920T110000
LOCATION:Hala míčových sportů\, Varenská 3098 Ostrava - Moravská Ostrava
SUMMARY:2-U18Z-E: Ostrava B-Raškovice
END:VEVENT
BEGIN:VEVENT
UID:38396462-3234-4566-b338-623962343663
DTSTAMP:20260422T001312Z
DESCRIPTION:2/4 Ostrava B - Raškovice 2:3 (16\,-19\,19\,-18\,-13)
DTSTART;TZID=Europe/Berlin:20250920T130000
DTEND;TZID=Europe/Berlin:20250920T150000
LOCATION:Hala míčových sportů\, Varenská 3098 Ostrava - Moravská Ostrava
SUMMARY:2-U18Z-E: Ostrava B-Raškovice
END:VEVENT
BEGIN:VEVENT
UID:30616337-3164-4230-a161-313839666562
DTSTAMP:20260422T001312Z
DESCRIPTION:9/25 Opava - Raškovice 3:0 (20\,21\,17)
DTSTART;TZID=Europe/Berlin:20251101T110000
DTEND;TZID=Europe/Berlin:20251101T130000
LOCATION:Sportovní hala Střední školy technické\, Kolofíkovo nábřeží 1062 O
 pava - Kateřinky
SUMMARY:2-U18Z-E: Opava-Raškovice
END:VEVENT
BEGIN:VEVENT
UID:36306439-3365-4739-a336-313831346130
DTSTAMP:20260422T001312Z
DESCRIPTION:10/28 Opava - Raškovice 3:0 (9\,13\,20)
DTSTART;TZID=Europe/Berlin:20251101T150000
DTEND;TZID=Europe/Berlin:20251101T170000
LOCATION:Sportovní hala Střední školy technické\, Kolofíkovo nábřeží 1062 O
 pava - Kateřinky
SUMMARY:2-U18Z-E: Opava-Raškovice
END:VEVENT
BEGIN:VEVENT
UID:63346339-6662-4534-b165-613435396136
DTSTAMP:20260422T001312Z
DESCRIPTION:13/37 Přerov - Raškovice 3:1 (19\,-14\,11\,15)
DTSTART;TZID=Europe/Berlin:20251122T100000
DTEND;TZID=Europe/Berlin:20251122T120000
LOCATION:Sportovní hala\, Kouřílkova 1028 Přerov - Přerov I-Město
SUMMARY:2-U18Z-E: Přerov-Raškovice
END:VEVENT
BEGIN:VEVENT
UID:61343835-6437-4363-b036-373363613962
DTSTAMP:20260422T001312Z
DESCRIPTION:14/40 Přerov - Raškovice 3:0 (20\,16\,14)
DTSTART;TZID=Europe/Berlin:20251122T140000
DTEND;TZID=Europe/Berlin:20251122T160000
LOCATION:Sportovní hala\, Kouřílkova 1028 Přerov - Přerov I-Město
SUMMARY:2-U18Z-E: Přerov-Raškovice
END:VEVENT
BEGIN:VEVENT
UID:65306263-3339-4236-b131-323236313433
DTSTAMP:20260422T001312Z
DESCRIPTION:15/43 UP Olomouc - Raškovice 1:3 (-19\,-24\,17\,-23)
DTSTART;TZID=Europe/Berlin:20251206T090000
DTEND;TZID=Europe/Berlin:20251206T110000
LOCATION:Hala ZŠ Dr. Hrubého\, Dr. Hrubého 319 Šternberk
SUMMARY:2-U18Z-E: UP Olomouc-Raškovice
END:VEVENT
BEGIN:VEVENT
UID:38336139-3263-4433-b731-623039643834
DTSTAMP:20260422T001312Z
DESCRIPTION:16/46 UP Olomouc - Raškovice 0:3 (-23\,-19\,-23)
DTSTART;TZID=Europe/Berlin:20251206T130000
DTEND;TZID=Europe/Berlin:20251206T150000
LOCATION:Hala ZŠ Dr. Hrubého\, Dr. Hrubého 319 Šternberk
SUMMARY:2-U18Z-E: UP Olomouc-Raškovice
END:VEVENT
BEGIN:VEVENT
UID:63396433-3338-4837-b735-306466366264
DTSTAMP:20260422T001312Z
DESCRIPTION:17/49 VAM Olomouc - Raškovice 3:2 (24\,-18\,-23\,16\,13)
DTSTART;TZID=Europe/Berlin:20260124T110000
DTEND;TZID=Europe/Berlin:20260124T130000
LOCATION:VOŠ a SPŠE Olomouc\, Božetěchova 755 Olomouc - Hodolany
SUMMARY:2-U18Z-E: VAM Olomouc-Raškovice
END:VEVENT
BEGIN:VEVENT
UID:64646165-3466-4764-a332-366231306564
DTSTAMP:20260422T001312Z
DESCRIPTION:18/52 VAM Olomouc - Raškovice 0:3 (-17\,-13\,-20)
DTSTART;TZID=Europe/Berlin:20260124T150000
DTEND;TZID=Europe/Berlin:20260124T170000
LOCATION:VOŠ a SPŠE Olomouc\, Božetěchova 755 Olomouc - Hodolany
SUMMARY:2-U18Z-E: VAM Olomouc-Raškovice
END:VEVENT
BEGIN:VEVENT
UID:30386361-3132-4338-b862-353731393532
DTSTAMP:20260422T001312Z
DESCRIPTION:1/3 Raškovice - Vyškov 0:3 (-19\,-20\,-23)
DTSTART;TZID=Europe/Berlin:20260214T100000
DTEND;TZID=Europe/Berlin:20260214T120000
LOCATION:tělocvična ZŠ Morávka\,  Morávka178
SUMMARY:2-U18Z-III: Raškovice-Vyškov
END:VEVENT
BEGIN:VEVENT
UID:65363137-3935-4232-b539-626636636331
DTSTAMP:20260422T001312Z
DESCRIPTION:2/6 Raškovice - Vyškov 3:1 (-14\,23\,19\,14)
DTSTART;TZID=Europe/Berlin:20260214T140000
DTEND;TZID=Europe/Berlin:20260214T160000
LOCATION:tělocvična ZŠ Morávka\,  Morávka178
SUMMARY:2-U18Z-III: Raškovice-Vyškov
END:VEVENT
BEGIN:VEVENT
UID:36363635-3036-4330-b239-393462636536
DTSTAMP:20260422T001312Z
DESCRIPTION:5/15 Raškovice - Znojmo 0:3 (-16\,-24\,-17)
DTSTART;TZID=Europe/Berlin:20260307T110000
DTEND;TZID=Europe/Berlin:20260307T130000
LOCATION:tělocvična ZŠ Morávka\,  Morávka178
SUMMARY:2-U18Z-III: Raškovice-Znojmo
END:VEVENT
BEGIN:VEVENT
UID:38313836-3966-4661-b331-376565613562
DTSTAMP:20260422T001312Z
DESCRIPTION:6/18 Raškovice - Znojmo 0:3 (-10\,-15\,-18)
DTSTART;TZID=Europe/Berlin:20260307T150000
DTEND;TZID=Europe/Berlin:20260307T170000
LOCATION:tělocvična ZŠ Morávka\,  Morávka178
SUMMARY:2-U18Z-III: Raškovice-Znojmo
END:VEVENT
BEGIN:VEVENT
UID:65386234-3262-4435-a139-356638656464
DTSTAMP:20260422T001312Z
DESCRIPTION:9/27 Raškovice - Třebíč 3:2 (-25\,23\,-18\,20\,8)
DTSTART;TZID=Europe/Berlin:20260321T100000
DTEND;TZID=Europe/Berlin:20260321T120000
LOCATION:tělocvična ZŠ Morávka\,  Morávka178
SUMMARY:2-U18Z-III: Raškovice-Třebíč
END:VEVENT
BEGIN:VEVENT
UID:32386162-3136-4334-b838-646464646461
DTSTAMP:20260422T001312Z
DESCRIPTION:10/30 Raškovice - Třebíč 3:0 (22\,23\,19)
DTSTART;TZID=Europe/Berlin:20260321T140000
DTEND;TZID=Europe/Berlin:20260321T160000
LOCATION:tělocvična ZŠ Morávka\,  Morávka178
SUMMARY:2-U18Z-III: Raškovice-Třebíč
END:VEVENT
BEGIN:VEVENT
UID:65666465-6363-4330-b664-373837353932
DTSTAMP:20260422T001312Z
DESCRIPTION:3/9 Třebíč - Raškovice 3:0 (11\,21\,21)
DTSTART;TZID=Europe/Berlin:20260221T100000
DTEND;TZID=Europe/Berlin:20260221T120000
LOCATION:hala ZŠ TGM\, Komenského nám. 61 Třebíč - Horka-Domky
SUMMARY:2-U18Z-III: Třebíč-Raškovice
END:VEVENT
BEGIN:VEVENT
UID:32323166-6535-4833-a330-626138303532
DTSTAMP:20260422T001312Z
DESCRIPTION:4/12 Třebíč - Raškovice 3:2 (-20\,24\,-21\,20\,9)
DTSTART;TZID=Europe/Berlin:20260221T140000
DTEND;TZID=Europe/Berlin:20260221T160000
LOCATION:hala ZŠ TGM\, Komenského nám. 61 Třebíč - Horka-Domky
SUMMARY:2-U18Z-III: Třebíč-Raškovice
END:VEVENT
BEGIN:VEVENT
UID:39346636-3566-4831-b639-663765363066
DTSTAMP:20260422T001312Z
DESCRIPTION:7/21 Vyškov - Raškovice 3:2 (26\,-22\,15\,-18\,7)
DTSTART;TZID=Europe/Berlin:20260314T100000
DTEND;TZID=Europe/Berlin:20260314T120000
LOCATION:Tělocvična ZŠ Nádražní\, Nádražní 5 Vyškov - Vyškov-Město
SUMMARY:2-U18Z-III: Vyškov-Raškovice
END:VEVENT
BEGIN:VEVENT
UID:36386633-3766-4334-a266-306533363137
DTSTAMP:20260422T001312Z
DESCRIPTION:8/24 Vyškov - Raškovice 3:2 (-23\,18\,14\,-14\,12)
DTSTART;TZID=Europe/Berlin:20260314T140000
DTEND;TZID=Europe/Berlin:20260314T160000
LOCATION:Tělocvična ZŠ Nádražní\, Nádražní 5 Vyškov - Vyškov-Město
SUMMARY:2-U18Z-III: Vyškov-Raškovice
END:VEVENT
BEGIN:VEVENT
UID:64623262-3833-4931-b163-323638646530
DTSTAMP:20260422T001312Z
DESCRIPTION:11/33 Znojmo - Raškovice 0:3 (-26\,-16\,-17)
DTSTART;TZID=Europe/Berlin:20260328T110000
DTEND;TZID=Europe/Berlin:20260328T130000
LOCATION:Gymnázium Dr. Karla Polesného\, náměstí Komenského 945 Znojmo
SUMMARY:2-U18Z-III: Znojmo-Raškovice
END:VEVENT
BEGIN:VEVENT
UID:65653939-3834-4234-b337-356164616231
DTSTAMP:20260422T001312Z
DESCRIPTION:12/36 Znojmo - Raškovice 3:0 (24\,23\,15)
DTSTART;TZID=Europe/Berlin:20260328T140000
DTEND;TZID=Europe/Berlin:20260328T160000
LOCATION:Gymnázium Dr. Karla Polesného\, náměstí Komenského 945 Znojmo
SUMMARY:2-U18Z-III: Znojmo-Raškovice
END:VEVENT
END:VCALENDAR
