BEGIN:VCALENDAR
VERSION:2.0
PRODID:-//Volejbal Vyškov90073//NONSGML kigkonsult.se iCalcreator 2.41.80//
CALSCALE:GREGORIAN
UID:66393134-3861-4865-b866-666662663663
BEGIN:VEVENT
UID:65616133-6233-4137-b737-313338636435
DTSTAMP:20260421T210132Z
DESCRIPTION:1/1 Vyškov - Svitavy 3:1 (16\,19\,-23\,17)
DTSTART;TZID=Europe/Berlin:20250920T100000
DTEND;TZID=Europe/Berlin:20250920T120000
LOCATION:Tělocvična ZŠ Nádražní\, Nádražní 5 Vyškov - Vyškov-Město
SUMMARY:2-U18Z-F: Vyškov-Svitavy
END:VEVENT
BEGIN:VEVENT
UID:63623536-6331-4766-b030-353339626639
DTSTAMP:20260421T210132Z
DESCRIPTION:2/4 Vyškov - Svitavy 3:2 (9\,-21\,-17\,19\,13)
DTSTART;TZID=Europe/Berlin:20250920T140000
DTEND;TZID=Europe/Berlin:20250920T160000
LOCATION:Tělocvična ZŠ Nádražní\, Nádražní 5 Vyškov - Vyškov-Město
SUMMARY:2-U18Z-F: Vyškov-Svitavy
END:VEVENT
BEGIN:VEVENT
UID:61303636-3136-4431-a664-613135316233
DTSTAMP:20260421T210132Z
DESCRIPTION:3/9 Vyškov - Znojmo 3:1 (19\,-8\,14\,18)
DTSTART;TZID=Europe/Berlin:20251004T100000
DTEND;TZID=Europe/Berlin:20251004T120000
LOCATION:Tělocvična ZŠ Nádražní\, Nádražní 5 Vyškov - Vyškov-Město
SUMMARY:2-U18Z-F: Vyškov-Znojmo
END:VEVENT
BEGIN:VEVENT
UID:34373238-3131-4365-b261-333738666331
DTSTAMP:20260421T210132Z
DESCRIPTION:4/12 Vyškov - Znojmo 3:0 (22\,21\,17)
DTSTART;TZID=Europe/Berlin:20251004T140000
DTEND;TZID=Europe/Berlin:20251004T160000
LOCATION:Tělocvična ZŠ Nádražní\, Nádražní 5 Vyškov - Vyškov-Město
SUMMARY:2-U18Z-F: Vyškov-Znojmo
END:VEVENT
BEGIN:VEVENT
UID:61653564-3737-4935-a665-373138663031
DTSTAMP:20260421T210132Z
DESCRIPTION:7/20 Vyškov - U. Hradiště 3:0 (13\,17\,19)
DTSTART;TZID=Europe/Berlin:20251025T100000
DTEND;TZID=Europe/Berlin:20251025T120000
LOCATION:Tělocvična ZŠ Nádražní\, Nádražní 5 Vyškov - Vyškov-Město
SUMMARY:2-U18Z-F: Vyškov-U. Hradiště
END:VEVENT
BEGIN:VEVENT
UID:65666139-6434-4238-b037-373032323737
DTSTAMP:20260421T210132Z
DESCRIPTION:8/23 Vyškov - U. Hradiště 3:0 (19\,15\,22)
DTSTART;TZID=Europe/Berlin:20251025T140000
DTEND;TZID=Europe/Berlin:20251025T160000
LOCATION:Tělocvična ZŠ Nádražní\, Nádražní 5 Vyškov - Vyškov-Město
SUMMARY:2-U18Z-F: Vyškov-U. Hradiště
END:VEVENT
BEGIN:VEVENT
UID:64383261-6265-4363-a562-356666633739
DTSTAMP:20260421T210132Z
DESCRIPTION:15/44 Vyškov - Třebíč 3:0 (13\,18\,12)
DTSTART;TZID=Europe/Berlin:20251206T100000
DTEND;TZID=Europe/Berlin:20251206T120000
LOCATION:Tělocvična ZŠ Nádražní\, Nádražní 5 Vyškov - Vyškov-Město
SUMMARY:2-U18Z-F: Vyškov-Třebíč
END:VEVENT
BEGIN:VEVENT
UID:35303132-3034-4235-b334-383635656335
DTSTAMP:20260421T210132Z
DESCRIPTION:16/47 Vyškov - Třebíč 3:0 (17\,17\,15)
DTSTART;TZID=Europe/Berlin:20251206T140000
DTEND;TZID=Europe/Berlin:20251206T160000
LOCATION:Tělocvična ZŠ Nádražní\, Nádražní 5 Vyškov - Vyškov-Město
SUMMARY:2-U18Z-F: Vyškov-Třebíč
END:VEVENT
BEGIN:VEVENT
UID:35636134-3732-4138-a265-623235326235
DTSTAMP:20260421T210132Z
DESCRIPTION:19/57 Vyškov - Boskovice 3:1 (23\,18\,-22\,21)
DTSTART;TZID=Europe/Berlin:20260111T100000
DTEND;TZID=Europe/Berlin:20260111T120000
LOCATION:Tělocvična ZŠ Nádražní\, Nádražní 5 Vyškov - Vyškov-Město
SUMMARY:2-U18Z-F: Vyškov-Boskovice
END:VEVENT
BEGIN:VEVENT
UID:39326430-3233-4866-a337-306366353261
DTSTAMP:20260421T210132Z
DESCRIPTION:20/60 Vyškov - Boskovice 3:1 (-23\,15\,19\,16)
DTSTART;TZID=Europe/Berlin:20260111T140000
DTEND;TZID=Europe/Berlin:20260111T160000
LOCATION:Tělocvična ZŠ Nádražní\, Nádražní 5 Vyškov - Vyškov-Město
SUMMARY:2-U18Z-F: Vyškov-Boskovice
END:VEVENT
BEGIN:VEVENT
UID:63396230-3039-4636-a433-626431623162
DTSTAMP:20260421T210132Z
DESCRIPTION:5/14 Třebíč - Vyškov 0:3 (-8\,-23\,-16)
DTSTART;TZID=Europe/Berlin:20251011T100000
DTEND;TZID=Europe/Berlin:20251011T120000
LOCATION:hala ZŠ TGM\, Komenského nám. 61 Třebíč - Horka-Domky
SUMMARY:2-U18Z-F: Třebíč-Vyškov
END:VEVENT
BEGIN:VEVENT
UID:39373239-6532-4565-a563-643734303832
DTSTAMP:20260421T210132Z
DESCRIPTION:6/17 Třebíč - Vyškov 0:3 (-23\,-13\,-14)
DTSTART;TZID=Europe/Berlin:20251011T140000
DTEND;TZID=Europe/Berlin:20251011T160000
LOCATION:hala ZŠ TGM\, Komenského nám. 61 Třebíč - Horka-Domky
SUMMARY:2-U18Z-F: Třebíč-Vyškov
END:VEVENT
BEGIN:VEVENT
UID:38373831-3239-4761-b438-396437616364
DTSTAMP:20260421T210132Z
DESCRIPTION:9/27 Boskovice - Vyškov 0:3 (-12\,-20\,-12)
DTSTART;TZID=Europe/Berlin:20251101T100000
DTEND;TZID=Europe/Berlin:20251101T120000
LOCATION:Hala SOU Andre Citroena\, náměstí 9. května 2153 Boskovice
SUMMARY:2-U18Z-F: Boskovice-Vyškov
END:VEVENT
BEGIN:VEVENT
UID:36356463-3739-4361-b064-303137323430
DTSTAMP:20260421T210132Z
DESCRIPTION:10/30 Boskovice - Vyškov 0:3 (-17\,-18\,-24)
DTSTART;TZID=Europe/Berlin:20251101T140000
DTEND;TZID=Europe/Berlin:20251101T160000
LOCATION:Hala SOU Andre Citroena\, náměstí 9. května 2153 Boskovice
SUMMARY:2-U18Z-F: Boskovice-Vyškov
END:VEVENT
BEGIN:VEVENT
UID:64353132-3834-4132-b536-306535386435
DTSTAMP:20260421T210132Z
DESCRIPTION:11/31 Svitavy - Vyškov 0:3 (-17\,-21\,-21)
DTSTART;TZID=Europe/Berlin:20251108T100000
DTEND;TZID=Europe/Berlin:20251108T120000
LOCATION:Sportovní hala Na Střelnici\, Pražská 2162 Svitavy - Předměstí
SUMMARY:2-U18Z-F: Svitavy-Vyškov
END:VEVENT
BEGIN:VEVENT
UID:31313363-3636-4864-b936-326366653662
DTSTAMP:20260421T210132Z
DESCRIPTION:12/34 Svitavy - Vyškov 2:3 (-12\,18\,-12\,24\,-14)
DTSTART;TZID=Europe/Berlin:20251108T140000
DTEND;TZID=Europe/Berlin:20251108T160000
LOCATION:Sportovní hala Na Střelnici\, Pražská 2162 Svitavy - Předměstí
SUMMARY:2-U18Z-F: Svitavy-Vyškov
END:VEVENT
BEGIN:VEVENT
UID:35343437-3639-4438-b837-316339633433
DTSTAMP:20260421T210132Z
DESCRIPTION:13/39 Znojmo - Vyškov 1:3 (-13\,17\,-21\,-22)
DTSTART;TZID=Europe/Berlin:20251122T100000
DTEND;TZID=Europe/Berlin:20251122T120000
LOCATION:Gymnázium Dr. Karla Polesného\, náměstí Komenského 945 Znojmo
SUMMARY:2-U18Z-F: Znojmo-Vyškov
END:VEVENT
BEGIN:VEVENT
UID:65306530-3161-4565-b165-303735633538
DTSTAMP:20260421T210132Z
DESCRIPTION:14/42 Znojmo - Vyškov 3:1 (23\,-23\,19\,19)
DTSTART;TZID=Europe/Berlin:20251122T140000
DTEND;TZID=Europe/Berlin:20251122T160000
LOCATION:Gymnázium Dr. Karla Polesného\, náměstí Komenského 945 Znojmo
SUMMARY:2-U18Z-F: Znojmo-Vyškov
END:VEVENT
BEGIN:VEVENT
UID:39393365-6165-4531-a237-393666343730
DTSTAMP:20260421T210132Z
DESCRIPTION:17/50 U. Hradiště - Vyškov 0:3 (-15\,-11\,-21)
DTSTART;TZID=Europe/Berlin:20260124T100000
DTEND;TZID=Europe/Berlin:20260124T120000
LOCATION:Městská sportovní hala\, Stonky 860 Uherské Hradiště
SUMMARY:2-U18Z-F: U. Hradiště-Vyškov
END:VEVENT
BEGIN:VEVENT
UID:32396362-3265-4235-b033-323965656537
DTSTAMP:20260421T210132Z
DESCRIPTION:18/53 U. Hradiště - Vyškov 0:3 (-13\,-20\,-22)
DTSTART;TZID=Europe/Berlin:20260124T140000
DTEND;TZID=Europe/Berlin:20260124T160000
LOCATION:Městská sportovní hala\, Stonky 860 Uherské Hradiště
SUMMARY:2-U18Z-F: U. Hradiště-Vyškov
END:VEVENT
BEGIN:VEVENT
UID:65643366-3235-4139-b334-376635316362
DTSTAMP:20260421T210132Z
DESCRIPTION:3/7 Vyškov - VAM Olomouc 2:3 (21\,18\,-22\,-22\,-8)
DTSTART;TZID=Europe/Berlin:20260221T100000
DTEND;TZID=Europe/Berlin:20260221T120000
LOCATION:Tělocvična ZŠ Nádražní\, Nádražní 5 Vyškov - Vyškov-Město
SUMMARY:2-U18Z-III: Vyškov-VAM Olomouc
END:VEVENT
BEGIN:VEVENT
UID:38623230-6634-4961-a631-356562326666
DTSTAMP:20260421T210132Z
DESCRIPTION:4/10 Vyškov - VAM Olomouc 2:3 (20\,-21\,22\,-22\,-18)
DTSTART;TZID=Europe/Berlin:20260221T140000
DTEND;TZID=Europe/Berlin:20260221T160000
LOCATION:Tělocvična ZŠ Nádražní\, Nádražní 5 Vyškov - Vyškov-Město
SUMMARY:2-U18Z-III: Vyškov-VAM Olomouc
END:VEVENT
BEGIN:VEVENT
UID:39656161-3230-4635-b139-333232633839
DTSTAMP:20260421T210132Z
DESCRIPTION:7/21 Vyškov - Raškovice 3:2 (26\,-22\,15\,-18\,7)
DTSTART;TZID=Europe/Berlin:20260314T100000
DTEND;TZID=Europe/Berlin:20260314T120000
LOCATION:Tělocvična ZŠ Nádražní\, Nádražní 5 Vyškov - Vyškov-Město
SUMMARY:2-U18Z-III: Vyškov-Raškovice
END:VEVENT
BEGIN:VEVENT
UID:34356536-3065-4534-b633-636165333561
DTSTAMP:20260421T210132Z
DESCRIPTION:8/24 Vyškov - Raškovice 3:2 (-23\,18\,14\,-14\,12)
DTSTART;TZID=Europe/Berlin:20260314T140000
DTEND;TZID=Europe/Berlin:20260314T160000
LOCATION:Tělocvična ZŠ Nádražní\, Nádražní 5 Vyškov - Vyškov-Město
SUMMARY:2-U18Z-III: Vyškov-Raškovice
END:VEVENT
BEGIN:VEVENT
UID:30336464-3934-4231-b366-343966623630
DTSTAMP:20260421T210132Z
DESCRIPTION:11/31 Vyškov - Přerov 3:1 (20\,18\,-23\,21)
DTSTART;TZID=Europe/Berlin:20260404T100000
DTEND;TZID=Europe/Berlin:20260404T120000
LOCATION:Tělocvična ZŠ Nádražní\, Nádražní 5 Vyškov - Vyškov-Město
SUMMARY:2-U18Z-III: Vyškov-Přerov
END:VEVENT
BEGIN:VEVENT
UID:36306234-3834-4536-b837-613433386132
DTSTAMP:20260421T210132Z
DESCRIPTION:12/34 Vyškov - Přerov 0:3 (-19\,-20\,-12)
DTSTART;TZID=Europe/Berlin:20260404T140000
DTEND;TZID=Europe/Berlin:20260404T160000
LOCATION:Tělocvična ZŠ Nádražní\, Nádražní 5 Vyškov - Vyškov-Město
SUMMARY:2-U18Z-III: Vyškov-Přerov
END:VEVENT
BEGIN:VEVENT
UID:65386466-3537-4366-b863-323664666638
DTSTAMP:20260421T210132Z
DESCRIPTION:1/3 Raškovice - Vyškov 0:3 (-19\,-20\,-23)
DTSTART;TZID=Europe/Berlin:20260214T100000
DTEND;TZID=Europe/Berlin:20260214T120000
LOCATION:tělocvična ZŠ Morávka\,  Morávka178
SUMMARY:2-U18Z-III: Raškovice-Vyškov
END:VEVENT
BEGIN:VEVENT
UID:32393734-3665-4261-a336-626461386366
DTSTAMP:20260421T210132Z
DESCRIPTION:2/6 Raškovice - Vyškov 3:1 (-14\,23\,19\,14)
DTSTART;TZID=Europe/Berlin:20260214T140000
DTEND;TZID=Europe/Berlin:20260214T160000
LOCATION:tělocvična ZŠ Morávka\,  Morávka178
SUMMARY:2-U18Z-III: Raškovice-Vyškov
END:VEVENT
BEGIN:VEVENT
UID:36623432-6631-4133-a562-373465313930
DTSTAMP:20260421T210132Z
DESCRIPTION:5/13 Přerov - Vyškov 3:1 (-19\,21\,26\,19)
DTSTART;TZID=Europe/Berlin:20260307T100000
DTEND;TZID=Europe/Berlin:20260307T120000
LOCATION:Sportovní hala\, Kouřílkova 1028 Přerov - Přerov I-Město
SUMMARY:2-U18Z-III: Přerov-Vyškov
END:VEVENT
BEGIN:VEVENT
UID:35356161-3965-4437-a530-383862653062
DTSTAMP:20260421T210132Z
DESCRIPTION:6/16 Přerov - Vyškov 3:1 (21\,16\,-22\,19)
DTSTART;TZID=Europe/Berlin:20260307T140000
DTEND;TZID=Europe/Berlin:20260307T160000
LOCATION:Sportovní hala\, Kouřílkova 1028 Přerov - Přerov I-Město
SUMMARY:2-U18Z-III: Přerov-Vyškov
END:VEVENT
BEGIN:VEVENT
UID:34633463-6462-4238-b566-636530353865
DTSTAMP:20260421T210132Z
DESCRIPTION:9/25 VAM Olomouc - Vyškov 3:1 (20\,28\,-19\,20)
DTSTART;TZID=Europe/Berlin:20260321T090000
DTEND;TZID=Europe/Berlin:20260321T110000
LOCATION:VOŠ a SPŠE Olomouc\, Božetěchova 755 Olomouc - Hodolany
SUMMARY:2-U18Z-III: VAM Olomouc-Vyškov
END:VEVENT
BEGIN:VEVENT
UID:63323465-3431-4331-b266-383035366466
DTSTAMP:20260421T210132Z
DESCRIPTION:10/28 VAM Olomouc - Vyškov 1:3 (-20\,-11\,18\,-12)
DTSTART;TZID=Europe/Berlin:20260321T130000
DTEND;TZID=Europe/Berlin:20260321T150000
LOCATION:VOŠ a SPŠE Olomouc\, Božetěchova 755 Olomouc - Hodolany
SUMMARY:2-U18Z-III: VAM Olomouc-Vyškov
END:VEVENT
BEGIN:VEVENT
UID:35316338-3731-4536-b238-326533666539
DTSTAMP:20260421T210132Z
DESCRIPTION:1/2 Mělník - Vyškov 3:0 (18\,19\,13)
DTSTART;TZID=Europe/Berlin:20260418T100000
DTEND;TZID=Europe/Berlin:20260418T120000
LOCATION:Hala SPŠS - Koktánek\, Pražská 416 Mělník
SUMMARY:1-U18Z-KI: Mělník-Vyškov
END:VEVENT
BEGIN:VEVENT
UID:63386130-3432-4730-a134-396562313262
DTSTAMP:20260421T210132Z
DESCRIPTION:1/5 Mělník - Vyškov 3:0 (15\,22\,21)
DTSTART;TZID=Europe/Berlin:20260418T140000
DTEND;TZID=Europe/Berlin:20260418T160000
LOCATION:Hala SPŠS - Koktánek\, Pražská 416 Mělník
SUMMARY:1-U18Z-KI: Mělník-Vyškov
END:VEVENT
BEGIN:VEVENT
UID:63326262-6561-4764-a166-393761366333
DTSTAMP:20260421T210132Z
DESCRIPTION:1/6 Vyškov - StřešovicePospíšilová Jana\nNH: SH Tatran
DTSTART;TZID=Europe/Berlin:20260502T120000
DTEND;TZID=Europe/Berlin:20260502T140000
LOCATION:Sportovní hala ZŠ\, náměstí Českého povstání 511 Praha - Ruzyně
SUMMARY:1-U18Z-KII: Vyškov-Střešovice
END:VEVENT
BEGIN:VEVENT
UID:63356432-3734-4531-b762-643832313231
DTSTAMP:20260421T210132Z
DESCRIPTION:1/2 VAM Olomouc - VyškovMajstríková Radka
DTSTART;TZID=Europe/Berlin:20260501T120000
DTEND;TZID=Europe/Berlin:20260501T140000
LOCATION:Sportovní hala ZŠ\, náměstí Českého povstání 511 Praha - Ruzyně
SUMMARY:1-U18Z-KII: VAM Olomouc-Vyškov
END:VEVENT
BEGIN:VEVENT
UID:33323866-3462-4836-a538-613366656561
DTSTAMP:20260421T210132Z
DESCRIPTION:1/4 Mikulova B - VyškovMajstríková Radka
DTSTART;TZID=Europe/Berlin:20260501T170000
DTEND;TZID=Europe/Berlin:20260501T190000
LOCATION:Sportovní hala ZŠ\, náměstí Českého povstání 511 Praha - Ruzyně
SUMMARY:1-U18Z-KII: Mikulova B-Vyškov
END:VEVENT
END:VCALENDAR
