BEGIN:VCALENDAR
VERSION:2.0
PRODID:-//SKVD Ústí nad Labem90077//NONSGML kigkonsult.se iCalcreator 2.41.80//
CALSCALE:GREGORIAN
UID:39363138-3334-4331-b062-663036653234
BEGIN:VEVENT
UID:63326463-3962-4364-a466-353632616162
DTSTAMP:20260422T231853Z
DESCRIPTION:5/15 Ústí n. L. - Chodov 3:2 (-22\,-18\,13\,14\,12)
DTSTART;TZID=Europe/Berlin:20251011T100000
DTEND;TZID=Europe/Berlin:20251011T120000
LOCATION:Střední průmyslová škola strojní a elektro\, Resslova 210 Ústí nad
  Labem - Klíše
SUMMARY:2-U18Z-A: Ústí n. L.-Chodov
END:VEVENT
BEGIN:VEVENT
UID:66643738-6261-4536-b732-363030343661
DTSTAMP:20260422T231853Z
DESCRIPTION:6/18 Ústí n. L. - Chodov 3:1 (-18\,21\,19\,22)
DTSTART;TZID=Europe/Berlin:20251011T140000
DTEND;TZID=Europe/Berlin:20251011T160000
LOCATION:Střední průmyslová škola strojní a elektro\, Resslova 210 Ústí nad
  Labem - Klíše
SUMMARY:2-U18Z-A: Ústí n. L.-Chodov
END:VEVENT
BEGIN:VEVENT
UID:30393338-6633-4965-b863-343731643265
DTSTAMP:20260422T231853Z
DESCRIPTION:9/26 Ústí n. L. - Chomutov 3:1 (22\,-24\,24\,23)
DTSTART;TZID=Europe/Berlin:20251101T100000
DTEND;TZID=Europe/Berlin:20251101T120000
LOCATION:Střední průmyslová škola strojní a elektro\, Resslova 210 Ústí nad
  Labem - Klíše
SUMMARY:2-U18Z-A: Ústí n. L.-Chomutov
END:VEVENT
BEGIN:VEVENT
UID:37353566-3861-4664-b261-333234313035
DTSTAMP:20260422T231853Z
DESCRIPTION:10/29 Ústí n. L. - Chomutov 2:3 (-22\,19\,-23\,23\,-12)
DTSTART;TZID=Europe/Berlin:20251101T140000
DTEND;TZID=Europe/Berlin:20251101T160000
LOCATION:Střední průmyslová škola strojní a elektro\, Resslova 210 Ústí nad
  Labem - Klíše
SUMMARY:2-U18Z-A: Ústí n. L.-Chomutov
END:VEVENT
BEGIN:VEVENT
UID:31633761-3838-4139-b766-393832653637
DTSTAMP:20260422T231853Z
DESCRIPTION:11/33 Ústí n. L. - Sokolov 3:0 (13\,13\,20)
DTSTART;TZID=Europe/Berlin:20251108T100000
DTEND;TZID=Europe/Berlin:20251108T120000
LOCATION:Střední průmyslová škola strojní a elektro\, Resslova 210 Ústí nad
  Labem - Klíše
SUMMARY:2-U18Z-A: Ústí n. L.-Sokolov
END:VEVENT
BEGIN:VEVENT
UID:30363536-3066-4636-a434-653632323461
DTSTAMP:20260422T231853Z
DESCRIPTION:12/36 Ústí n. L. - Sokolov 3:2 (-22\,10\,16\,-21\,8)
DTSTART;TZID=Europe/Berlin:20251108T140000
DTEND;TZID=Europe/Berlin:20251108T160000
LOCATION:Střední průmyslová škola strojní a elektro\, Resslova 210 Ústí nad
  Labem - Klíše
SUMMARY:2-U18Z-A: Ústí n. L.-Sokolov
END:VEVENT
BEGIN:VEVENT
UID:63366238-6363-4230-a335-353363616131
DTSTAMP:20260422T231853Z
DESCRIPTION:13/37 Ústí n. L. - Kladno 0:3 (-18\,-22\,-19)
DTSTART;TZID=Europe/Berlin:20251122T100000
DTEND;TZID=Europe/Berlin:20251122T120000
LOCATION:Střední průmyslová škola strojní a elektro\, Resslova 210 Ústí nad
  Labem - Klíše
SUMMARY:2-U18Z-A: Ústí n. L.-Kladno
END:VEVENT
BEGIN:VEVENT
UID:32323130-6133-4034-b137-356634663136
DTSTAMP:20260422T231853Z
DESCRIPTION:14/40 Ústí n. L. - Kladno 3:1 (24\,23\,-23\,24)
DTSTART;TZID=Europe/Berlin:20251122T140000
DTEND;TZID=Europe/Berlin:20251122T160000
LOCATION:Střední průmyslová škola strojní a elektro\, Resslova 210 Ústí nad
  Labem - Klíše
SUMMARY:2-U18Z-A: Ústí n. L.-Kladno
END:VEVENT
BEGIN:VEVENT
UID:64366365-6166-4733-b237-363639646663
DTSTAMP:20260422T231853Z
DESCRIPTION:17/50 Ústí n. L. - Děčín 3:0 (20\,19\,25)
DTSTART;TZID=Europe/Berlin:20260124T100000
DTEND;TZID=Europe/Berlin:20260124T120000
LOCATION:Střední průmyslová škola strojní a elektro\, Resslova 210 Ústí nad
  Labem - Klíše
SUMMARY:2-U18Z-A: Ústí n. L.-Děčín
END:VEVENT
BEGIN:VEVENT
UID:31653932-6161-4464-b031-313435323137
DTSTAMP:20260422T231853Z
DESCRIPTION:18/53 Ústí n. L. - Děčín 0:3 (-12\,-20\,-22)
DTSTART;TZID=Europe/Berlin:20260124T140000
DTEND;TZID=Europe/Berlin:20260124T160000
LOCATION:Střední průmyslová škola strojní a elektro\, Resslova 210 Ústí nad
  Labem - Klíše
SUMMARY:2-U18Z-A: Ústí n. L.-Děčín
END:VEVENT
BEGIN:VEVENT
UID:38373137-3339-4164-b138-386230333861
DTSTAMP:20260422T231853Z
DESCRIPTION:1/3 Sokolov - Ústí n. L. 2:3 (-19\,-17\,24\,23\,-4)
DTSTART;TZID=Europe/Berlin:20250920T100000
DTEND;TZID=Europe/Berlin:20250920T120000
LOCATION:Jiskra\, Maxima Gorkého 280 Sokolov
SUMMARY:2-U18Z-A: Sokolov-Ústí n. L.
END:VEVENT
BEGIN:VEVENT
UID:31316332-3661-4236-a639-623161303039
DTSTAMP:20260422T231853Z
DESCRIPTION:2/6 Sokolov - Ústí n. L. 0:3 (-20\,-24\,-20)
DTSTART;TZID=Europe/Berlin:20250920T140000
DTEND;TZID=Europe/Berlin:20250920T160000
LOCATION:Jiskra\, Maxima Gorkého 280 Sokolov
SUMMARY:2-U18Z-A: Sokolov-Ústí n. L.
END:VEVENT
BEGIN:VEVENT
UID:63323035-3536-4662-b230-663836636532
DTSTAMP:20260422T231853Z
DESCRIPTION:3/7 Kladno - Ústí n. L. 3:0 (16\,18\,23)
DTSTART;TZID=Europe/Berlin:20251004T100000
DTEND;TZID=Europe/Berlin:20251004T120000
LOCATION:Kladenská sportovní hala\, Sportovců 817 Kladno - Rozdělov
SUMMARY:2-U18Z-A: Kladno-Ústí n. L.
END:VEVENT
BEGIN:VEVENT
UID:34396463-3366-4131-b563-386665343131
DTSTAMP:20260422T231853Z
DESCRIPTION:4/10 Kladno - Ústí n. L. 3:0 (22\,22\,18)
DTSTART;TZID=Europe/Berlin:20251004T140000
DTEND;TZID=Europe/Berlin:20251004T160000
LOCATION:Kladenská sportovní hala\, Sportovců 817 Kladno - Rozdělov
SUMMARY:2-U18Z-A: Kladno-Ústí n. L.
END:VEVENT
BEGIN:VEVENT
UID:62363163-3865-4365-b762-356636393431
DTSTAMP:20260422T231853Z
DESCRIPTION:7/20 Děčín - Ústí n. L. 3:X
DTSTART;TZID=Europe/Berlin:20251025T100000
DTEND;TZID=Europe/Berlin:20251025T120000
LOCATION:SH ZŠ Dr M. Tyrše\, Vrchlického 630 Děčín - Děčín II-Nové Město
SUMMARY:2-U18Z-A: Děčín-Ústí n. L.
END:VEVENT
BEGIN:VEVENT
UID:32393539-3232-4862-b862-623564376563
DTSTAMP:20260422T231853Z
DESCRIPTION:8/23 Děčín - Ústí n. L. 3:X
DTSTART;TZID=Europe/Berlin:20251025T140000
DTEND;TZID=Europe/Berlin:20251025T160000
LOCATION:SH ZŠ Dr M. Tyrše\, Vrchlického 630 Děčín - Děčín II-Nové Město
SUMMARY:2-U18Z-A: Děčín-Ústí n. L.
END:VEVENT
BEGIN:VEVENT
UID:31656139-6234-4566-a532-643663303761
DTSTAMP:20260422T231853Z
DESCRIPTION:15/45 Chodov - Ústí n. L. 3:0 (22\,25\,21)
DTSTART;TZID=Europe/Berlin:20251206T100000
DTEND;TZID=Europe/Berlin:20251206T120000
LOCATION:Městská sportovní hala Chodov\, Tyršova 1201 Chodov
SUMMARY:2-U18Z-A: Chodov-Ústí n. L.
END:VEVENT
BEGIN:VEVENT
UID:31346235-3965-4433-b262-346630353838
DTSTAMP:20260422T231853Z
DESCRIPTION:16/48 Chodov - Ústí n. L. 3:0 (10\,20\,23)
DTSTART;TZID=Europe/Berlin:20251206T140000
DTEND;TZID=Europe/Berlin:20251206T160000
LOCATION:Městská sportovní hala Chodov\, Tyršova 1201 Chodov
SUMMARY:2-U18Z-A: Chodov-Ústí n. L.
END:VEVENT
BEGIN:VEVENT
UID:39636465-3133-4834-b233-636431316139
DTSTAMP:20260422T231853Z
DESCRIPTION:19/56 Chomutov - Ústí n. L. 1:3 (-13\,19\,-24\,-12)
DTSTART;TZID=Europe/Berlin:20260131T100000
DTEND;TZID=Europe/Berlin:20260131T120000
LOCATION:12. ZŠ Chomutov\, akademika Heyrovského 4539 Chomutov
SUMMARY:2-U18Z-A: Chomutov-Ústí n. L.
END:VEVENT
BEGIN:VEVENT
UID:33653462-3030-4037-b038-326136353939
DTSTAMP:20260422T231853Z
DESCRIPTION:20/59 Chomutov - Ústí n. L. 0:3 (-22\,-14\,-21)
DTSTART;TZID=Europe/Berlin:20260131T140000
DTEND;TZID=Europe/Berlin:20260131T160000
LOCATION:12. ZŠ Chomutov\, akademika Heyrovského 4539 Chomutov
SUMMARY:2-U18Z-A: Chomutov-Ústí n. L.
END:VEVENT
BEGIN:VEVENT
UID:32363439-6630-4961-b464-366536326561
DTSTAMP:20260422T231853Z
DESCRIPTION:1/1 Ústí n. L. - Vejprnice 3:0 (7\,17\,7)
DTSTART;TZID=Europe/Berlin:20260214T100000
DTEND;TZID=Europe/Berlin:20260214T120000
LOCATION:Střední průmyslová škola strojní a elektro\, Resslova 210 Ústí nad
  Labem - Klíše
SUMMARY:2-U18Z-N: Ústí n. L.-Vejprnice
END:VEVENT
BEGIN:VEVENT
UID:62383130-6231-4565-b536-633433366162
DTSTAMP:20260422T231853Z
DESCRIPTION:2/4 Ústí n. L. - Vejprnice 3:0 (15\,9\,22)
DTSTART;TZID=Europe/Berlin:20260214T140000
DTEND;TZID=Europe/Berlin:20260214T160000
LOCATION:Střední průmyslová škola strojní a elektro\, Resslova 210 Ústí nad
  Labem - Klíše
SUMMARY:2-U18Z-N: Ústí n. L.-Vejprnice
END:VEVENT
BEGIN:VEVENT
UID:37613134-3138-4438-b031-373536656634
DTSTAMP:20260422T231853Z
DESCRIPTION:9/26 Ústí n. L. - Klatovy 0:3 (-17\,-18\,-20)
DTSTART;TZID=Europe/Berlin:20260321T110000
DTEND;TZID=Europe/Berlin:20260321T130000
LOCATION:Střední průmyslová škola strojní a elektro\, Resslova 210 Ústí nad
  Labem - Klíše
SUMMARY:2-U18Z-N: Ústí n. L.-Klatovy
END:VEVENT
BEGIN:VEVENT
UID:39643064-3235-4232-b539-343333623066
DTSTAMP:20260422T231853Z
DESCRIPTION:10/29 Ústí n. L. - Klatovy 1:3 (-21\,21\,-22\,-24)
DTSTART;TZID=Europe/Berlin:20260321T150000
DTEND;TZID=Europe/Berlin:20260321T170000
LOCATION:Střední průmyslová škola strojní a elektro\, Resslova 210 Ústí nad
  Labem - Klíše
SUMMARY:2-U18Z-N: Ústí n. L.-Klatovy
END:VEVENT
BEGIN:VEVENT
UID:61663134-3134-4864-b162-613366363164
DTSTAMP:20260422T231853Z
DESCRIPTION:11/31 Ústí n. L. - Rudolfov 3:2 (-19\,-18\,12\,26\,3)
DTSTART;TZID=Europe/Berlin:20260328T110000
DTEND;TZID=Europe/Berlin:20260328T130000
LOCATION:Střední průmyslová škola strojní a elektro\, Resslova 210 Ústí nad
  Labem - Klíše
SUMMARY:2-U18Z-N: Ústí n. L.-Rudolfov
END:VEVENT
BEGIN:VEVENT
UID:33653566-3364-4664-b131-343061626339
DTSTAMP:20260422T231854Z
DESCRIPTION:12/34 Ústí n. L. - Rudolfov 3:0 (14\,16\,13)
DTSTART;TZID=Europe/Berlin:20260328T150000
DTEND;TZID=Europe/Berlin:20260328T170000
LOCATION:Střední průmyslová škola strojní a elektro\, Resslova 210 Ústí nad
  Labem - Klíše
SUMMARY:2-U18Z-N: Ústí n. L.-Rudolfov
END:VEVENT
BEGIN:VEVENT
UID:63626130-6238-4130-a431-613964303133
DTSTAMP:20260422T231854Z
DESCRIPTION:3/8 Klatovy - Ústí n. L. 3:0 (9\,18\,12)
DTSTART;TZID=Europe/Berlin:20260221T110000
DTEND;TZID=Europe/Berlin:20260221T130000
LOCATION:Sportovní hala ZŠ Čapkova\, Čapkova 136 Klatovy - Klatovy V
SUMMARY:2-U18Z-N: Klatovy-Ústí n. L.
END:VEVENT
BEGIN:VEVENT
UID:62346662-6366-4635-b137-363836303064
DTSTAMP:20260422T231854Z
DESCRIPTION:4/11 Klatovy - Ústí n. L. 3:1 (27\,16\,-16\,16)
DTSTART;TZID=Europe/Berlin:20260221T150000
DTEND;TZID=Europe/Berlin:20260221T170000
LOCATION:Sportovní hala ZŠ Čapkova\, Čapkova 136 Klatovy - Klatovy V
SUMMARY:2-U18Z-N: Klatovy-Ústí n. L.
END:VEVENT
BEGIN:VEVENT
UID:35653962-3264-4637-b864-323466623462
DTSTAMP:20260422T231854Z
DESCRIPTION:5/13 Rudolfov - Ústí n. L. 3:1 (18\,-24\,21\,17)
DTSTART;TZID=Europe/Berlin:20260307T100000
DTEND;TZID=Europe/Berlin:20260307T120000
LOCATION:Sportovní hala Rudolfov\, Adamovská 511 Rudolfov
SUMMARY:2-U18Z-N: Rudolfov-Ústí n. L.
END:VEVENT
BEGIN:VEVENT
UID:37363133-6530-4634-b263-633635333463
DTSTAMP:20260422T231854Z
DESCRIPTION:6/16 Rudolfov - Ústí n. L. 3:0 (24\,20\,21)
DTSTART;TZID=Europe/Berlin:20260307T140000
DTEND;TZID=Europe/Berlin:20260307T160000
LOCATION:Sportovní hala Rudolfov\, Adamovská 511 Rudolfov
SUMMARY:2-U18Z-N: Rudolfov-Ústí n. L.
END:VEVENT
BEGIN:VEVENT
UID:63383564-6138-4563-b864-313338353432
DTSTAMP:20260422T231854Z
DESCRIPTION:7/19 Vejprnice - Ústí n. L. 0:3 (-21\,-10\,-22)
DTSTART;TZID=Europe/Berlin:20260314T110000
DTEND;TZID=Europe/Berlin:20260314T130000
LOCATION:Tělocvična ZŠ Vejprnice\, Jakuba Husníka 527 Vejprnice
SUMMARY:2-U18Z-N: Vejprnice-Ústí n. L.
END:VEVENT
BEGIN:VEVENT
UID:31376465-6538-4566-b935-313032303036
DTSTAMP:20260422T231854Z
DESCRIPTION:8/22 Vejprnice - Ústí n. L. 0:3 (-18\,-13\,-19)
DTSTART;TZID=Europe/Berlin:20260314T150000
DTEND;TZID=Europe/Berlin:20260314T170000
LOCATION:Tělocvična ZŠ Vejprnice\, Jakuba Husníka 527 Vejprnice
SUMMARY:2-U18Z-N: Vejprnice-Ústí n. L.
END:VEVENT
END:VCALENDAR
