BEGIN:VCALENDAR
VERSION:2.0
PRODID:-//Tělocvičná jednota Sokol Šternberk B90083//NONSGML kigkonsult.se iCalcreator 2.41.80//
CALSCALE:GREGORIAN
UID:39306262-3162-4438-b837-313933306337
BEGIN:VEVENT
UID:63663938-6537-4962-a561-633037323164
DTSTAMP:20260422T182928Z
DESCRIPTION:4/7 Šternberk B - TJ Mohelnice 2:0 (22\,19)
DTSTART;TZID=Europe/Berlin:20250921T120000
DTEND;TZID=Europe/Berlin:20250921T140000
LOCATION:Městská sportovní hala\, Hanusíkova 1476 Kojetín - Kojetín I-Město
SUMMARY:OLK-U16Z-KA: Šternberk B-TJ Mohelnice
END:VEVENT
BEGIN:VEVENT
UID:63313334-3663-4466-a536-663233356536
DTSTAMP:20260422T182928Z
DESCRIPTION:5/9 Šternberk B - SK Kojetín 0:2 (-8\,-11)
DTSTART;TZID=Europe/Berlin:20250921T130000
DTEND;TZID=Europe/Berlin:20250921T150000
LOCATION:Městská sportovní hala\, Hanusíkova 1476 Kojetín - Kojetín I-Město
SUMMARY:OLK-U16Z-KA: Šternberk B-SK Kojetín
END:VEVENT
BEGIN:VEVENT
UID:61356638-6634-4862-a639-653533356465
DTSTAMP:20260422T182928Z
DESCRIPTION:1/2 Prostějov B - Šternberk B 2:0 (7\,9)
DTSTART;TZID=Europe/Berlin:20250921T090000
DTEND;TZID=Europe/Berlin:20250921T110000
LOCATION:Městská sportovní hala\, Hanusíkova 1476 Kojetín - Kojetín I-Město
SUMMARY:OLK-U16Z-KA: Prostějov B-Šternberk B
END:VEVENT
BEGIN:VEVENT
UID:32626237-3862-4336-b030-376664313866
DTSTAMP:20260422T182928Z
DESCRIPTION:3/6 Olomouc - Šternberk B 2:0 (4\,5)
DTSTART;TZID=Europe/Berlin:20250921T110000
DTEND;TZID=Europe/Berlin:20250921T130000
LOCATION:Městská sportovní hala\, Hanusíkova 1476 Kojetín - Kojetín I-Město
SUMMARY:OLK-U16Z-KA: Olomouc-Šternberk B
END:VEVENT
BEGIN:VEVENT
UID:32653231-6333-4062-a166-343834656231
DTSTAMP:20260422T182928Z
DESCRIPTION:1/1 Šternberk B - KRS Uničov 0:2 (-13\,-12)
DTSTART;TZID=Europe/Berlin:20251012T090000
DTEND;TZID=Europe/Berlin:20251012T110000
LOCATION:tělocvična\, U Stadionu 849 Uničov
SUMMARY:OLK-U16Z-1D: Šternberk B-KRS Uničov
END:VEVENT
BEGIN:VEVENT
UID:62306336-3366-4232-b836-643766313638
DTSTAMP:20260422T182928Z
DESCRIPTION:3/3 Šternberk B - VSK Zábřeh 0:2 (-21\,-14)
DTSTART;TZID=Europe/Berlin:20251012T110000
DTEND;TZID=Europe/Berlin:20251012T130000
LOCATION:tělocvična\, U Stadionu 849 Uničov
SUMMARY:OLK-U16Z-1D: Šternberk B-VSK Zábřeh
END:VEVENT
BEGIN:VEVENT
UID:34313666-3531-4831-a562-396632393933
DTSTAMP:20260422T182928Z
DESCRIPTION:5/5 Přerov B - Šternberk B 2:0 (13\,16)
DTSTART;TZID=Europe/Berlin:20251012T130000
DTEND;TZID=Europe/Berlin:20251012T150000
LOCATION:tělocvična\, U Stadionu 849 Uničov
SUMMARY:OLK-U16Z-1D: Přerov B-Šternberk B
END:VEVENT
BEGIN:VEVENT
UID:62653861-6233-4738-a339-626632646364
DTSTAMP:20260422T182928Z
DESCRIPTION:3/3 Šternberk B - TJ Bohuňovice 2:1 (13\,-20\,7)
DTSTART;TZID=Europe/Berlin:20251109T110000
DTEND;TZID=Europe/Berlin:20251109T130000
LOCATION:Farmak\, U Hradiska 157 Olomouc - Klášterní Hradisko
SUMMARY:OLK-U16Z-2E: Šternberk B-TJ Bohuňovice
END:VEVENT
BEGIN:VEVENT
UID:31343163-3036-4263-b434-656466353236
DTSTAMP:20260422T182928Z
DESCRIPTION:6/6 Šternberk B - VK Olomouc C 0:2 (-23\,-22)
DTSTART;TZID=Europe/Berlin:20251109T140000
DTEND;TZID=Europe/Berlin:20251109T160000
LOCATION:Farmak\, U Hradiska 157 Olomouc - Klášterní Hradisko
SUMMARY:OLK-U16Z-2E: Šternberk B-VK Olomouc C
END:VEVENT
BEGIN:VEVENT
UID:36393533-3134-4335-b835-333139336337
DTSTAMP:20260422T182928Z
DESCRIPTION:2/2 TJ Mohelnice - Šternberk B 0:2 (-17\,-14)
DTSTART;TZID=Europe/Berlin:20251109T100000
DTEND;TZID=Europe/Berlin:20251109T120000
LOCATION:Farmak\, U Hradiska 157 Olomouc - Klášterní Hradisko
SUMMARY:OLK-U16Z-2E: TJ Mohelnice-Šternberk B
END:VEVENT
BEGIN:VEVENT
UID:64653230-6537-4566-a435-316337646231
DTSTAMP:20260422T182928Z
DESCRIPTION:2/2 Šternberk B - TJ Bohuňovice 2:0 (14\,14)
DTSTART;TZID=Europe/Berlin:20251123T100000
DTEND;TZID=Europe/Berlin:20251123T120000
LOCATION:Tělocvična při SŠ\, ZŠ\, MŠ a DD Zábřeh\, Sušilova 1912 Zábřeh
SUMMARY:OLK-U16Z-3E: Šternberk B-TJ Bohuňovice
END:VEVENT
BEGIN:VEVENT
UID:66376531-6363-4561-a661-383365306664
DTSTAMP:20260422T182928Z
DESCRIPTION:3/3 Šternberk B - TJ Mohelnice 0:2 (-13\,-20)
DTSTART;TZID=Europe/Berlin:20251123T110000
DTEND;TZID=Europe/Berlin:20251123T130000
LOCATION:Tělocvična při SŠ\, ZŠ\, MŠ a DD Zábřeh\, Sušilova 1912 Zábřeh
SUMMARY:OLK-U16Z-3E: Šternberk B-TJ Mohelnice
END:VEVENT
BEGIN:VEVENT
UID:32376433-3662-4632-a330-616330663334
DTSTAMP:20260422T182928Z
DESCRIPTION:6/6 VSK Zábřeh - Šternberk B 2:0 (14\,14)
DTSTART;TZID=Europe/Berlin:20251123T140000
DTEND;TZID=Europe/Berlin:20251123T160000
LOCATION:Tělocvična při SŠ\, ZŠ\, MŠ a DD Zábřeh\, Sušilova 1912 Zábřeh
SUMMARY:OLK-U16Z-3E: VSK Zábřeh-Šternberk B
END:VEVENT
BEGIN:VEVENT
UID:39313362-3934-4631-b966-353534626465
DTSTAMP:20260422T182928Z
DESCRIPTION:5/5 Šternberk B - VK Olomouc C 0:2 (-18\,-18)
DTSTART;TZID=Europe/Berlin:20251214T130000
DTEND;TZID=Europe/Berlin:20251214T150000
LOCATION:Hala ISŠT\, Olomoucká 765 Mohelnice
SUMMARY:OLK-U16Z-4E: Šternberk B-VK Olomouc C
END:VEVENT
BEGIN:VEVENT
UID:31646235-3264-4333-a566-623537653466
DTSTAMP:20260422T182928Z
DESCRIPTION:1/1 TJ Mohelnice - Šternberk B 2:0 (13\,16)
DTSTART;TZID=Europe/Berlin:20251214T090000
DTEND;TZID=Europe/Berlin:20251214T110000
LOCATION:Hala ISŠT\, Olomoucká 765 Mohelnice
SUMMARY:OLK-U16Z-4E: TJ Mohelnice-Šternberk B
END:VEVENT
BEGIN:VEVENT
UID:64353161-3463-4066-a537-393563636434
DTSTAMP:20260422T182928Z
DESCRIPTION:3/3 TJ Bohuňovice - Šternberk B 2:1 (-16\,19\,13)
DTSTART;TZID=Europe/Berlin:20251214T110000
DTEND;TZID=Europe/Berlin:20251214T130000
LOCATION:Hala ISŠT\, Olomoucká 765 Mohelnice
SUMMARY:OLK-U16Z-4E: TJ Bohuňovice-Šternberk B
END:VEVENT
BEGIN:VEVENT
UID:30393438-3736-4534-a166-653634306432
DTSTAMP:20260422T182928Z
DESCRIPTION:2/2 Šternberk B - TJ Bohuňovice 2:1 (-22\,16\,0)
DTSTART;TZID=Europe/Berlin:20260111T100000
DTEND;TZID=Europe/Berlin:20260111T120000
LOCATION:Tělocvična při SŠ\, ZŠ\, MŠ a DD Zábřeh\, Sušilova 1912 Zábřeh
SUMMARY:OLK-U16Z-5E: Šternberk B-TJ Bohuňovice
END:VEVENT
BEGIN:VEVENT
UID:32663462-6464-4331-b934-623835396333
DTSTAMP:20260422T182928Z
DESCRIPTION:3/3 TJ Mohelnice - Šternberk B 2:0 (22\,17)
DTSTART;TZID=Europe/Berlin:20260111T110000
DTEND;TZID=Europe/Berlin:20260111T130000
LOCATION:Tělocvična při SŠ\, ZŠ\, MŠ a DD Zábřeh\, Sušilova 1912 Zábřeh
SUMMARY:OLK-U16Z-5E: TJ Mohelnice-Šternberk B
END:VEVENT
BEGIN:VEVENT
UID:62373361-6331-4130-a435-376239373130
DTSTAMP:20260422T182928Z
DESCRIPTION:6/6 VSK Zábřeh - Šternberk B 2:0 (12\,20)
DTSTART;TZID=Europe/Berlin:20260111T140000
DTEND;TZID=Europe/Berlin:20260111T160000
LOCATION:Tělocvična při SŠ\, ZŠ\, MŠ a DD Zábřeh\, Sušilova 1912 Zábřeh
SUMMARY:OLK-U16Z-5E: VSK Zábřeh-Šternberk B
END:VEVENT
BEGIN:VEVENT
UID:39643834-6462-4532-b862-366136353931
DTSTAMP:20260422T182928Z
DESCRIPTION:3/6 Šternberk B - Přerov B 0:2 (-11\,-24)\nKurt B
DTSTART;TZID=Europe/Berlin:20260125T113000
DTEND;TZID=Europe/Berlin:20260125T133000
LOCATION:Hala ISŠT\, Olomoucká 765 Mohelnice
SUMMARY:OLK-U16Z-6E: Šternberk B-Přerov B
END:VEVENT
BEGIN:VEVENT
UID:63326639-3764-4535-b831-616162646464
DTSTAMP:20260422T182928Z
DESCRIPTION:1/2 TJ Mohelnice - Šternberk B 1:2 (22\,-12\,-2)\nKurt A
DTSTART;TZID=Europe/Berlin:20260125T090000
DTEND;TZID=Europe/Berlin:20260125T110000
LOCATION:Hala ISŠT\, Olomoucká 765 Mohelnice
SUMMARY:OLK-U16Z-6E: TJ Mohelnice-Šternberk B
END:VEVENT
BEGIN:VEVENT
UID:35643735-3838-4664-a163-633634653737
DTSTAMP:20260422T182928Z
DESCRIPTION:2/3 TJ Bohuňovice - Šternberk B 0:2 (-23\,-15)\nKurt B
DTSTART;TZID=Europe/Berlin:20260125T101500
DTEND;TZID=Europe/Berlin:20260125T121500
LOCATION:Hala ISŠT\, Olomoucká 765 Mohelnice
SUMMARY:OLK-U16Z-6E: TJ Bohuňovice-Šternberk B
END:VEVENT
BEGIN:VEVENT
UID:62336132-3530-4762-b837-323265623330
DTSTAMP:20260422T182928Z
DESCRIPTION:6/6 Šternberk B - VSK Zábřeh 1:2 (-23\,15\,-13)
DTSTART;TZID=Europe/Berlin:20260315T140000
DTEND;TZID=Europe/Berlin:20260315T160000
LOCATION:Tělocvična při SŠ\, ZŠ\, MŠ a DD Zábřeh\, Sušilova 1912 Zábřeh
SUMMARY:OLK-U16Z-7E: Šternberk B-VSK Zábřeh
END:VEVENT
BEGIN:VEVENT
UID:37653932-3435-4864-a564-306462356635
DTSTAMP:20260422T182928Z
DESCRIPTION:2/2 TJ Bohuňovice - Šternberk B 0:2 (-18\,-19)
DTSTART;TZID=Europe/Berlin:20260315T100000
DTEND;TZID=Europe/Berlin:20260315T120000
LOCATION:Tělocvična při SŠ\, ZŠ\, MŠ a DD Zábřeh\, Sušilova 1912 Zábřeh
SUMMARY:OLK-U16Z-7E: TJ Bohuňovice-Šternberk B
END:VEVENT
BEGIN:VEVENT
UID:63343032-6138-4033-a538-353832363436
DTSTAMP:20260422T182928Z
DESCRIPTION:3/3 TJ Mohelnice - Šternberk B 2:0 (9\,19)
DTSTART;TZID=Europe/Berlin:20260315T110000
DTEND;TZID=Europe/Berlin:20260315T130000
LOCATION:Tělocvična při SŠ\, ZŠ\, MŠ a DD Zábřeh\, Sušilova 1912 Zábřeh
SUMMARY:OLK-U16Z-7E: TJ Mohelnice-Šternberk B
END:VEVENT
BEGIN:VEVENT
UID:66333533-6463-4061-a362-323139666363
DTSTAMP:20260422T182928Z
DESCRIPTION:2/2 Šternberk B - VK Olomouc D 0:2 (-19\,-17)
DTSTART;TZID=Europe/Berlin:20260412T100000
DTEND;TZID=Europe/Berlin:20260412T120000
LOCATION:Tělocvična při SŠ\, ZŠ\, MŠ a DD Zábřeh\, Sušilova 1912 Zábřeh
SUMMARY:OLK-U16Z-8E: Šternberk B-VK Olomouc D
END:VEVENT
BEGIN:VEVENT
UID:62396462-3535-4537-b434-343265643663
DTSTAMP:20260422T182928Z
DESCRIPTION:4/4 VSK Zábřeh - Šternberk B 1:2 (-18\,24\,-12)
DTSTART;TZID=Europe/Berlin:20260412T120000
DTEND;TZID=Europe/Berlin:20260412T140000
LOCATION:Tělocvična při SŠ\, ZŠ\, MŠ a DD Zábřeh\, Sušilova 1912 Zábřeh
SUMMARY:OLK-U16Z-8E: VSK Zábřeh-Šternberk B
END:VEVENT
BEGIN:VEVENT
UID:37663939-6437-4036-b233-346531303839
DTSTAMP:20260422T182928Z
DESCRIPTION:5/5 TJ Bohuňovice - Šternberk B 1:2 (22\,-7\,-7)
DTSTART;TZID=Europe/Berlin:20260412T130000
DTEND;TZID=Europe/Berlin:20260412T150000
LOCATION:Tělocvična při SŠ\, ZŠ\, MŠ a DD Zábřeh\, Sušilova 1912 Zábřeh
SUMMARY:OLK-U16Z-8E: TJ Bohuňovice-Šternberk B
END:VEVENT
END:VCALENDAR
