BEGIN:VCALENDAR
VERSION:2.0
PRODID:-//TJ Žďár nad Sázavou z.s.90106//NONSGML kigkonsult.se iCalcreator 2.41.80//
CALSCALE:GREGORIAN
UID:31343263-3366-4736-a336-306130386330
BEGIN:VEVENT
UID:30303234-6234-4434-a334-323631306639
DTSTAMP:20260423T005417Z
DESCRIPTION:5/15 TJ Žďár nad Sázavou - TJ Spartak Velká Bíteš\, z.s. 3:2 (2
 3\,24\,-24\,-23\,4)
DTSTART;TZID=Europe/Berlin:20251012T100000
DTEND;TZID=Europe/Berlin:20251012T120000
LOCATION:Sportovní hala na Bouchalkách\, Jungmannova 1495 Žďár nad Sázavou 
 - Žďár nad Sázavou 1
SUMMARY:VY-U20Z: TJ Žďár nad Sázavou-TJ Spartak Velká Bíteš\, z.s.
END:VEVENT
BEGIN:VEVENT
UID:35353364-3265-4739-b464-663836626338
DTSTAMP:20260423T005417Z
DESCRIPTION:6/18 TJ Žďár nad Sázavou - TJ Spartak Velká Bíteš\, z.s. 3:0 (2
 0\,25\,24)
DTSTART;TZID=Europe/Berlin:20251012T130000
DTEND;TZID=Europe/Berlin:20251012T150000
LOCATION:Sportovní hala na Bouchalkách\, Jungmannova 1495 Žďár nad Sázavou 
 - Žďár nad Sázavou 1
SUMMARY:VY-U20Z: TJ Žďár nad Sázavou-TJ Spartak Velká Bíteš\, z.s.
END:VEVENT
BEGIN:VEVENT
UID:36656636-3139-4261-b665-633939376461
DTSTAMP:20260423T005417Z
DESCRIPTION:9/26 TJ Žďár nad Sázavou - Humpolec 0:3 (-7\,-11\,-18)
DTSTART;TZID=Europe/Berlin:20251102T100000
DTEND;TZID=Europe/Berlin:20251102T120000
LOCATION:Sportovní hala na Bouchalkách\, Jungmannova 1495 Žďár nad Sázavou 
 - Žďár nad Sázavou 1
SUMMARY:VY-U20Z: TJ Žďár nad Sázavou-Humpolec
END:VEVENT
BEGIN:VEVENT
UID:65343638-3436-4333-a535-373665663834
DTSTAMP:20260423T005417Z
DESCRIPTION:10/29 TJ Žďár nad Sázavou - Humpolec 0:3 (-9\,-13\,-19)
DTSTART;TZID=Europe/Berlin:20251102T130000
DTEND;TZID=Europe/Berlin:20251102T150000
LOCATION:Sportovní hala na Bouchalkách\, Jungmannova 1495 Žďár nad Sázavou 
 - Žďár nad Sázavou 1
SUMMARY:VY-U20Z: TJ Žďár nad Sázavou-Humpolec
END:VEVENT
BEGIN:VEVENT
UID:35613131-3933-4138-b666-343161336564
DTSTAMP:20260423T005417Z
DESCRIPTION:11/33 TJ Žďár nad Sázavou - SLAVOJ POLNÁ z.s. 3:1 (-19\,13\,20\
 ,22)
DTSTART;TZID=Europe/Berlin:20251109T100000
DTEND;TZID=Europe/Berlin:20251109T120000
LOCATION:Sportovní hala na Bouchalkách\, Jungmannova 1495 Žďár nad Sázavou 
 - Žďár nad Sázavou 1
SUMMARY:VY-U20Z: TJ Žďár nad Sázavou-SLAVOJ POLNÁ z.s.
END:VEVENT
BEGIN:VEVENT
UID:33376364-6164-4632-a530-643935376663
DTSTAMP:20260423T005417Z
DESCRIPTION:12/36 TJ Žďár nad Sázavou - SLAVOJ POLNÁ z.s. 3:2 (-21\,22\,15\
 ,-22\,5)
DTSTART;TZID=Europe/Berlin:20251109T130000
DTEND;TZID=Europe/Berlin:20251109T150000
LOCATION:Sportovní hala na Bouchalkách\, Jungmannova 1495 Žďár nad Sázavou 
 - Žďár nad Sázavou 1
SUMMARY:VY-U20Z: TJ Žďár nad Sázavou-SLAVOJ POLNÁ z.s.
END:VEVENT
BEGIN:VEVENT
UID:35663363-3561-4134-b362-363534366363
DTSTAMP:20260423T005417Z
DESCRIPTION:17/50 TJ Žďár nad Sázavou - SK Telč\, z.s. 1:3 (-20\,22\,-19\,-
 21)
DTSTART;TZID=Europe/Berlin:20251207T100000
DTEND;TZID=Europe/Berlin:20251207T120000
LOCATION:Sportovní hala na Bouchalkách\, Jungmannova 1495 Žďár nad Sázavou 
 - Žďár nad Sázavou 1
SUMMARY:VY-U20Z: TJ Žďár nad Sázavou-SK Telč\, z.s.
END:VEVENT
BEGIN:VEVENT
UID:38616361-3532-4337-a230-313637356232
DTSTAMP:20260423T005417Z
DESCRIPTION:18/53 TJ Žďár nad Sázavou - SK Telč\, z.s. 1:3 (23\,-22\,-17\,-
 15)
DTSTART;TZID=Europe/Berlin:20251207T130000
DTEND;TZID=Europe/Berlin:20251207T150000
LOCATION:Sportovní hala na Bouchalkách\, Jungmannova 1495 Žďár nad Sázavou 
 - Žďár nad Sázavou 1
SUMMARY:VY-U20Z: TJ Žďár nad Sázavou-SK Telč\, z.s.
END:VEVENT
BEGIN:VEVENT
UID:61383531-3863-4238-b839-326463633466
DTSTAMP:20260423T005417Z
DESCRIPTION:25/75 TJ Žďár nad Sázavou - TJ Spartak Velká Bíteš\, z.s. 1:3 (
 -15\,-20\,18\,-12)
DTSTART;TZID=Europe/Berlin:20260222T110000
DTEND;TZID=Europe/Berlin:20260222T130000
LOCATION:Sportovní hala na Bouchalkách\, Jungmannova 1495 Žďár nad Sázavou 
 - Žďár nad Sázavou 1
SUMMARY:VY-U20Z: TJ Žďár nad Sázavou-TJ Spartak Velká Bíteš\, z.s.
END:VEVENT
BEGIN:VEVENT
UID:36383866-3936-4635-b761-346432343065
DTSTAMP:20260423T005417Z
DESCRIPTION:26/78 TJ Žďár nad Sázavou - TJ Spartak Velká Bíteš\, z.s. 3:1 (
 23\,-22\,22\,18)
DTSTART;TZID=Europe/Berlin:20260222T140000
DTEND;TZID=Europe/Berlin:20260222T160000
LOCATION:Sportovní hala na Bouchalkách\, Jungmannova 1495 Žďár nad Sázavou 
 - Žďár nad Sázavou 1
SUMMARY:VY-U20Z: TJ Žďár nad Sázavou-TJ Spartak Velká Bíteš\, z.s.
END:VEVENT
BEGIN:VEVENT
UID:61323835-6363-4536-b030-353737356337
DTSTAMP:20260423T005417Z
DESCRIPTION:29/86 TJ Žďár nad Sázavou - Humpolec 0:3 (-11\,-21\,-10)
DTSTART;TZID=Europe/Berlin:20260322T100000
DTEND;TZID=Europe/Berlin:20260322T120000
LOCATION:Sportovní hala na Bouchalkách\, Jungmannova 1495 Žďár nad Sázavou 
 - Žďár nad Sázavou 1
SUMMARY:VY-U20Z: TJ Žďár nad Sázavou-Humpolec
END:VEVENT
BEGIN:VEVENT
UID:66366362-3939-4362-b638-643663356665
DTSTAMP:20260423T005417Z
DESCRIPTION:30/89 TJ Žďár nad Sázavou - Humpolec 0:3 (-18\,-8\,-14)
DTSTART;TZID=Europe/Berlin:20260322T130000
DTEND;TZID=Europe/Berlin:20260322T150000
LOCATION:Sportovní hala na Bouchalkách\, Jungmannova 1495 Žďár nad Sázavou 
 - Žďár nad Sázavou 1
SUMMARY:VY-U20Z: TJ Žďár nad Sázavou-Humpolec
END:VEVENT
BEGIN:VEVENT
UID:66613462-3239-4831-b663-313861623130
DTSTAMP:20260423T005417Z
DESCRIPTION:1/3 SLAVOJ POLNÁ z.s. - TJ Žďár nad Sázavou 1:3 (-16\,22\,-14\,
 -20)
DTSTART;TZID=Europe/Berlin:20250921T100000
DTEND;TZID=Europe/Berlin:20250921T120000
LOCATION:Školní tělocvična\, Poděbradova 76 Polná
SUMMARY:VY-U20Z: SLAVOJ POLNÁ z.s.-TJ Žďár nad Sázavou
END:VEVENT
BEGIN:VEVENT
UID:64346536-6532-4834-b466-613766653166
DTSTAMP:20260423T005417Z
DESCRIPTION:2/6 SLAVOJ POLNÁ z.s. - TJ Žďár nad Sázavou 0:3 (-16\,-21\,-20)
DTSTART;TZID=Europe/Berlin:20250921T130000
DTEND;TZID=Europe/Berlin:20250921T150000
LOCATION:Školní tělocvična\, Poděbradova 76 Polná
SUMMARY:VY-U20Z: SLAVOJ POLNÁ z.s.-TJ Žďár nad Sázavou
END:VEVENT
BEGIN:VEVENT
UID:31383861-3434-4364-b433-663332653961
DTSTAMP:20260423T005417Z
DESCRIPTION:7/20 SK Telč\, z.s. - TJ Žďár nad Sázavou 3:1 (14\,-22\,22\,20)
DTSTART;TZID=Europe/Berlin:20251019T100000
DTEND;TZID=Europe/Berlin:20251019T120000
LOCATION:Sokol Telč\, Masarykova 222 Telč - Telč-Podolí
SUMMARY:VY-U20Z: SK Telč\, z.s.-TJ Žďár nad Sázavou
END:VEVENT
BEGIN:VEVENT
UID:37346634-6563-4631-b134-613539383665
DTSTAMP:20260423T005417Z
DESCRIPTION:8/23 SK Telč\, z.s. - TJ Žďár nad Sázavou 3:1 (20\,-16\,21\,20)
DTSTART;TZID=Europe/Berlin:20251019T130000
DTEND;TZID=Europe/Berlin:20251019T150000
LOCATION:Sokol Telč\, Masarykova 222 Telč - Telč-Podolí
SUMMARY:VY-U20Z: SK Telč\, z.s.-TJ Žďár nad Sázavou
END:VEVENT
BEGIN:VEVENT
UID:39653163-3438-4063-b763-653161613431
DTSTAMP:20260423T005417Z
DESCRIPTION:15/45 TJ Spartak Velká Bíteš\, z.s. - TJ Žďár nad Sázavou 3:2 (
 -19\,29\,-26\,24\,10)
DTSTART;TZID=Europe/Berlin:20251130T100000
DTEND;TZID=Europe/Berlin:20251130T120000
LOCATION:Víceúčelová sportovní hala\, Tyršova 195 Velká Bíteš
SUMMARY:VY-U20Z: TJ Spartak Velká Bíteš\, z.s.-TJ Žďár nad Sázavou
END:VEVENT
BEGIN:VEVENT
UID:63623630-6263-4563-b634-653533393132
DTSTAMP:20260423T005417Z
DESCRIPTION:16/48 TJ Spartak Velká Bíteš\, z.s. - TJ Žďár nad Sázavou 2:3 (
 19\,18\,-17\,-16\,-15)
DTSTART;TZID=Europe/Berlin:20251130T130000
DTEND;TZID=Europe/Berlin:20251130T150000
LOCATION:Víceúčelová sportovní hala\, Tyršova 195 Velká Bíteš
SUMMARY:VY-U20Z: TJ Spartak Velká Bíteš\, z.s.-TJ Žďár nad Sázavou
END:VEVENT
BEGIN:VEVENT
UID:32653033-3364-4631-a332-346334313065
DTSTAMP:20260423T005417Z
DESCRIPTION:19/56 Humpolec - TJ Žďár nad Sázavou 3:0 (12\,11\,14)
DTSTART;TZID=Europe/Berlin:20260208T090000
DTEND;TZID=Europe/Berlin:20260208T110000
LOCATION:Tělocvična Gymnázia Dr. Aleše Hrdličky\, Komenského 147 Humpolec
SUMMARY:VY-U20Z: Humpolec-TJ Žďár nad Sázavou
END:VEVENT
BEGIN:VEVENT
UID:63323966-6165-4830-b637-633661363039
DTSTAMP:20260423T005417Z
DESCRIPTION:20/59 Humpolec - TJ Žďár nad Sázavou 3:0 (23\,18\,22)
DTSTART;TZID=Europe/Berlin:20260208T120000
DTEND;TZID=Europe/Berlin:20260208T140000
LOCATION:Tělocvična Gymnázia Dr. Aleše Hrdličky\, Komenského 147 Humpolec
SUMMARY:VY-U20Z: Humpolec-TJ Žďár nad Sázavou
END:VEVENT
BEGIN:VEVENT
UID:65313261-6364-4366-a239-343962333863
DTSTAMP:20260423T005417Z
DESCRIPTION:21/63 SLAVOJ POLNÁ z.s. - TJ Žďár nad Sázavou 3:0 (18\,20\,23)
DTSTART;TZID=Europe/Berlin:20260125T100000
DTEND;TZID=Europe/Berlin:20260125T120000
LOCATION:Školní tělocvična\, Poděbradova 76 Polná
SUMMARY:VY-U20Z: SLAVOJ POLNÁ z.s.-TJ Žďár nad Sázavou
END:VEVENT
BEGIN:VEVENT
UID:64663736-6136-4562-b738-646536373961
DTSTAMP:20260423T005417Z
DESCRIPTION:22/66 SLAVOJ POLNÁ z.s. - TJ Žďár nad Sázavou 0:3 (-19\,-22\,-2
 1)
DTSTART;TZID=Europe/Berlin:20260125T130000
DTEND;TZID=Europe/Berlin:20260125T150000
LOCATION:Školní tělocvična\, Poděbradova 76 Polná
SUMMARY:VY-U20Z: SLAVOJ POLNÁ z.s.-TJ Žďár nad Sázavou
END:VEVENT
BEGIN:VEVENT
UID:32393165-3063-4233-a333-623338343166
DTSTAMP:20260423T005417Z
DESCRIPTION:27/80 SK Telč\, z.s. - TJ Žďár nad Sázavou 3:0 (21\,23\,22)
DTSTART;TZID=Europe/Berlin:20260301T100000
DTEND;TZID=Europe/Berlin:20260301T120000
LOCATION:Sokol Telč\, Masarykova 222 Telč - Telč-Podolí
SUMMARY:VY-U20Z: SK Telč\, z.s.-TJ Žďár nad Sázavou
END:VEVENT
BEGIN:VEVENT
UID:35316332-3361-4565-a538-323864356532
DTSTAMP:20260423T005417Z
DESCRIPTION:28/83 SK Telč\, z.s. - TJ Žďár nad Sázavou 3:1 (16\,18\,-23\,10
 )
DTSTART;TZID=Europe/Berlin:20260301T130000
DTEND;TZID=Europe/Berlin:20260301T150000
LOCATION:Sokol Telč\, Masarykova 222 Telč - Telč-Podolí
SUMMARY:VY-U20Z: SK Telč\, z.s.-TJ Žďár nad Sázavou
END:VEVENT
END:VCALENDAR
