BEGIN:VCALENDAR
VERSION:2.0
PRODID:-//TJ Jiskra Humpolec, z.s.90116//NONSGML kigkonsult.se iCalcreator 2.41.80//
CALSCALE:GREGORIAN
UID:64303337-3934-4763-b266-303930636139
BEGIN:VEVENT
UID:38383932-3432-4063-b566-336535623237
DTSTAMP:20260422T164633Z
DESCRIPTION:1/13 Humpolec - Tělovýchovná jednota CHS Chotěboř\, z.s. 1:2 (1
 9\,-11\,-10)\nŽďár
DTSTART;TZID=Europe/Berlin:20250921T090000
DTEND;TZID=Europe/Berlin:20250921T110000
LOCATION:Tělocvična Gymnázia Dr. Aleše Hrdličky\, Komenského 147 Humpolec
SUMMARY:VY-U16Z: Humpolec-Tělovýchovná jednota CHS Chotěboř\, z.s.
END:VEVENT
BEGIN:VEVENT
UID:31363935-3137-4636-b439-656634353333
DTSTAMP:20260422T164633Z
DESCRIPTION:2/43 Humpolec - Štoky 1:2 (-16\,24\,-8)\nHumpolec
DTSTART;TZID=Europe/Berlin:20251005T090000
DTEND;TZID=Europe/Berlin:20251005T110000
LOCATION:Tělocvična Gymnázia Dr. Aleše Hrdličky\, Komenského 147 Humpolec
SUMMARY:VY-U16Z: Humpolec-Štoky
END:VEVENT
BEGIN:VEVENT
UID:66636562-3466-4331-a333-653738656634
DTSTAMP:20260422T164633Z
DESCRIPTION:3/73 Humpolec - Třebíč 0:2 (-6\,-17)\nBeachwell
DTSTART;TZID=Europe/Berlin:20251012T090000
DTEND;TZID=Europe/Berlin:20251012T110000
LOCATION:Tělocvična Gymnázia Dr. Aleše Hrdličky\, Komenského 147 Humpolec
SUMMARY:VY-U16Z: Humpolec-Třebíč
END:VEVENT
BEGIN:VEVENT
UID:38343966-3962-4264-b964-623062396631
DTSTAMP:20260422T164633Z
DESCRIPTION:4/103 Humpolec - Tělovýchovná jednota Spartak Pelhřimov\, z.s. 
 0:2 (-20\,-24)\nHumpolec
DTSTART;TZID=Europe/Berlin:20251102T090000
DTEND;TZID=Europe/Berlin:20251102T110000
LOCATION:Tělocvična Gymnázia Dr. Aleše Hrdličky\, Komenského 147 Humpolec
SUMMARY:VY-U16Z: Humpolec-Tělovýchovná jednota Spartak Pelhřimov\, z.s.
END:VEVENT
BEGIN:VEVENT
UID:34383036-3862-4138-b932-316138643562
DTSTAMP:20260422T164633Z
DESCRIPTION:6/152 Humpolec - N. Veselí 0:2 (-11\,-11)
DTSTART;TZID=Europe/Berlin:20251123T090000
DTEND;TZID=Europe/Berlin:20251123T110000
LOCATION:Tělocvična Gymnázia Dr. Aleše Hrdličky\, Komenského 147 Humpolec
SUMMARY:VY-U16Z: Humpolec-N. Veselí
END:VEVENT
BEGIN:VEVENT
UID:39393539-6338-4632-a336-656435613337
DTSTAMP:20260422T164633Z
DESCRIPTION:1/15 TJ Žďár nad Sázavou - Humpolec 2:0 (8\,21)
DTSTART;TZID=Europe/Berlin:20250921T090000
DTEND;TZID=Europe/Berlin:20250921T110000
LOCATION:Sportovní hala na Bouchalkách\, Jungmannova 1495 Žďár nad Sázavou 
 - Žďár nad Sázavou 1
SUMMARY:VY-U16Z: TJ Žďár nad Sázavou-Humpolec
END:VEVENT
BEGIN:VEVENT
UID:61653737-6534-4566-a161-303530343063
DTSTAMP:20260422T164633Z
DESCRIPTION:1/18 TJ Sklo Bohemia Světlá nad Sázavou\, z.s. - Humpolec 2:1 (
 25\,-19\,14)
DTSTART;TZID=Europe/Berlin:20250921T090000
DTEND;TZID=Europe/Berlin:20250921T110000
LOCATION:Sportovní hala\, Komenského 1256 Světlá nad Sázavou
SUMMARY:VY-U16Z: TJ Sklo Bohemia Světlá nad Sázavou\, z.s.-Humpolec
END:VEVENT
BEGIN:VEVENT
UID:39353435-6535-4864-a166-326631303235
DTSTAMP:20260422T164633Z
DESCRIPTION:2/48 TJ Sokol Nové Veselí B - Humpolec 1:2 (17\,-21\,-15)
DTSTART;TZID=Europe/Berlin:20251005T090000
DTEND;TZID=Europe/Berlin:20251005T110000
LOCATION:Víceúčelová sportovní hala Nové Veselí\, Žďárská 356 Nové Veselí
SUMMARY:VY-U16Z: TJ Sokol Nové Veselí B-Humpolec
END:VEVENT
BEGIN:VEVENT
UID:36653463-6465-4234-b737-613964316363
DTSTAMP:20260422T164633Z
DESCRIPTION:3/75 Základní škola Přibyslav - Humpolec 2:0 (18\,23)
DTSTART;TZID=Europe/Berlin:20251012T090000
DTEND;TZID=Europe/Berlin:20251012T110000
LOCATION:Sportovní hala Přibyslav\, Česká 34 Přibyslav
SUMMARY:VY-U16Z: Základní škola Přibyslav-Humpolec
END:VEVENT
BEGIN:VEVENT
UID:34376134-3664-4139-b038-363135656432
DTSTAMP:20260422T164633Z
DESCRIPTION:3/78 Beachwell Pelhřimov - Humpolec 2:0 (15\,16)
DTSTART;TZID=Europe/Berlin:20251012T090000
DTEND;TZID=Europe/Berlin:20251012T110000
LOCATION:Sportovní Hala\, Nádražní 1536 Pelhřimov
SUMMARY:VY-U16Z: Beachwell Pelhřimov-Humpolec
END:VEVENT
BEGIN:VEVENT
UID:63333564-3130-4564-a330-366337316235
DTSTAMP:20260422T164633Z
DESCRIPTION:4/105 TJ Jiskra Havlíčkův Brod C - Humpolec 0:2 (-18\,-24)
DTSTART;TZID=Europe/Berlin:20251102T090000
DTEND;TZID=Europe/Berlin:20251102T110000
LOCATION:Sportovní hala TJ Jiskra\, Ledečská 3028 Havlíčkův Brod
SUMMARY:VY-U16Z: TJ Jiskra Havlíčkův Brod C-Humpolec
END:VEVENT
BEGIN:VEVENT
UID:30396431-3931-4133-b831-613564383862
DTSTAMP:20260422T164633Z
DESCRIPTION:4/108 Jihlava - Humpolec 2:0 (18\,19)
DTSTART;TZID=Europe/Berlin:20251102T090000
DTEND;TZID=Europe/Berlin:20251102T110000
LOCATION:ZŠ Jihlava Demlova\, Demlova 4178 Jihlava
SUMMARY:VY-U16Z: Jihlava-Humpolec
END:VEVENT
BEGIN:VEVENT
UID:30633437-3233-4330-a533-646137386364
DTSTAMP:20260422T164633Z
DESCRIPTION:5/135 Jihlava B - Humpolec 2:0 (6\,13)
DTSTART;TZID=Europe/Berlin:20251109T090000
DTEND;TZID=Europe/Berlin:20251109T110000
LOCATION:ZŠ Jihlava Demlova\, Demlova 4178 Jihlava
SUMMARY:VY-U16Z: Jihlava B-Humpolec
END:VEVENT
BEGIN:VEVENT
UID:63646361-3565-4661-a164-646637336339
DTSTAMP:20260422T164633Z
DESCRIPTION:5/138 TJ Jiskra Havlíčkův Brod B - Humpolec 2:0 (23\,13)
DTSTART;TZID=Europe/Berlin:20251109T090000
DTEND;TZID=Europe/Berlin:20251109T110000
LOCATION:Sportovní hala TJ Jiskra\, Ledečská 3028 Havlíčkův Brod
SUMMARY:VY-U16Z: TJ Jiskra Havlíčkův Brod B-Humpolec
END:VEVENT
BEGIN:VEVENT
UID:35373365-6166-4434-b866-336164393435
DTSTAMP:20260422T164633Z
DESCRIPTION:6/154 H. Brod - Humpolec 2:0 (8\,14)
DTSTART;TZID=Europe/Berlin:20251123T090000
DTEND;TZID=Europe/Berlin:20251123T110000
LOCATION:Sportovní hala TJ Jiskra\, Ledečská 3028 Havlíčkův Brod
SUMMARY:VY-U16Z: H. Brod-Humpolec
END:VEVENT
BEGIN:VEVENT
UID:33366337-6565-4530-b366-396234633832
DTSTAMP:20260422T164633Z
DESCRIPTION:7/171 Bedřichov - Humpolec 1:2 (25\,-8\,-12)\nTřebíč C
DTSTART;TZID=Europe/Berlin:20251207T090000
DTEND;TZID=Europe/Berlin:20251207T110000
LOCATION:TJ Sokol Bedřichov\, Jihlava\, Sokolovská 4656 Jihlava
SUMMARY:VY-U16Z: Bedřichov-Humpolec
END:VEVENT
BEGIN:VEVENT
UID:64383832-3166-4463-a563-643863336632
DTSTAMP:20260422T164633Z
DESCRIPTION:7/173 Třebíč C - Humpolec 0:2 (-15\,-22)
DTSTART;TZID=Europe/Berlin:20251207T090000
DTEND;TZID=Europe/Berlin:20251207T110000
LOCATION:hala ZŠ TGM\, Komenského nám. 61 Třebíč - Horka-Domky
SUMMARY:VY-U16Z: Třebíč C-Humpolec
END:VEVENT
BEGIN:VEVENT
UID:31653266-6566-4562-b936-633432333061
DTSTAMP:20260422T164633Z
DESCRIPTION:1/3 Humpolec - TJ Jiskra Havlíčkův Brod C 2:1 (-21\,24\,10)
DTSTART;TZID=Europe/Berlin:20260111T090000
DTEND;TZID=Europe/Berlin:20260111T110000
LOCATION:TJ Jiskra Humpolec\, Tyršovo náměstí 745 Humpolec
SUMMARY:VY-U16Z-C: Humpolec-TJ Jiskra Havlíčkův Brod C
END:VEVENT
BEGIN:VEVENT
UID:65633736-3432-4363-a366-323633343365
DTSTAMP:20260422T164633Z
DESCRIPTION:2/9 Humpolec - TJ Jiskra Havlíčkův Brod C 2:0 (22\,25)
DTSTART;TZID=Europe/Berlin:20260125T090000
DTEND;TZID=Europe/Berlin:20260125T110000
LOCATION:TJ Jiskra Humpolec\, Tyršovo náměstí 745 Humpolec
SUMMARY:VY-U16Z-C: Humpolec-TJ Jiskra Havlíčkův Brod C
END:VEVENT
BEGIN:VEVENT
UID:32333536-3435-4032-a166-383262333666
DTSTAMP:20260422T164633Z
DESCRIPTION:3/14 Humpolec - TJ Sklo Bohemia Světlá nad Sázavou\, z.s. 0:2 (
 -19\,-19)
DTSTART;TZID=Europe/Berlin:20260215T090000
DTEND;TZID=Europe/Berlin:20260215T110000
LOCATION:TJ Jiskra Humpolec\, Tyršovo náměstí 745 Humpolec
SUMMARY:VY-U16Z-C: Humpolec-TJ Sklo Bohemia Světlá nad Sázavou\, z.s.
END:VEVENT
BEGIN:VEVENT
UID:64626435-3863-4661-b362-373732383535
DTSTAMP:20260422T164633Z
DESCRIPTION:4/23 Humpolec - Tělovýchovná jednota CHS Chotěboř\, z.s. 2:0 (2
 4\,15)
DTSTART;TZID=Europe/Berlin:20260222T090000
DTEND;TZID=Europe/Berlin:20260222T110000
LOCATION:TJ Jiskra Humpolec\, Tyršovo náměstí 745 Humpolec
SUMMARY:VY-U16Z-C: Humpolec-Tělovýchovná jednota CHS Chotěboř\, z.s.
END:VEVENT
BEGIN:VEVENT
UID:65353562-6564-4832-b833-306632663432
DTSTAMP:20260422T164633Z
DESCRIPTION:5/29 Humpolec - TJ Sokol Nové Veselí B 2:0 (19\,18)\nNové Vesel
 í B
DTSTART;TZID=Europe/Berlin:20260301T090000
DTEND;TZID=Europe/Berlin:20260301T110000
LOCATION:TJ Jiskra Humpolec\, Tyršovo náměstí 745 Humpolec
SUMMARY:VY-U16Z-C: Humpolec-TJ Sokol Nové Veselí B
END:VEVENT
BEGIN:VEVENT
UID:32323361-3264-4237-b964-653662626135
DTSTAMP:20260422T164633Z
DESCRIPTION:1/2 TJ Sklo Bohemia Světlá nad Sázavou\, z.s. - Humpolec 2:1 (-
 13\,12\,14)
DTSTART;TZID=Europe/Berlin:20260111T090000
DTEND;TZID=Europe/Berlin:20260111T110000
LOCATION:Sportovní hala\, Komenského 1256 Světlá nad Sázavou
SUMMARY:VY-U16Z-C: TJ Sklo Bohemia Světlá nad Sázavou\, z.s.-Humpolec
END:VEVENT
BEGIN:VEVENT
UID:36353632-3431-4436-a135-303132353132
DTSTAMP:20260422T164633Z
DESCRIPTION:2/8 Tělovýchovná jednota CHS Chotěboř\, z.s. - Humpolec 1:2 (-7
 \,18\,-13)
DTSTART;TZID=Europe/Berlin:20260125T090000
DTEND;TZID=Europe/Berlin:20260125T110000
LOCATION:Sportovní hala \, Tyršova 794 Chotěboř
SUMMARY:VY-U16Z-C: Tělovýchovná jednota CHS Chotěboř\, z.s.-Humpolec
END:VEVENT
BEGIN:VEVENT
UID:30653965-6434-4532-a432-613437353761
DTSTAMP:20260422T164633Z
DESCRIPTION:3/13 Třebíč C - Humpolec 0:2 (-9\,-13)\nSvětlá ZŠ Lánecká
DTSTART;TZID=Europe/Berlin:20260215T090000
DTEND;TZID=Europe/Berlin:20260215T110000
LOCATION:hala ZŠ TGM\, Komenského nám. 61 Třebíč - Horka-Domky
SUMMARY:VY-U16Z-C: Třebíč C-Humpolec
END:VEVENT
BEGIN:VEVENT
UID:30353237-3737-4930-b037-613366366531
DTSTAMP:20260422T164633Z
DESCRIPTION:4/22 Třebíč C - Humpolec 0:2 (-19\,-21)\nTřebíč C
DTSTART;TZID=Europe/Berlin:20260222T090000
DTEND;TZID=Europe/Berlin:20260222T110000
LOCATION:hala ZŠ TGM\, Komenského nám. 61 Třebíč - Horka-Domky
SUMMARY:VY-U16Z-C: Třebíč C-Humpolec
END:VEVENT
BEGIN:VEVENT
UID:66646264-3035-4534-b834-323737326631
DTSTAMP:20260422T164633Z
DESCRIPTION:5/30 TJ Sokol Nové Veselí B - Humpolec 0:2 (-12\,-20)
DTSTART;TZID=Europe/Berlin:20260301T090000
DTEND;TZID=Europe/Berlin:20260301T110000
LOCATION:Víceúčelová sportovní hala Nové Veselí\, Žďárská 356 Nové Veselí
SUMMARY:VY-U16Z-C: TJ Sokol Nové Veselí B-Humpolec
END:VEVENT
END:VCALENDAR
