BEGIN:VCALENDAR
VERSION:2.0
PRODID:-//TJ Sokol Nové Veselí90120//NONSGML kigkonsult.se iCalcreator 2.41.80//
CALSCALE:GREGORIAN
UID:65396636-3238-4131-a365-396335623030
BEGIN:VEVENT
UID:63343465-3536-4632-a562-323264316465
DTSTAMP:20260422T205200Z
DESCRIPTION:1/19 N. Veselí - Třebíč 2:0 (16\,11)\nNové Veselí A
DTSTART;TZID=Europe/Berlin:20250921T090000
DTEND;TZID=Europe/Berlin:20250921T110000
LOCATION:Víceúčelová sportovní hala Nové Veselí\, Žďárská 356 Nové Veselí
SUMMARY:VY-U16Z: N. Veselí-Třebíč
END:VEVENT
BEGIN:VEVENT
UID:61313664-6662-4964-b637-643830616436
DTSTAMP:20260422T205200Z
DESCRIPTION:2/49 N. Veselí - Tělovýchovná jednota Spartak Pelhřimov\, z.s. 
 2:0 (7\,19)\nPelhřimov
DTSTART;TZID=Europe/Berlin:20251005T090000
DTEND;TZID=Europe/Berlin:20251005T110000
LOCATION:Víceúčelová sportovní hala Nové Veselí\, Žďárská 356 Nové Veselí
SUMMARY:VY-U16Z: N. Veselí-Tělovýchovná jednota Spartak Pelhřimov\, z.s.
END:VEVENT
BEGIN:VEVENT
UID:62356330-3131-4265-b335-663337666366
DTSTAMP:20260422T205200Z
DESCRIPTION:4/109 N. Veselí - Tělovýchovná jednota CHS Chotěboř\, z.s. 2:0 
 (6\,5)\nNové Veselí A
DTSTART;TZID=Europe/Berlin:20251102T090000
DTEND;TZID=Europe/Berlin:20251102T110000
LOCATION:Víceúčelová sportovní hala Nové Veselí\, Žďárská 356 Nové Veselí
SUMMARY:VY-U16Z: N. Veselí-Tělovýchovná jednota CHS Chotěboř\, z.s.
END:VEVENT
BEGIN:VEVENT
UID:34323036-3433-4661-b531-393636353432
DTSTAMP:20260422T205200Z
DESCRIPTION:5/139 N. Veselí - Štoky 2:0 (8\,9)\nSvětlá
DTSTART;TZID=Europe/Berlin:20251109T090000
DTEND;TZID=Europe/Berlin:20251109T110000
LOCATION:Víceúčelová sportovní hala Nové Veselí\, Žďárská 356 Nové Veselí
SUMMARY:VY-U16Z: N. Veselí-Štoky
END:VEVENT
BEGIN:VEVENT
UID:64626636-6465-4638-b030-643238343262
DTSTAMP:20260422T205200Z
DESCRIPTION:6/155 N. Veselí - Třebíč C 2:0 (3\,6)
DTSTART;TZID=Europe/Berlin:20251123T090000
DTEND;TZID=Europe/Berlin:20251123T110000
LOCATION:Víceúčelová sportovní hala Nové Veselí\, Žďárská 356 Nové Veselí
SUMMARY:VY-U16Z: N. Veselí-Třebíč C
END:VEVENT
BEGIN:VEVENT
UID:61336530-3035-4566-b264-333963333635
DTSTAMP:20260422T205200Z
DESCRIPTION:7/174 N. Veselí - Bedřichov 2:0 (9\,11)
DTSTART;TZID=Europe/Berlin:20251207T090000
DTEND;TZID=Europe/Berlin:20251207T110000
LOCATION:Víceúčelová sportovní hala Nové Veselí\, Žďárská 356 Nové Veselí
SUMMARY:VY-U16Z: N. Veselí-Bedřichov
END:VEVENT
BEGIN:VEVENT
UID:38656537-3738-4939-b661-343935373430
DTSTAMP:20260422T205200Z
DESCRIPTION:1/21 TJ Jiskra Havlíčkův Brod C - N. Veselí 0:2 (-11\,-9)
DTSTART;TZID=Europe/Berlin:20250921T090000
DTEND;TZID=Europe/Berlin:20250921T110000
LOCATION:Sportovní hala TJ Jiskra\, Ledečská 3028 Havlíčkův Brod
SUMMARY:VY-U16Z: TJ Jiskra Havlíčkův Brod C-N. Veselí
END:VEVENT
BEGIN:VEVENT
UID:32646263-3132-4132-b230-636333323564
DTSTAMP:20260422T205200Z
DESCRIPTION:1/24 TJ Sokol Nové Veselí B - N. Veselí 0:2 (-10\,-6)
DTSTART;TZID=Europe/Berlin:20250921T090000
DTEND;TZID=Europe/Berlin:20250921T110000
LOCATION:Víceúčelová sportovní hala Nové Veselí\, Žďárská 356 Nové Veselí
SUMMARY:VY-U16Z: TJ Sokol Nové Veselí B-N. Veselí
END:VEVENT
BEGIN:VEVENT
UID:35326363-6539-4637-a464-636462633830
DTSTAMP:20260422T205200Z
DESCRIPTION:2/51 Jihlava B - N. Veselí 0:2 (-6\,-12)
DTSTART;TZID=Europe/Berlin:20251005T090000
DTEND;TZID=Europe/Berlin:20251005T110000
LOCATION:ZŠ Jihlava Demlova\, Demlova 4178 Jihlava
SUMMARY:VY-U16Z: Jihlava B-N. Veselí
END:VEVENT
BEGIN:VEVENT
UID:38396138-3432-4330-b964-636664333765
DTSTAMP:20260422T205200Z
DESCRIPTION:2/54 Beachwell Pelhřimov - N. Veselí 0:2 (-9\,-20)
DTSTART;TZID=Europe/Berlin:20251005T090000
DTEND;TZID=Europe/Berlin:20251005T110000
LOCATION:Sportovní Hala\, Nádražní 1536 Pelhřimov
SUMMARY:VY-U16Z: Beachwell Pelhřimov-N. Veselí
END:VEVENT
BEGIN:VEVENT
UID:62373361-3631-4532-a163-336234633631
DTSTAMP:20260422T205200Z
DESCRIPTION:3/81 TJ Žďár nad Sázavou - N. Veselí 0:2 (-16\,-18)
DTSTART;TZID=Europe/Berlin:20251012T090000
DTEND;TZID=Europe/Berlin:20251012T110000
LOCATION:Sportovní hala na Bouchalkách\, Jungmannova 1495 Žďár nad Sázavou 
 - Žďár nad Sázavou 1
SUMMARY:VY-U16Z: TJ Žďár nad Sázavou-N. Veselí
END:VEVENT
BEGIN:VEVENT
UID:37636431-3762-4964-a462-623934633465
DTSTAMP:20260422T205200Z
DESCRIPTION:3/84 Jihlava - N. Veselí 0:2 (-19\,-22)
DTSTART;TZID=Europe/Berlin:20251012T090000
DTEND;TZID=Europe/Berlin:20251012T110000
LOCATION:ZŠ Jihlava Demlova\, Demlova 4178 Jihlava
SUMMARY:VY-U16Z: Jihlava-N. Veselí
END:VEVENT
BEGIN:VEVENT
UID:32393066-3830-4537-b236-643462633761
DTSTAMP:20260422T205200Z
DESCRIPTION:4/114 TJ Jiskra Havlíčkův Brod B - N. Veselí 0:2 (-13\,-10)
DTSTART;TZID=Europe/Berlin:20251102T090000
DTEND;TZID=Europe/Berlin:20251102T110000
LOCATION:Sportovní hala TJ Jiskra\, Ledečská 3028 Havlíčkův Brod
SUMMARY:VY-U16Z: TJ Jiskra Havlíčkův Brod B-N. Veselí
END:VEVENT
BEGIN:VEVENT
UID:64656136-3765-4364-a437-356638633862
DTSTAMP:20260422T205200Z
DESCRIPTION:5/141 Základní škola Přibyslav - N. Veselí 0:2 (-8\,-13)
DTSTART;TZID=Europe/Berlin:20251109T090000
DTEND;TZID=Europe/Berlin:20251109T110000
LOCATION:Sportovní hala Přibyslav\, Česká 34 Přibyslav
SUMMARY:VY-U16Z: Základní škola Přibyslav-N. Veselí
END:VEVENT
BEGIN:VEVENT
UID:62353563-3036-4662-a539-326534643537
DTSTAMP:20260422T205200Z
DESCRIPTION:5/144 TJ Sklo Bohemia Světlá nad Sázavou\, z.s. - N. Veselí 0:2
  (-6\,-11)
DTSTART;TZID=Europe/Berlin:20251109T090000
DTEND;TZID=Europe/Berlin:20251109T110000
LOCATION:Sportovní hala\, Komenského 1256 Světlá nad Sázavou
SUMMARY:VY-U16Z: TJ Sklo Bohemia Světlá nad Sázavou\, z.s.-N. Veselí
END:VEVENT
BEGIN:VEVENT
UID:62393736-6265-4766-b135-346265373665
DTSTAMP:20260422T205200Z
DESCRIPTION:6/152 Humpolec - N. Veselí 0:2 (-11\,-11)
DTSTART;TZID=Europe/Berlin:20251123T090000
DTEND;TZID=Europe/Berlin:20251123T110000
LOCATION:Tělocvična Gymnázia Dr. Aleše Hrdličky\, Komenského 147 Humpolec
SUMMARY:VY-U16Z: Humpolec-N. Veselí
END:VEVENT
BEGIN:VEVENT
UID:66363465-3335-4561-a463-643161626639
DTSTAMP:20260422T205200Z
DESCRIPTION:7/172 H. Brod - N. Veselí 0:2 (-23\,-14)
DTSTART;TZID=Europe/Berlin:20251207T090000
DTEND;TZID=Europe/Berlin:20251207T110000
LOCATION:Sportovní hala TJ Jiskra\, Ledečská 3028 Havlíčkův Brod
SUMMARY:VY-U16Z: H. Brod-N. Veselí
END:VEVENT
BEGIN:VEVENT
UID:61373734-3363-4734-b532-616633626165
DTSTAMP:20260422T205200Z
DESCRIPTION:1/1 N. Veselí - H. Brod 2:1 (-20\,25\,6)\nJihlava A - Demlova
DTSTART;TZID=Europe/Berlin:20260111T090000
DTEND;TZID=Europe/Berlin:20260111T110000
LOCATION:Víceúčelová sportovní hala Nové Veselí\, Žďárská 356 Nové Veselí
SUMMARY:VY-U16Z-A: N. Veselí-H. Brod
END:VEVENT
BEGIN:VEVENT
UID:35643138-3766-4464-b863-623436336365
DTSTAMP:20260422T205200Z
DESCRIPTION:2/7 N. Veselí - Třebíč 2:0 (10\,13)\nJihlava A - Demlova
DTSTART;TZID=Europe/Berlin:20260125T090000
DTEND;TZID=Europe/Berlin:20260125T110000
LOCATION:Víceúčelová sportovní hala Nové Veselí\, Žďárská 356 Nové Veselí
SUMMARY:VY-U16Z-A: N. Veselí-Třebíč
END:VEVENT
BEGIN:VEVENT
UID:35373334-6664-4761-b561-663363306462
DTSTAMP:20260422T205200Z
DESCRIPTION:3/16 N. Veselí - Třebíč 2:0 (13\,18)\nNové Veselí A
DTSTART;TZID=Europe/Berlin:20260215T090000
DTEND;TZID=Europe/Berlin:20260215T110000
LOCATION:Víceúčelová sportovní hala Nové Veselí\, Žďárská 356 Nové Veselí
SUMMARY:VY-U16Z-A: N. Veselí-Třebíč
END:VEVENT
BEGIN:VEVENT
UID:38653861-3230-4531-b831-356435383730
DTSTAMP:20260422T205200Z
DESCRIPTION:4/21 N. Veselí - TJ Žďár nad Sázavou 2:0 (17\,10)
DTSTART;TZID=Europe/Berlin:20260222T090000
DTEND;TZID=Europe/Berlin:20260222T110000
LOCATION:Víceúčelová sportovní hala Nové Veselí\, Žďárská 356 Nové Veselí
SUMMARY:VY-U16Z-A: N. Veselí-TJ Žďár nad Sázavou
END:VEVENT
BEGIN:VEVENT
UID:39646438-6438-4962-b336-393039613730
DTSTAMP:20260422T205200Z
DESCRIPTION:5/25 N. Veselí - Beachwell Pelhřimov 2:0 (7\,9)\nNové Veselí A
DTSTART;TZID=Europe/Berlin:20260301T090000
DTEND;TZID=Europe/Berlin:20260301T110000
LOCATION:Víceúčelová sportovní hala Nové Veselí\, Žďárská 356 Nové Veselí
SUMMARY:VY-U16Z-A: N. Veselí-Beachwell Pelhřimov
END:VEVENT
BEGIN:VEVENT
UID:38306535-3738-4233-a632-666636373537
DTSTAMP:20260422T205200Z
DESCRIPTION:1/3 Jihlava - N. Veselí 1:2 (20\,-21\,-10)
DTSTART;TZID=Europe/Berlin:20260111T090000
DTEND;TZID=Europe/Berlin:20260111T110000
LOCATION:ZŠ Jihlava Demlova\, Demlova 4178 Jihlava
SUMMARY:VY-U16Z-A: Jihlava-N. Veselí
END:VEVENT
BEGIN:VEVENT
UID:61616362-6163-4436-a261-363864326262
DTSTAMP:20260422T205200Z
DESCRIPTION:2/9 Jihlava - N. Veselí 0:2 (-15\,-24)
DTSTART;TZID=Europe/Berlin:20260125T090000
DTEND;TZID=Europe/Berlin:20260125T110000
LOCATION:ZŠ Jihlava Demlova\, Demlova 4178 Jihlava
SUMMARY:VY-U16Z-A: Jihlava-N. Veselí
END:VEVENT
BEGIN:VEVENT
UID:31613066-6163-4565-b531-646564363335
DTSTAMP:20260422T205200Z
DESCRIPTION:3/18 TJ Žďár nad Sázavou - N. Veselí 0:2 (-14\,-14)
DTSTART;TZID=Europe/Berlin:20260215T090000
DTEND;TZID=Europe/Berlin:20260215T110000
LOCATION:Sportovní hala na Bouchalkách\, Jungmannova 1495 Žďár nad Sázavou 
 - Žďár nad Sázavou 1
SUMMARY:VY-U16Z-A: TJ Žďár nad Sázavou-N. Veselí
END:VEVENT
BEGIN:VEVENT
UID:35366436-3230-4238-b832-353864396266
DTSTAMP:20260422T205200Z
DESCRIPTION:4/20 H. Brod - N. Veselí 0:2 (-15\,-23)
DTSTART;TZID=Europe/Berlin:20260222T090000
DTEND;TZID=Europe/Berlin:20260222T110000
LOCATION:Sportovní hala TJ Jiskra\, Ledečská 3028 Havlíčkův Brod
SUMMARY:VY-U16Z-A: H. Brod-N. Veselí
END:VEVENT
BEGIN:VEVENT
UID:36663938-3463-4965-a464-333864336439
DTSTAMP:20260422T205200Z
DESCRIPTION:5/26 Beachwell Pelhřimov - N. Veselí 0:2 (-5\,-7)
DTSTART;TZID=Europe/Berlin:20260301T090000
DTEND;TZID=Europe/Berlin:20260301T110000
LOCATION:Sportovní Hala\, Nádražní 1536 Pelhřimov
SUMMARY:VY-U16Z-A: Beachwell Pelhřimov-N. Veselí
END:VEVENT
BEGIN:VEVENT
UID:31363133-3865-4334-b431-373031363531
DTSTAMP:20260422T205200Z
DESCRIPTION:1/1 N. Veselí - Jihlava 2:0 (15\,21)\nJiskra
DTSTART;TZID=Europe/Berlin:20260315T090000
DTEND;TZID=Europe/Berlin:20260315T110000
LOCATION:Víceúčelová sportovní hala Nové Veselí\, Žďárská 356 Nové Veselí
SUMMARY:VY-U16Z-F: N. Veselí-Jihlava
END:VEVENT
BEGIN:VEVENT
UID:63306335-3932-4139-a636-306232306238
DTSTAMP:20260422T205200Z
DESCRIPTION:1/3 H. Brod - N. Veselí 1:2 (23\,-13\,-8)
DTSTART;TZID=Europe/Berlin:20260315T090000
DTEND;TZID=Europe/Berlin:20260315T110000
LOCATION:Sportovní hala TJ Jiskra\, Ledečská 3028 Havlíčkův Brod
SUMMARY:VY-U16Z-F: H. Brod-N. Veselí
END:VEVENT
BEGIN:VEVENT
UID:65656631-6437-4136-b735-343132393861
DTSTAMP:20260422T205200Z
DESCRIPTION:7/19 N. Veselí - Jablonec n. N.Grzymek Ondřej
DTSTART;TZID=Europe/Berlin:20260426T090000
DTEND;TZID=Europe/Berlin:20260426T110000
LOCATION:Víceúčelová sportovní hala\,  Raškovice18
SUMMARY:MCR-U16Z-C: N. Veselí-Jablonec n. N.
END:VEVENT
BEGIN:VEVENT
UID:30663336-6631-4336-b164-386531343336
DTSTAMP:20260422T205200Z
DESCRIPTION:10/28 N. Veselí - ZlínGrzymek Ondřej
DTSTART;TZID=Europe/Berlin:20260426T140000
DTEND;TZID=Europe/Berlin:20260426T160000
LOCATION:Víceúčelová sportovní hala\,  Raškovice18
SUMMARY:MCR-U16Z-C: N. Veselí-Zlín
END:VEVENT
BEGIN:VEVENT
UID:31383634-3565-4564-b634-346230376666
DTSTAMP:20260422T205200Z
DESCRIPTION:1/3 Mikulova - N. VeselíCapáková Kateřina
DTSTART;TZID=Europe/Berlin:20260425T093000
DTEND;TZID=Europe/Berlin:20260425T113000
LOCATION:Víceúčelová sportovní hala\,  Raškovice18
SUMMARY:MCR-U16Z-C: Mikulova-N. Veselí
END:VEVENT
BEGIN:VEVENT
UID:63313933-3035-4433-b561-623966666234
DTSTAMP:20260422T205200Z
DESCRIPTION:2/6 Baník Rtyně - N. VeselíPustějovský Aleš
DTSTART;TZID=Europe/Berlin:20260425T110000
DTEND;TZID=Europe/Berlin:20260425T130000
LOCATION:Víceúčelová sportovní hala\,  Raškovice18
SUMMARY:MCR-U16Z-C: Baník Rtyně-N. Veselí
END:VEVENT
BEGIN:VEVENT
UID:39336337-3439-4537-a362-313239356563
DTSTAMP:20260422T205200Z
DESCRIPTION:3/9 Příbram - N. VeselíPustějovský Aleš
DTSTART;TZID=Europe/Berlin:20260425T123000
DTEND;TZID=Europe/Berlin:20260425T143000
LOCATION:Víceúčelová sportovní hala\,  Raškovice18
SUMMARY:MCR-U16Z-C: Příbram-N. Veselí
END:VEVENT
BEGIN:VEVENT
UID:39336234-3763-4466-b136-343635306238
DTSTAMP:20260422T205200Z
DESCRIPTION:6/15 Olomouc - N. VeselíCapáková Kateřina
DTSTART;TZID=Europe/Berlin:20260425T173000
DTEND;TZID=Europe/Berlin:20260425T193000
LOCATION:Víceúčelová sportovní hala\,  Raškovice18
SUMMARY:MCR-U16Z-C: Olomouc-N. Veselí
END:VEVENT
BEGIN:VEVENT
UID:34643037-3931-4635-a462-396135646434
DTSTAMP:20260422T205200Z
DESCRIPTION:9/23 Ostrava - N. VeselíHlisnikovský Vojtěch
DTSTART;TZID=Europe/Berlin:20260426T123000
DTEND;TZID=Europe/Berlin:20260426T143000
LOCATION:Víceúčelová sportovní hala\,  Raškovice18
SUMMARY:MCR-U16Z-C: Ostrava-N. Veselí
END:VEVENT
END:VCALENDAR
