BEGIN:VCALENDAR
VERSION:2.0
PRODID:-//TJ Jiskra Havlíčkův Brod C90122//NONSGML kigkonsult.se iCalcreator 2.41.80//
CALSCALE:GREGORIAN
UID:35633733-3839-4230-b664-616639336535
BEGIN:VEVENT
UID:64346233-6166-4664-a163-656132363038
DTSTAMP:20260422T164606Z
DESCRIPTION:1/21 TJ Jiskra Havlíčkův Brod C - N. Veselí 0:2 (-11\,-9)
DTSTART;TZID=Europe/Berlin:20250921T090000
DTEND;TZID=Europe/Berlin:20250921T110000
LOCATION:Sportovní hala TJ Jiskra\, Ledečská 3028 Havlíčkův Brod
SUMMARY:VY-U16Z: TJ Jiskra Havlíčkův Brod C-N. Veselí
END:VEVENT
BEGIN:VEVENT
UID:62336430-3834-4264-a262-343038376234
DTSTAMP:20260422T164606Z
DESCRIPTION:1/23 TJ Jiskra Havlíčkův Brod C - Třebíč 0:2 (-17\,-12)
DTSTART;TZID=Europe/Berlin:20250921T090000
DTEND;TZID=Europe/Berlin:20250921T110000
LOCATION:Sportovní hala TJ Jiskra\, Ledečská 3028 Havlíčkův Brod
SUMMARY:VY-U16Z: TJ Jiskra Havlíčkův Brod C-Třebíč
END:VEVENT
BEGIN:VEVENT
UID:35623832-3061-4838-a666-373263656333
DTSTAMP:20260422T164606Z
DESCRIPTION:2/39 TJ Jiskra Havlíčkův Brod C - H. Brod 0:2 (-8\,-4)
DTSTART;TZID=Europe/Berlin:20251005T090000
DTEND;TZID=Europe/Berlin:20251005T110000
LOCATION:Sportovní hala TJ Jiskra\, Ledečská 3028 Havlíčkův Brod
SUMMARY:VY-U16Z: TJ Jiskra Havlíčkův Brod C-H. Brod
END:VEVENT
BEGIN:VEVENT
UID:62343463-3166-4863-b037-386131386165
DTSTAMP:20260422T164606Z
DESCRIPTION:3/87 TJ Jiskra Havlíčkův Brod C - Třebíč C 2:0 (20\,20)
DTSTART;TZID=Europe/Berlin:20251012T090000
DTEND;TZID=Europe/Berlin:20251012T110000
LOCATION:Sportovní hala TJ Jiskra\, Ledečská 3028 Havlíčkův Brod
SUMMARY:VY-U16Z: TJ Jiskra Havlíčkův Brod C-Třebíč C
END:VEVENT
BEGIN:VEVENT
UID:38633337-3961-4431-a139-626135663162
DTSTAMP:20260422T164606Z
DESCRIPTION:3/89 TJ Jiskra Havlíčkův Brod C - Štoky 0:2 (-22\,-24)
DTSTART;TZID=Europe/Berlin:20251012T090000
DTEND;TZID=Europe/Berlin:20251012T110000
LOCATION:Sportovní hala TJ Jiskra\, Ledečská 3028 Havlíčkův Brod
SUMMARY:VY-U16Z: TJ Jiskra Havlíčkův Brod C-Štoky
END:VEVENT
BEGIN:VEVENT
UID:61613433-3861-4536-a232-383636623163
DTSTAMP:20260422T164606Z
DESCRIPTION:4/105 TJ Jiskra Havlíčkův Brod C - Humpolec 0:2 (-18\,-24)
DTSTART;TZID=Europe/Berlin:20251102T090000
DTEND;TZID=Europe/Berlin:20251102T110000
LOCATION:Sportovní hala TJ Jiskra\, Ledečská 3028 Havlíčkův Brod
SUMMARY:VY-U16Z: TJ Jiskra Havlíčkův Brod C-Humpolec
END:VEVENT
BEGIN:VEVENT
UID:62303137-6636-4838-b233-363233326466
DTSTAMP:20260422T164606Z
DESCRIPTION:4/107 TJ Jiskra Havlíčkův Brod C - Tělovýchovná jednota Spartak
  Pelhřimov\, z.s. 0:2 (-16\,-16)
DTSTART;TZID=Europe/Berlin:20251102T090000
DTEND;TZID=Europe/Berlin:20251102T110000
LOCATION:Sportovní hala TJ Jiskra\, Ledečská 3028 Havlíčkův Brod
SUMMARY:VY-U16Z: TJ Jiskra Havlíčkův Brod C-Tělovýchovná jednota Spartak Pe
 lhřimov\, z.s.
END:VEVENT
BEGIN:VEVENT
UID:66393762-6161-4436-a265-623934303339
DTSTAMP:20260422T164606Z
DESCRIPTION:5/123 TJ Jiskra Havlíčkův Brod C - Bedřichov 1:2 (20\,-23\,-20)
DTSTART;TZID=Europe/Berlin:20251109T090000
DTEND;TZID=Europe/Berlin:20251109T110000
LOCATION:Sportovní hala TJ Jiskra\, Ledečská 3028 Havlíčkův Brod
SUMMARY:VY-U16Z: TJ Jiskra Havlíčkův Brod C-Bedřichov
END:VEVENT
BEGIN:VEVENT
UID:36653361-6161-4136-b664-353061626365
DTSTAMP:20260422T164606Z
DESCRIPTION:5/125 TJ Jiskra Havlíčkův Brod C - Tělovýchovná jednota CHS Cho
 těboř\, z.s. 2:1 (22\,-24\,9)
DTSTART;TZID=Europe/Berlin:20251109T090000
DTEND;TZID=Europe/Berlin:20251109T110000
LOCATION:Sportovní hala TJ Jiskra\, Ledečská 3028 Havlíčkův Brod
SUMMARY:VY-U16Z: TJ Jiskra Havlíčkův Brod C-Tělovýchovná jednota CHS Chotěb
 oř\, z.s.
END:VEVENT
BEGIN:VEVENT
UID:35383839-3065-4032-b332-336231373564
DTSTAMP:20260422T164606Z
DESCRIPTION:7/184 TJ Jiskra Havlíčkův Brod C - Jihlava B 2:1 (-16\,21\,17)
DTSTART;TZID=Europe/Berlin:20251123T090000
DTEND;TZID=Europe/Berlin:20251123T110000
LOCATION:Sportovní hala TJ Jiskra\, Ledečská 3028 Havlíčkův Brod
SUMMARY:VY-U16Z: TJ Jiskra Havlíčkův Brod C-Jihlava B
END:VEVENT
BEGIN:VEVENT
UID:63393863-6532-4363-a631-343162306363
DTSTAMP:20260422T164606Z
DESCRIPTION:1/20 TJ Sokol Nové Veselí B - TJ Jiskra Havlíčkův Brod C 1:2 (2
 0\,-22\,-9)
DTSTART;TZID=Europe/Berlin:20250921T090000
DTEND;TZID=Europe/Berlin:20250921T110000
LOCATION:Víceúčelová sportovní hala Nové Veselí\, Žďárská 356 Nové Veselí
SUMMARY:VY-U16Z: TJ Sokol Nové Veselí B-TJ Jiskra Havlíčkův Brod C
END:VEVENT
BEGIN:VEVENT
UID:31303634-3862-4931-b138-306465633132
DTSTAMP:20260422T164606Z
DESCRIPTION:2/38 TJ Sklo Bohemia Světlá nad Sázavou\, z.s. - TJ Jiskra Havl
 íčkův Brod C 2:0 (22\,17)
DTSTART;TZID=Europe/Berlin:20251005T090000
DTEND;TZID=Europe/Berlin:20251005T110000
LOCATION:Sportovní hala\, Komenského 1256 Světlá nad Sázavou
SUMMARY:VY-U16Z: TJ Sklo Bohemia Světlá nad Sázavou\, z.s.-TJ Jiskra Havlíč
 kův Brod C
END:VEVENT
BEGIN:VEVENT
UID:38623231-3632-4635-a364-663232326438
DTSTAMP:20260422T164606Z
DESCRIPTION:3/86 TJ Jiskra Havlíčkův Brod B - TJ Jiskra Havlíčkův Brod C 0:
 2 (-20\,-19)
DTSTART;TZID=Europe/Berlin:20251012T090000
DTEND;TZID=Europe/Berlin:20251012T110000
LOCATION:Sportovní hala TJ Jiskra\, Ledečská 3028 Havlíčkův Brod
SUMMARY:VY-U16Z: TJ Jiskra Havlíčkův Brod B-TJ Jiskra Havlíčkův Brod C
END:VEVENT
BEGIN:VEVENT
UID:62643036-6332-4863-b466-656535383735
DTSTAMP:20260422T164606Z
DESCRIPTION:4/104 Jihlava - TJ Jiskra Havlíčkův Brod C 2:0 (11\,16)
DTSTART;TZID=Europe/Berlin:20251102T090000
DTEND;TZID=Europe/Berlin:20251102T110000
LOCATION:ZŠ Jihlava Demlova\, Demlova 4178 Jihlava
SUMMARY:VY-U16Z: Jihlava-TJ Jiskra Havlíčkův Brod C
END:VEVENT
BEGIN:VEVENT
UID:31633134-6362-4466-a163-313634363837
DTSTAMP:20260422T164606Z
DESCRIPTION:5/122 Beachwell Pelhřimov - TJ Jiskra Havlíčkův Brod C 2:0 (21\
 ,11)
DTSTART;TZID=Europe/Berlin:20251109T090000
DTEND;TZID=Europe/Berlin:20251109T110000
LOCATION:Sportovní Hala\, Nádražní 1536 Pelhřimov
SUMMARY:VY-U16Z: Beachwell Pelhřimov-TJ Jiskra Havlíčkův Brod C
END:VEVENT
BEGIN:VEVENT
UID:37616132-6661-4138-b263-326639656162
DTSTAMP:20260422T164606Z
DESCRIPTION:6/162 TJ Žďár nad Sázavou - TJ Jiskra Havlíčkův Brod C 2:0 (19\
 ,19)
DTSTART;TZID=Europe/Berlin:20251123T090000
DTEND;TZID=Europe/Berlin:20251123T110000
LOCATION:Sportovní hala na Bouchalkách\, Jungmannova 1495 Žďár nad Sázavou 
 - Žďár nad Sázavou 1
SUMMARY:VY-U16Z: TJ Žďár nad Sázavou-TJ Jiskra Havlíčkův Brod C
END:VEVENT
BEGIN:VEVENT
UID:38616365-3231-4061-b664-306231373161
DTSTAMP:20260422T164606Z
DESCRIPTION:7/182 Základní škola Přibyslav - TJ Jiskra Havlíčkův Brod C 2:1
  (-17\,14\,14)
DTSTART;TZID=Europe/Berlin:20251123T090000
DTEND;TZID=Europe/Berlin:20251123T110000
LOCATION:Sportovní hala Přibyslav\, Česká 34 Přibyslav
SUMMARY:VY-U16Z: Základní škola Přibyslav-TJ Jiskra Havlíčkův Brod C
END:VEVENT
BEGIN:VEVENT
UID:32363631-3333-4663-b734-313535656437
DTSTAMP:20260422T164606Z
DESCRIPTION:1/1 TJ Jiskra Havlíčkův Brod C - TJ Sklo Bohemia Světlá nad Sáz
 avou\, z.s. 0:2 (-21\,-17)\nJiskra
DTSTART;TZID=Europe/Berlin:20260111T090000
DTEND;TZID=Europe/Berlin:20260111T110000
LOCATION:Sportovní hala TJ Jiskra\, Ledečská 3028 Havlíčkův Brod
SUMMARY:VY-U16Z-C: TJ Jiskra Havlíčkův Brod C-TJ Sklo Bohemia Světlá nad Sá
 zavou\, z.s.
END:VEVENT
BEGIN:VEVENT
UID:38353630-6365-4533-b662-613036633332
DTSTAMP:20260422T164606Z
DESCRIPTION:2/7 TJ Jiskra Havlíčkův Brod C - Tělovýchovná jednota CHS Chotě
 boř\, z.s. 1:2 (-12\,11\,-14)\nChotěboř
DTSTART;TZID=Europe/Berlin:20260125T090000
DTEND;TZID=Europe/Berlin:20260125T110000
LOCATION:Sportovní hala TJ Jiskra\, Ledečská 3028 Havlíčkův Brod
SUMMARY:VY-U16Z-C: TJ Jiskra Havlíčkův Brod C-Tělovýchovná jednota CHS Chot
 ěboř\, z.s.
END:VEVENT
BEGIN:VEVENT
UID:63356365-3565-4937-b136-343761343735
DTSTAMP:20260422T164606Z
DESCRIPTION:3/16 TJ Jiskra Havlíčkův Brod C - Tělovýchovná jednota CHS Chot
 ěboř\, z.s. 0:2 (-21\,-17)\nNové Veselí B
DTSTART;TZID=Europe/Berlin:20260215T090000
DTEND;TZID=Europe/Berlin:20260215T110000
LOCATION:Sportovní hala TJ Jiskra\, Ledečská 3028 Havlíčkův Brod
SUMMARY:VY-U16Z-C: TJ Jiskra Havlíčkův Brod C-Tělovýchovná jednota CHS Chot
 ěboř\, z.s.
END:VEVENT
BEGIN:VEVENT
UID:30343638-6165-4163-b536-373735393466
DTSTAMP:20260422T164606Z
DESCRIPTION:4/21 TJ Jiskra Havlíčkův Brod C - TJ Sokol Nové Veselí B 2:1 (-
 21\,12\,13)
DTSTART;TZID=Europe/Berlin:20260222T090000
DTEND;TZID=Europe/Berlin:20260222T110000
LOCATION:Sportovní hala TJ Jiskra\, Ledečská 3028 Havlíčkův Brod
SUMMARY:VY-U16Z-C: TJ Jiskra Havlíčkův Brod C-TJ Sokol Nové Veselí B
END:VEVENT
BEGIN:VEVENT
UID:63336535-3762-4434-a532-393263363037
DTSTAMP:20260422T164606Z
DESCRIPTION:5/25 TJ Jiskra Havlíčkův Brod C - Třebíč C 2:0 (19\,20)\nTřebíč
  C
DTSTART;TZID=Europe/Berlin:20260301T090000
DTEND;TZID=Europe/Berlin:20260301T110000
LOCATION:Sportovní hala TJ Jiskra\, Ledečská 3028 Havlíčkův Brod
SUMMARY:VY-U16Z-C: TJ Jiskra Havlíčkův Brod C-Třebíč C
END:VEVENT
BEGIN:VEVENT
UID:33316634-3935-4034-b338-653431656566
DTSTAMP:20260422T164606Z
DESCRIPTION:1/3 Humpolec - TJ Jiskra Havlíčkův Brod C 2:1 (-21\,24\,10)
DTSTART;TZID=Europe/Berlin:20260111T090000
DTEND;TZID=Europe/Berlin:20260111T110000
LOCATION:TJ Jiskra Humpolec\, Tyršovo náměstí 745 Humpolec
SUMMARY:VY-U16Z-C: Humpolec-TJ Jiskra Havlíčkův Brod C
END:VEVENT
BEGIN:VEVENT
UID:65303138-3730-4164-b639-633739383636
DTSTAMP:20260422T164606Z
DESCRIPTION:2/9 Humpolec - TJ Jiskra Havlíčkův Brod C 2:0 (22\,25)
DTSTART;TZID=Europe/Berlin:20260125T090000
DTEND;TZID=Europe/Berlin:20260125T110000
LOCATION:TJ Jiskra Humpolec\, Tyršovo náměstí 745 Humpolec
SUMMARY:VY-U16Z-C: Humpolec-TJ Jiskra Havlíčkův Brod C
END:VEVENT
BEGIN:VEVENT
UID:61636433-6437-4566-a365-383865346232
DTSTAMP:20260422T164606Z
DESCRIPTION:3/18 TJ Sokol Nové Veselí B - TJ Jiskra Havlíčkův Brod C 2:0 (1
 1\,15)
DTSTART;TZID=Europe/Berlin:20260215T090000
DTEND;TZID=Europe/Berlin:20260215T110000
LOCATION:Víceúčelová sportovní hala Nové Veselí\, Žďárská 356 Nové Veselí
SUMMARY:VY-U16Z-C: TJ Sokol Nové Veselí B-TJ Jiskra Havlíčkův Brod C
END:VEVENT
BEGIN:VEVENT
UID:30393161-6361-4736-b333-646365356665
DTSTAMP:20260422T164606Z
DESCRIPTION:4/20 TJ Sklo Bohemia Světlá nad Sázavou\, z.s. - TJ Jiskra Havl
 íčkův Brod C 0:2 (-20\,-24)
DTSTART;TZID=Europe/Berlin:20260222T090000
DTEND;TZID=Europe/Berlin:20260222T110000
LOCATION:Sportovní hala\, Komenského 1256 Světlá nad Sázavou
SUMMARY:VY-U16Z-C: TJ Sklo Bohemia Světlá nad Sázavou\, z.s.-TJ Jiskra Havl
 íčkův Brod C
END:VEVENT
BEGIN:VEVENT
UID:34636237-3336-4934-a230-356337656534
DTSTAMP:20260422T164606Z
DESCRIPTION:5/26 Třebíč C - TJ Jiskra Havlíčkův Brod C 1:2 (19\,-17\,-9)
DTSTART;TZID=Europe/Berlin:20260301T090000
DTEND;TZID=Europe/Berlin:20260301T110000
LOCATION:hala ZŠ TGM\, Komenského nám. 61 Třebíč - Horka-Domky
SUMMARY:VY-U16Z-C: Třebíč C-TJ Jiskra Havlíčkův Brod C
END:VEVENT
END:VCALENDAR
