BEGIN:VCALENDAR
VERSION:2.0
PRODID:-//TJ Jiskra Havlíčkův Brod B90139//NONSGML kigkonsult.se iCalcreator 2.41.80//
CALSCALE:GREGORIAN
UID:63653537-3031-4336-b339-383837623461
BEGIN:VEVENT
UID:31343238-3161-4139-a131-333063613162
DTSTAMP:20260421T183714Z
DESCRIPTION:1/11 Havlíčkův Brod B - Volejbalový klub Třebíč 3:2 (-23\,22\,-
 23\,18\,10)
DTSTART;TZID=Europe/Berlin:20251004T090000
DTEND;TZID=Europe/Berlin:20251004T110000
LOCATION:Sportovní hala TJ Jiskra\, Ledečská 3028 Havlíčkův Brod
SUMMARY:VY-U18Z: Havlíčkův Brod B-Volejbalový klub Třebíč
END:VEVENT
BEGIN:VEVENT
UID:63396461-6561-4839-b266-323639326234
DTSTAMP:20260421T183714Z
DESCRIPTION:2/16 Havlíčkův Brod B - Havlíčkův Brod C 0:3 (-12\,-20\,-16)\nJ
 iskra B
DTSTART;TZID=Europe/Berlin:20251108T090000
DTEND;TZID=Europe/Berlin:20251108T110000
LOCATION:Sportovní hala TJ Jiskra\, Ledečská 3028 Havlíčkův Brod
SUMMARY:VY-U18Z: Havlíčkův Brod B-Havlíčkův Brod C
END:VEVENT
BEGIN:VEVENT
UID:62323563-6439-4038-a662-326439373438
DTSTAMP:20260421T183714Z
DESCRIPTION:3/35 Havlíčkův Brod B - KCTM Vysočina 3:1 (-23\,12\,22\,22)
DTSTART;TZID=Europe/Berlin:20251101T090000
DTEND;TZID=Europe/Berlin:20251101T110000
LOCATION:Sportovní hala TJ Jiskra\, Ledečská 3028 Havlíčkův Brod
SUMMARY:VY-U18Z: Havlíčkův Brod B-KCTM Vysočina
END:VEVENT
BEGIN:VEVENT
UID:33343966-3666-4338-a361-613730643137
DTSTAMP:20260421T183714Z
DESCRIPTION:4/43 Havlíčkův Brod B - Jihlava D 3:0 (7\,9\,8)\nJiskra B
DTSTART;TZID=Europe/Berlin:20251122T090000
DTEND;TZID=Europe/Berlin:20251122T110000
LOCATION:Sportovní hala TJ Jiskra\, Ledečská 3028 Havlíčkův Brod
SUMMARY:VY-U18Z: Havlíčkův Brod B-Jihlava D
END:VEVENT
BEGIN:VEVENT
UID:61393939-3237-4565-b161-356466313935
DTSTAMP:20260421T183714Z
DESCRIPTION:5/53 Havlíčkův Brod B - Tělovýchovná jednota CHS Chotěboř\, z.s
 . 3:1 (23\,20\,-24\,15)
DTSTART;TZID=Europe/Berlin:20251206T090000
DTEND;TZID=Europe/Berlin:20251206T110000
LOCATION:Sportovní hala TJ Jiskra\, Ledečská 3028 Havlíčkův Brod
SUMMARY:VY-U18Z: Havlíčkův Brod B-Tělovýchovná jednota CHS Chotěboř\, z.s.
END:VEVENT
BEGIN:VEVENT
UID:30613163-3335-4336-b339-333830613132
DTSTAMP:20260421T183714Z
DESCRIPTION:6/65 Havlíčkův Brod B - KCTM Vysočina 3:1 (15\,-22\,13\,17)
DTSTART;TZID=Europe/Berlin:20260110T090000
DTEND;TZID=Europe/Berlin:20260110T110000
LOCATION:Sportovní hala TJ Jiskra\, Ledečská 3028 Havlíčkův Brod
SUMMARY:VY-U18Z: Havlíčkův Brod B-KCTM Vysočina
END:VEVENT
BEGIN:VEVENT
UID:63613239-6230-4464-b061-376239323531
DTSTAMP:20260421T183714Z
DESCRIPTION:7/82 Havlíčkův Brod B - Havlíčkův Brod C 0:3 (-4\,-8\,-7)\nJisk
 ra B
DTSTART;TZID=Europe/Berlin:20260124T090000
DTEND;TZID=Europe/Berlin:20260124T110000
LOCATION:Sportovní hala TJ Jiskra\, Ledečská 3028 Havlíčkův Brod
SUMMARY:VY-U18Z: Havlíčkův Brod B-Havlíčkův Brod C
END:VEVENT
BEGIN:VEVENT
UID:63666439-3137-4239-a332-303932303664
DTSTAMP:20260421T183714Z
DESCRIPTION:8/92 Havlíčkův Brod B - TJ Sklo Bohemia Světlá n. S. 0:3 (-20\,
 -13\,-14)
DTSTART;TZID=Europe/Berlin:20260207T090000
DTEND;TZID=Europe/Berlin:20260207T110000
LOCATION:Sportovní hala TJ Jiskra\, Ledečská 3028 Havlíčkův Brod
SUMMARY:VY-U18Z: Havlíčkův Brod B-TJ Sklo Bohemia Světlá n. S.
END:VEVENT
BEGIN:VEVENT
UID:32613532-6135-4030-b462-353263353834
DTSTAMP:20260421T183714Z
DESCRIPTION:9/99 Havlíčkův Brod B - Tělovýchovná jednota CHS Chotěboř\, z.s
 . 2:3 (25\,-19\,22\,-19\,-16)
DTSTART;TZID=Europe/Berlin:20260221T090000
DTEND;TZID=Europe/Berlin:20260221T110000
LOCATION:Sportovní hala TJ Jiskra\, Ledečská 3028 Havlíčkův Brod
SUMMARY:VY-U18Z: Havlíčkův Brod B-Tělovýchovná jednota CHS Chotěboř\, z.s.
END:VEVENT
BEGIN:VEVENT
UID:32313834-3137-4438-a662-643231306639
DTSTAMP:20260421T183714Z
DESCRIPTION:10/113 Havlíčkův Brod B - Volejbalový klub Třebíč 0:3 (-13\,-19
 \,-16)
DTSTART;TZID=Europe/Berlin:20260321T090000
DTEND;TZID=Europe/Berlin:20260321T110000
LOCATION:Sportovní hala TJ Jiskra\, Ledečská 3028 Havlíčkův Brod
SUMMARY:VY-U18Z: Havlíčkův Brod B-Volejbalový klub Třebíč
END:VEVENT
BEGIN:VEVENT
UID:34333766-3233-4363-a136-336131666663
DTSTAMP:20260421T183714Z
DESCRIPTION:11/121 Havlíčkův Brod B - Jihlava C 2:3 (22\,-14\,-20\,24\,-12)
 \nJiskra B
DTSTART;TZID=Europe/Berlin:20260328T090000
DTEND;TZID=Europe/Berlin:20260328T110000
LOCATION:Sportovní hala TJ Jiskra\, Ledečská 3028 Havlíčkův Brod
SUMMARY:VY-U18Z: Havlíčkův Brod B-Jihlava C
END:VEVENT
BEGIN:VEVENT
UID:33393435-3661-4139-b934-616531336261
DTSTAMP:20260421T183714Z
DESCRIPTION:1/10 TJ Sklo Bohemia Světlá n. S. - Havlíčkův Brod B 3:1 (16\,2
 0\,-15\,12)\nSvětlá ZŠ Lánecká
DTSTART;TZID=Europe/Berlin:20251004T090000
DTEND;TZID=Europe/Berlin:20251004T110000
LOCATION:Sportovní hala\, Komenského 1256 Světlá nad Sázavou
SUMMARY:VY-U18Z: TJ Sklo Bohemia Světlá n. S.-Havlíčkův Brod B
END:VEVENT
BEGIN:VEVENT
UID:36346434-3462-4139-a237-646662656134
DTSTAMP:20260421T183714Z
DESCRIPTION:2/18 SK Telč\, z.s. - Havlíčkův Brod B 1:3 (-17\,-19\,18\,-21)
DTSTART;TZID=Europe/Berlin:20251108T090000
DTEND;TZID=Europe/Berlin:20251108T110000
LOCATION:Sokol Telč\, Masarykova 222 Telč - Telč-Podolí
SUMMARY:VY-U18Z: SK Telč\, z.s.-Havlíčkův Brod B
END:VEVENT
BEGIN:VEVENT
UID:65343764-3830-4563-b633-663230663437
DTSTAMP:20260421T183714Z
DESCRIPTION:3/34 TJ Náměšť nad Oslavou z.s. - Havlíčkův Brod B 3:1 (19\,11\
 ,-20\,22)\nNáměšť
DTSTART;TZID=Europe/Berlin:20251101T090000
DTEND;TZID=Europe/Berlin:20251101T110000
LOCATION:ZŠ Komenského\, Komenského nám. 53 Náměšť nad Oslavou
SUMMARY:VY-U18Z: TJ Náměšť nad Oslavou z.s.-Havlíčkův Brod B
END:VEVENT
BEGIN:VEVENT
UID:62383130-6436-4138-a565-323439343137
DTSTAMP:20260421T183714Z
DESCRIPTION:4/45 TJ Náměšť nad Oslavou z.s. - Havlíčkův Brod B 0:3 (-21\,-2
 4\,-21)
DTSTART;TZID=Europe/Berlin:20251122T090000
DTEND;TZID=Europe/Berlin:20251122T110000
LOCATION:ZŠ Komenského\, Komenského nám. 53 Náměšť nad Oslavou
SUMMARY:VY-U18Z: TJ Náměšť nad Oslavou z.s.-Havlíčkův Brod B
END:VEVENT
BEGIN:VEVENT
UID:31386331-3363-4166-b834-373962633966
DTSTAMP:20260421T183714Z
DESCRIPTION:5/52 Humpolec - Havlíčkův Brod B 0:3 (-21\,-24\,-19)\nHumpolec
DTSTART;TZID=Europe/Berlin:20251206T090000
DTEND;TZID=Europe/Berlin:20251206T110000
LOCATION:Tělocvična Gymnázia Dr. Aleše Hrdličky\, Komenského 147 Humpolec
SUMMARY:VY-U18Z: Humpolec-Havlíčkův Brod B
END:VEVENT
BEGIN:VEVENT
UID:61336634-6161-4937-a530-656432613630
DTSTAMP:20260421T183714Z
DESCRIPTION:6/64 Základní škola Přibyslav - Havlíčkův Brod B 3:0 (19\,22\,2
 1)\nzměna poř. Jiskra B
DTSTART;TZID=Europe/Berlin:20260110T090000
DTEND;TZID=Europe/Berlin:20260110T110000
LOCATION:Sportovní hala Přibyslav\, Česká 34 Přibyslav
SUMMARY:VY-U18Z: Základní škola Přibyslav-Havlíčkův Brod B
END:VEVENT
BEGIN:VEVENT
UID:37313463-3238-4563-a432-323061653835
DTSTAMP:20260421T183714Z
DESCRIPTION:7/84 SK Telč\, z.s. - Havlíčkův Brod B 3:0 (16\,8\,19)
DTSTART;TZID=Europe/Berlin:20260124T090000
DTEND;TZID=Europe/Berlin:20260124T110000
LOCATION:Sokol Telč\, Masarykova 222 Telč - Telč-Podolí
SUMMARY:VY-U18Z: SK Telč\, z.s.-Havlíčkův Brod B
END:VEVENT
BEGIN:VEVENT
UID:33316338-6535-4366-a263-336266646437
DTSTAMP:20260421T183714Z
DESCRIPTION:8/91 Jihlava D - Havlíčkův Brod B 0:3 (-18\,-15\,-18)\nJihlava 
 D
DTSTART;TZID=Europe/Berlin:20260207T090000
DTEND;TZID=Europe/Berlin:20260207T110000
LOCATION:SŠ Stavební Jihlava\, Žižkova 1939 Jihlava
SUMMARY:VY-U18Z: Jihlava D-Havlíčkův Brod B
END:VEVENT
BEGIN:VEVENT
UID:65643537-3365-4636-a363-643230396233
DTSTAMP:20260421T183714Z
DESCRIPTION:9/98 Jihlava C - Havlíčkův Brod B 3:0 (18\,10\,19)
DTSTART;TZID=Europe/Berlin:20260221T090000
DTEND;TZID=Europe/Berlin:20260221T110000
LOCATION:SŠ Stavební Jihlava\, Žižkova 1939 Jihlava
SUMMARY:VY-U18Z: Jihlava C-Havlíčkův Brod B
END:VEVENT
BEGIN:VEVENT
UID:65666435-6432-4438-a430-303534303762
DTSTAMP:20260421T183714Z
DESCRIPTION:10/112 Základní škola Přibyslav - Havlíčkův Brod B 3:0 (13\,10\
 ,12)\nPřibyslav
DTSTART;TZID=Europe/Berlin:20260321T090000
DTEND;TZID=Europe/Berlin:20260321T110000
LOCATION:Sportovní hala Přibyslav\, Česká 34 Přibyslav
SUMMARY:VY-U18Z: Základní škola Přibyslav-Havlíčkův Brod B
END:VEVENT
BEGIN:VEVENT
UID:62393539-6661-4434-b038-656636633131
DTSTAMP:20260421T183714Z
DESCRIPTION:11/123 Humpolec - Havlíčkův Brod B 3:0 (10\,16\,14)
DTSTART;TZID=Europe/Berlin:20260328T090000
DTEND;TZID=Europe/Berlin:20260328T110000
LOCATION:Tělocvična Gymnázia Dr. Aleše Hrdličky\, Komenského 147 Humpolec
SUMMARY:VY-U18Z: Humpolec-Havlíčkův Brod B
END:VEVENT
BEGIN:VEVENT
UID:62343835-6264-4163-a564-343166653932
DTSTAMP:20260421T183714Z
DESCRIPTION:1/6 Havlíčkův Brod B - Boskovice
DTSTART;TZID=Europe/Berlin:20260502T120000
DTEND;TZID=Europe/Berlin:20260502T140000
LOCATION:Hala SOU Andre Citroena\, náměstí 9. května 2153 Boskovice
SUMMARY:2-U18Z-KC: Havlíčkův Brod B-Boskovice
END:VEVENT
BEGIN:VEVENT
UID:36333838-3266-4665-b630-396166393539
DTSTAMP:20260421T183714Z
DESCRIPTION:1/2 Nová Paka - Havlíčkův Brod B
DTSTART;TZID=Europe/Berlin:20260501T120000
DTEND;TZID=Europe/Berlin:20260501T140000
LOCATION:Hala SOU Andre Citroena\, náměstí 9. května 2153 Boskovice
SUMMARY:2-U18Z-KC: Nová Paka-Havlíčkův Brod B
END:VEVENT
BEGIN:VEVENT
UID:64376533-3036-4230-b561-633364363639
DTSTAMP:20260421T183714Z
DESCRIPTION:1/4 Lanškroun B - Havlíčkův Brod B
DTSTART;TZID=Europe/Berlin:20260501T170000
DTEND;TZID=Europe/Berlin:20260501T190000
LOCATION:Hala SOU Andre Citroena\, náměstí 9. května 2153 Boskovice
SUMMARY:2-U18Z-KC: Lanškroun B-Havlíčkův Brod B
END:VEVENT
END:VCALENDAR
