BEGIN:VCALENDAR
VERSION:2.0
PRODID:-//Red Volley Frýdlant n/O, z.s.90164//NONSGML kigkonsult.se iCalcreator 2.41.80//
CALSCALE:GREGORIAN
UID:63383830-3232-4938-b033-626363326336
BEGIN:VEVENT
UID:36343631-6235-4435-a633-653638353361
DTSTAMP:20260422T211403Z
DESCRIPTION:1/2 Red Frýdlant n/O - Happy Sport Opava 2:0 (13\,13)
DTSTART;TZID=Europe/Berlin:20251005T093000
DTEND;TZID=Europe/Berlin:20251005T113000
LOCATION:ZŠ Košaře\, Václava Košaře 121 Ostrava - Dubina
SUMMARY:MS-U16M-KVB: Red Frýdlant n/O-Happy Sport Opava
END:VEVENT
BEGIN:VEVENT
UID:64326635-3865-4464-a365-656263303338
DTSTAMP:20260422T211403Z
DESCRIPTION:2/3 Red Frýdlant n/O - TJ Hlučín 2:0 (8\,7)
DTSTART;TZID=Europe/Berlin:20251005T110000
DTEND;TZID=Europe/Berlin:20251005T130000
LOCATION:ZŠ Košaře\, Václava Košaře 121 Ostrava - Dubina
SUMMARY:MS-U16M-KVB: Red Frýdlant n/O-TJ Hlučín
END:VEVENT
BEGIN:VEVENT
UID:36323039-3063-4363-b666-393032653730
DTSTAMP:20260422T211403Z
DESCRIPTION:3/5 Blue Ostrava - Red Frýdlant n/O 0:2 (-17\,-19)
DTSTART;TZID=Europe/Berlin:20251005T123000
DTEND;TZID=Europe/Berlin:20251005T143000
LOCATION:ZŠ Košaře\, Václava Košaře 121 Ostrava - Dubina
SUMMARY:MS-U16M-KVB: Blue Ostrava-Red Frýdlant n/O
END:VEVENT
BEGIN:VEVENT
UID:65373238-6561-4563-b663-623735303432
DTSTAMP:20260422T211403Z
DESCRIPTION:4/6 Red Frýdlant n/O - VK Rousínov z.s. 0:2 (-24\,-17)
DTSTART;TZID=Europe/Berlin:20250927T140000
DTEND;TZID=Europe/Berlin:20250927T160000
LOCATION:Komenského\, Komenského 420 Frýdlant nad Ostravicí - Frýdlant
SUMMARY:CP-U16M-V1A: Red Frýdlant n/O-VK Rousínov z.s.
END:VEVENT
BEGIN:VEVENT
UID:38636236-3935-4137-b030-376436646266
DTSTAMP:20260422T211403Z
DESCRIPTION:7/10 Red Frýdlant n/O - VK Brno\, z.s. 0:2 (-18\,-8)
DTSTART;TZID=Europe/Berlin:20250927T170000
DTEND;TZID=Europe/Berlin:20250927T190000
LOCATION:Komenského\, Komenského 420 Frýdlant nad Ostravicí - Frýdlant
SUMMARY:CP-U16M-V1A: Red Frýdlant n/O-VK Brno\, z.s.
END:VEVENT
BEGIN:VEVENT
UID:62663638-3238-4665-a335-353163363636
DTSTAMP:20260422T211403Z
DESCRIPTION:14/21 Red Frýdlant n/O - Volejbal Ostrava 2:0 (17\,10)
DTSTART;TZID=Europe/Berlin:20250928T130000
DTEND;TZID=Europe/Berlin:20250928T150000
LOCATION:Komenského\, Komenského 420 Frýdlant nad Ostravicí - Frýdlant
SUMMARY:CP-U16M-V1A: Red Frýdlant n/O-Volejbal Ostrava
END:VEVENT
BEGIN:VEVENT
UID:62613161-6266-4463-b834-383062633138
DTSTAMP:20260422T211403Z
DESCRIPTION:1/1 VSC Zlín - Red Frýdlant n/O 2:0 (20\,18)
DTSTART;TZID=Europe/Berlin:20250927T110000
DTEND;TZID=Europe/Berlin:20250927T130000
LOCATION:ZŠ Okružní Zlín\, Okružní 4685 Zlín
SUMMARY:CP-U16M-V1A: VSC Zlín-Red Frýdlant n/O
END:VEVENT
BEGIN:VEVENT
UID:65613039-3938-4333-a131-663438363730
DTSTAMP:20260422T211403Z
DESCRIPTION:5/8 VK Ostrava - Red Frýdlant n/O 2:0 (17\,25)
DTSTART;TZID=Europe/Berlin:20250927T150000
DTEND;TZID=Europe/Berlin:20250927T170000
LOCATION:Hala Střední zdravotní školy\, 1. máje 2208 Ostrava - Mariánské Ho
 ry
SUMMARY:CP-U16M-V1A: VK Ostrava-Red Frýdlant n/O
END:VEVENT
BEGIN:VEVENT
UID:63613537-6434-4439-b133-373437303832
DTSTAMP:20260422T211403Z
DESCRIPTION:11/16 Vlci Nový Jičín - Red Frýdlant n/O 1:2 (-17\,21\,-13)
DTSTART;TZID=Europe/Berlin:20250928T100000
DTEND;TZID=Europe/Berlin:20250928T120000
LOCATION:Hala ABC\, Purkyňova 116 Nový Jičín
SUMMARY:CP-U16M-V1A: Vlci Nový Jičín-Red Frýdlant n/O
END:VEVENT
BEGIN:VEVENT
UID:64633134-3165-4635-a466-353833666135
DTSTAMP:20260422T211403Z
DESCRIPTION:2/6 Red Frýdlant n/O - TJ Jiskra Havlíčkův Brod 2:0 (23\,7)\no 
 11-12. místo A6-B6
DTSTART;TZID=Europe/Berlin:20250928T150000
DTEND;TZID=Europe/Berlin:20250928T170000
LOCATION:Komenského\, Komenského 420 Frýdlant nad Ostravicí - Frýdlant
SUMMARY:CP-U16M-V1C: Red Frýdlant n/O-TJ Jiskra Havlíčkův Brod
END:VEVENT
BEGIN:VEVENT
UID:31366238-6230-4434-b366-636636663032
DTSTAMP:20260422T211403Z
DESCRIPTION:2/2 Red Frýdlant n/O - TJ Jiskra Havlíčkův Brod 2:0 (9\,12)
DTSTART;TZID=Europe/Berlin:20251025T110000
DTEND;TZID=Europe/Berlin:20251025T130000
LOCATION:Sportovní hala TJ Jiskra\, Ledečská 3028 Havlíčkův Brod
SUMMARY:CP-U16M-V2B: Red Frýdlant n/O-TJ Jiskra Havlíčkův Brod
END:VEVENT
BEGIN:VEVENT
UID:37373434-6235-4832-b865-663439333931
DTSTAMP:20260422T211403Z
DESCRIPTION:5/9 Red Frýdlant n/O - Spartak Velké Meziříčí 1:2 (18\,-22\,-13
 )
DTSTART;TZID=Europe/Berlin:20251025T140000
DTEND;TZID=Europe/Berlin:20251025T160000
LOCATION:Sportovní hala TJ Jiskra\, Ledečská 3028 Havlíčkův Brod
SUMMARY:CP-U16M-V2B: Red Frýdlant n/O-Spartak Velké Meziříčí
END:VEVENT
BEGIN:VEVENT
UID:32333462-3935-4365-b661-343034393461
DTSTAMP:20260422T211403Z
DESCRIPTION:3/6 Volejbal Ostrava - Red Frýdlant n/O 0:2 (-15\,-13)
DTSTART;TZID=Europe/Berlin:20251025T120000
DTEND;TZID=Europe/Berlin:20251025T140000
LOCATION:Sportovní hala TJ Jiskra\, Ledečská 3028 Havlíčkův Brod
SUMMARY:CP-U16M-V2B: Volejbal Ostrava-Red Frýdlant n/O
END:VEVENT
BEGIN:VEVENT
UID:34653666-6234-4236-b432-316333376461
DTSTAMP:20260422T211403Z
DESCRIPTION:6/10 SK Kojetín 2016\, z.s. - Red Frýdlant n/O 2:0 (20\,25)
DTSTART;TZID=Europe/Berlin:20251025T150000
DTEND;TZID=Europe/Berlin:20251025T170000
LOCATION:Sportovní hala TJ Jiskra\, Ledečská 3028 Havlíčkův Brod
SUMMARY:CP-U16M-V2B: SK Kojetín 2016\, z.s.-Red Frýdlant n/O
END:VEVENT
BEGIN:VEVENT
UID:34376638-3537-4136-b832-393135303865
DTSTAMP:20260422T211403Z
DESCRIPTION:8/15 Blue Ostrava - Red Frýdlant n/O 0:2 (-7\,-19)
DTSTART;TZID=Europe/Berlin:20251026T100000
DTEND;TZID=Europe/Berlin:20251026T120000
LOCATION:Sportovní hala TJ Jiskra\, Ledečská 3028 Havlíčkův Brod
SUMMARY:CP-U16M-V2B: Blue Ostrava-Red Frýdlant n/O
END:VEVENT
BEGIN:VEVENT
UID:31343736-3862-4461-a332-306131306532
DTSTAMP:20260422T211403Z
DESCRIPTION:9/16 Vlci Nový Jičín - Red Frýdlant n/O 0:2 (-10\,-21)
DTSTART;TZID=Europe/Berlin:20251026T110000
DTEND;TZID=Europe/Berlin:20251026T130000
LOCATION:Sportovní hala TJ Jiskra\, Ledečská 3028 Havlíčkův Brod
SUMMARY:CP-U16M-V2B: Vlci Nový Jičín-Red Frýdlant n/O
END:VEVENT
BEGIN:VEVENT
UID:32316632-3632-4263-b062-313936346536
DTSTAMP:20260422T211403Z
DESCRIPTION:1/1 Red Frýdlant n/O - Green F-M 1:2 (-19\,22\,-9)
DTSTART;TZID=Europe/Berlin:20251102T090000
DTEND;TZID=Europe/Berlin:20251102T110000
LOCATION:Tělocvična ZŠ TGM FNO\, Nám. T. G. Masaryka 1260 Frýdlant nad Ostr
 avicí - Frýdlant
SUMMARY:MS-U16M-T1A: Red Frýdlant n/O-Green F-M
END:VEVENT
BEGIN:VEVENT
UID:32386563-6135-4635-a232-633731663064
DTSTAMP:20260422T211403Z
DESCRIPTION:2/4 Red Frýdlant n/O - SK Kojetín 2016 1:2 (-18\,20\,-14)
DTSTART;TZID=Europe/Berlin:20251102T103000
DTEND;TZID=Europe/Berlin:20251102T123000
LOCATION:Tělocvična ZŠ TGM FNO\, Nám. T. G. Masaryka 1260 Frýdlant nad Ostr
 avicí - Frýdlant
SUMMARY:MS-U16M-T1A: Red Frýdlant n/O-SK Kojetín 2016
END:VEVENT
BEGIN:VEVENT
UID:36623537-6131-4631-b064-393561323136
DTSTAMP:20260422T211403Z
DESCRIPTION:3/5 Red Frýdlant n/O - VK Ostrava 0:2 (-15\,-22)
DTSTART;TZID=Europe/Berlin:20251102T120000
DTEND;TZID=Europe/Berlin:20251102T140000
LOCATION:Tělocvična ZŠ TGM FNO\, Nám. T. G. Masaryka 1260 Frýdlant nad Ostr
 avicí - Frýdlant
SUMMARY:MS-U16M-T1A: Red Frýdlant n/O-VK Ostrava
END:VEVENT
BEGIN:VEVENT
UID:37303262-3862-4663-b264-356430353934
DTSTAMP:20260422T211403Z
DESCRIPTION:6/11 Red Frýdlant n/O - VSC Zlín 2:0 (15\,9)
DTSTART;TZID=Europe/Berlin:20251129T140000
DTEND;TZID=Europe/Berlin:20251129T160000
LOCATION:ZŠ Košaře\, Václava Košaře 121 Ostrava - Dubina
SUMMARY:CP-U16M-3VB: Red Frýdlant n/O-VSC Zlín
END:VEVENT
BEGIN:VEVENT
UID:34653538-3665-4430-b736-633266316365
DTSTAMP:20260422T211403Z
DESCRIPTION:9/18 Red Frýdlant n/O - Vlci Nový Jičín 2:0 (8\,14)
DTSTART;TZID=Europe/Berlin:20251130T100000
DTEND;TZID=Europe/Berlin:20251130T120000
LOCATION:ZŠ Košaře\, Václava Košaře 121 Ostrava - Dubina
SUMMARY:CP-U16M-3VB: Red Frýdlant n/O-Vlci Nový Jičín
END:VEVENT
BEGIN:VEVENT
UID:64366363-3435-4433-a639-376565333439
DTSTAMP:20260422T211403Z
DESCRIPTION:10/20 Red Frýdlant n/O - TJ Jiskra Havlíčkův Brod 2:0 (23\,14)
DTSTART;TZID=Europe/Berlin:20251130T110000
DTEND;TZID=Europe/Berlin:20251130T130000
LOCATION:ZŠ Košaře\, Václava Košaře 121 Ostrava - Dubina
SUMMARY:CP-U16M-3VB: Red Frýdlant n/O-TJ Jiskra Havlíčkův Brod
END:VEVENT
BEGIN:VEVENT
UID:36366434-3463-4962-b465-373361306533
DTSTAMP:20260422T211403Z
DESCRIPTION:1/2 Volejbal Ostrava - Red Frýdlant n/O 0:2 (-8\,-12)
DTSTART;TZID=Europe/Berlin:20251129T090000
DTEND;TZID=Europe/Berlin:20251129T110000
LOCATION:ZŠ Košaře\, Václava Košaře 121 Ostrava - Dubina
SUMMARY:CP-U16M-3VB: Volejbal Ostrava-Red Frýdlant n/O
END:VEVENT
BEGIN:VEVENT
UID:34396130-6136-4738-a261-393932303035
DTSTAMP:20260422T211403Z
DESCRIPTION:2/4 VK Rousínov z.s. - Red Frýdlant n/O 2:1 (-10\,21\,7)
DTSTART;TZID=Europe/Berlin:20251129T100000
DTEND;TZID=Europe/Berlin:20251129T120000
LOCATION:ZŠ Košaře\, Václava Košaře 121 Ostrava - Dubina
SUMMARY:CP-U16M-3VB: VK Rousínov z.s.-Red Frýdlant n/O
END:VEVENT
BEGIN:VEVENT
UID:63393836-6637-4130-a461-383361303965
DTSTAMP:20260422T211403Z
DESCRIPTION:4/7 Blue Ostrava - Red Frýdlant n/O 0:2 (-15\,-17)
DTSTART;TZID=Europe/Berlin:20251129T120000
DTEND;TZID=Europe/Berlin:20251129T140000
LOCATION:ZŠ Košaře\, Václava Košaře 121 Ostrava - Dubina
SUMMARY:CP-U16M-3VB: Blue Ostrava-Red Frýdlant n/O
END:VEVENT
BEGIN:VEVENT
UID:30653965-6237-4735-b064-353763373035
DTSTAMP:20260422T211403Z
DESCRIPTION:1/1 Red Frýdlant n/O - VAM Olomouc 2:0 (13\,11)
DTSTART;TZID=Europe/Berlin:20251123T090000
DTEND;TZID=Europe/Berlin:20251123T110000
LOCATION:Tělocvična ZŠ TGM FNO\, Nám. T. G. Masaryka 1260 Frýdlant nad Ostr
 avicí - Frýdlant
SUMMARY:MS-U16M-T2B: Red Frýdlant n/O-VAM Olomouc
END:VEVENT
BEGIN:VEVENT
UID:65326432-3663-4233-b566-366262663138
DTSTAMP:20260422T211403Z
DESCRIPTION:2/4 Red Frýdlant n/O - Blue Ostrava 2:0 (17\,11)
DTSTART;TZID=Europe/Berlin:20251123T100000
DTEND;TZID=Europe/Berlin:20251123T120000
LOCATION:Tělocvična ZŠ TGM FNO\, Nám. T. G. Masaryka 1260 Frýdlant nad Ostr
 avicí - Frýdlant
SUMMARY:MS-U16M-T2B: Red Frýdlant n/O-Blue Ostrava
END:VEVENT
BEGIN:VEVENT
UID:37363461-6164-4766-a138-353332616162
DTSTAMP:20260422T211403Z
DESCRIPTION:3/5 Red Frýdlant n/O - VK Valašské Meziříčí 2:0 (20\,24)
DTSTART;TZID=Europe/Berlin:20251123T110000
DTEND;TZID=Europe/Berlin:20251123T130000
LOCATION:Tělocvična ZŠ TGM FNO\, Nám. T. G. Masaryka 1260 Frýdlant nad Ostr
 avicí - Frýdlant
SUMMARY:MS-U16M-T2B: Red Frýdlant n/O-VK Valašské Meziříčí
END:VEVENT
BEGIN:VEVENT
UID:31623938-3033-4139-b038-353132303066
DTSTAMP:20260422T211403Z
DESCRIPTION:1/1 VK Ostrava - Red Frýdlant n/O 2:1 (-23\,20\,2)
DTSTART;TZID=Europe/Berlin:20251214T090000
DTEND;TZID=Europe/Berlin:20251214T110000
LOCATION:Tělocvična ZŠ TGM FNO\, Nám. T. G. Masaryka 1260 Frýdlant nad Ostr
 avicí - Frýdlant
SUMMARY:MS-U16M-T3A: VK Ostrava-Red Frýdlant n/O
END:VEVENT
BEGIN:VEVENT
UID:36383266-6165-4333-a332-333662303964
DTSTAMP:20260422T211403Z
DESCRIPTION:2/3 Green F-M - Red Frýdlant n/O 1:2 (24\,-17\,-10)
DTSTART;TZID=Europe/Berlin:20251214T100000
DTEND;TZID=Europe/Berlin:20251214T120000
LOCATION:Tělocvična ZŠ TGM FNO\, Nám. T. G. Masaryka 1260 Frýdlant nad Ostr
 avicí - Frýdlant
SUMMARY:MS-U16M-T3A: Green F-M-Red Frýdlant n/O
END:VEVENT
BEGIN:VEVENT
UID:35636462-3239-4535-a165-633631643865
DTSTAMP:20260422T211403Z
DESCRIPTION:3/6 SK Kojetín 2016 - Red Frýdlant n/O 0:2 (-18\,-18)
DTSTART;TZID=Europe/Berlin:20251214T110000
DTEND;TZID=Europe/Berlin:20251214T130000
LOCATION:Tělocvična ZŠ TGM FNO\, Nám. T. G. Masaryka 1260 Frýdlant nad Ostr
 avicí - Frýdlant
SUMMARY:MS-U16M-T3A: SK Kojetín 2016-Red Frýdlant n/O
END:VEVENT
BEGIN:VEVENT
UID:36353261-6662-4933-b563-646436646137
DTSTAMP:20260422T211403Z
DESCRIPTION:3/5 Red Frýdlant n/O - VSC Zlín 2:0 (15\,25)
DTSTART;TZID=Europe/Berlin:20251220T113000
DTEND;TZID=Europe/Berlin:20251220T133000
LOCATION:Komenského\, Komenského 420 Frýdlant nad Ostravicí - Frýdlant
SUMMARY:CP-U16M-4C: Red Frýdlant n/O-VSC Zlín
END:VEVENT
BEGIN:VEVENT
UID:64623334-3339-4238-b032-613362653361
DTSTAMP:20260422T211403Z
DESCRIPTION:4/7 Red Frýdlant n/O - Kladno 0:2 (-17\,-17)
DTSTART;TZID=Europe/Berlin:20251220T124500
DTEND;TZID=Europe/Berlin:20251220T144500
LOCATION:Komenského\, Komenského 420 Frýdlant nad Ostravicí - Frýdlant
SUMMARY:CP-U16M-4C: Red Frýdlant n/O-Kladno
END:VEVENT
BEGIN:VEVENT
UID:34616539-6433-4537-b161-366466333338
DTSTAMP:20260422T211403Z
DESCRIPTION:8/15 Red Frýdlant n/O - Orion Praha 0:2 (-14\,-15)
DTSTART;TZID=Europe/Berlin:20251220T174500
DTEND;TZID=Europe/Berlin:20251220T194500
LOCATION:Komenského\, Komenského 420 Frýdlant nad Ostravicí - Frýdlant
SUMMARY:CP-U16M-4C: Red Frýdlant n/O-Orion Praha
END:VEVENT
BEGIN:VEVENT
UID:65366138-3033-4230-b164-393062336362
DTSTAMP:20260422T211403Z
DESCRIPTION:9/18 Red Frýdlant n/O - SKV Ústí n. L. 2:1 (-21\,20\,9)
DTSTART;TZID=Europe/Berlin:20251221T090000
DTEND;TZID=Europe/Berlin:20251221T110000
LOCATION:Komenského\, Komenského 420 Frýdlant nad Ostravicí - Frýdlant
SUMMARY:CP-U16M-4C: Red Frýdlant n/O-SKV Ústí n. L.
END:VEVENT
BEGIN:VEVENT
UID:37393833-3862-4239-b435-626539616564
DTSTAMP:20260422T211403Z
DESCRIPTION:6/12 VK Lvi Praha A - Red Frýdlant n/O 2:1 (-21\,15\,2)
DTSTART;TZID=Europe/Berlin:20251220T151500
DTEND;TZID=Europe/Berlin:20251220T171500
LOCATION:FZŠ Brdičkova\, Brdičkova 1878 Praha - Stodůlky
SUMMARY:CP-U16M-4C: VK Lvi Praha A-Red Frýdlant n/O
END:VEVENT
BEGIN:VEVENT
UID:63396130-3363-4561-b665-396561376132
DTSTAMP:20260422T211403Z
DESCRIPTION:10/20 VK Jirkov - Red Frýdlant n/O 2:0 (22\,19)
DTSTART;TZID=Europe/Berlin:20251221T101500
DTEND;TZID=Europe/Berlin:20251221T121500
LOCATION:sportovní hala MGZŠ Krušnohorská Jirkov Jirkov\, Krušnohorská 1675
SUMMARY:CP-U16M-4C: VK Jirkov-Red Frýdlant n/O
END:VEVENT
BEGIN:VEVENT
UID:61613733-6538-4231-b934-613737386166
DTSTAMP:20260422T211403Z
DESCRIPTION:12/24 VK Karlovarsko\, z.s. - Red Frýdlant n/O 2:1 (-9\,20\,12)
DTSTART;TZID=Europe/Berlin:20251221T124500
DTEND;TZID=Europe/Berlin:20251221T144500
LOCATION:Mattoni Arena Hala míčových sportů\, Západní 1812 Karlovy Vary
SUMMARY:CP-U16M-4C: VK Karlovarsko\, z.s.-Red Frýdlant n/O
END:VEVENT
BEGIN:VEVENT
UID:34316533-6339-4431-a163-303430326432
DTSTAMP:20260422T211403Z
DESCRIPTION:1/2 Red Frýdlant n/O - Green F-M 0:2 (-17\,-19)
DTSTART;TZID=Europe/Berlin:20260201T090000
DTEND;TZID=Europe/Berlin:20260201T110000
LOCATION:Sportovní hala Ostrava -Třebovice\, 5. května 5649 Ostrava - Třebo
 vice
SUMMARY:MS-U16M-T4A: Red Frýdlant n/O-Green F-M
END:VEVENT
BEGIN:VEVENT
UID:38356236-3965-4163-b763-366332323361
DTSTAMP:20260422T211403Z
DESCRIPTION:2/3 Red Frýdlant n/O - Vlci Nový Jičín 2:0 (15\,18)
DTSTART;TZID=Europe/Berlin:20260201T100000
DTEND;TZID=Europe/Berlin:20260201T120000
LOCATION:Sportovní hala Ostrava -Třebovice\, 5. května 5649 Ostrava - Třebo
 vice
SUMMARY:MS-U16M-T4A: Red Frýdlant n/O-Vlci Nový Jičín
END:VEVENT
BEGIN:VEVENT
UID:30613163-6365-4963-b164-343736393134
DTSTAMP:20260422T211403Z
DESCRIPTION:3/5 VK Ostrava - Red Frýdlant n/O 2:0 (11\,18)
DTSTART;TZID=Europe/Berlin:20260201T110000
DTEND;TZID=Europe/Berlin:20260201T130000
LOCATION:Sportovní hala Ostrava -Třebovice\, 5. května 5649 Ostrava - Třebo
 vice
SUMMARY:MS-U16M-T4A: VK Ostrava-Red Frýdlant n/O
END:VEVENT
BEGIN:VEVENT
UID:35373037-6336-4232-b738-656465353166
DTSTAMP:20260422T211403Z
DESCRIPTION:3/8 Red Frýdlant n/O - Č. Krumlov A 2:0 (14\,18)
DTSTART;TZID=Europe/Berlin:20260207T140000
DTEND;TZID=Europe/Berlin:20260207T160000
LOCATION:Sportovní hala MG a ZŠ Jirkov\, Krušnohorská 1675 Jirkov
SUMMARY:CP-U16M-5C: Red Frýdlant n/O-Č. Krumlov A
END:VEVENT
BEGIN:VEVENT
UID:35396265-3131-4764-b966-323364366139
DTSTAMP:20260422T211403Z
DESCRIPTION:5/15 Red Frýdlant n/O - SK Volejbal Klatovy\, z.s. 1:2 (20\,-23
 \,-6)
DTSTART;TZID=Europe/Berlin:20260207T170000
DTEND;TZID=Europe/Berlin:20260207T190000
LOCATION:Sportovní hala MG a ZŠ Jirkov\, Krušnohorská 1675 Jirkov
SUMMARY:CP-U16M-5C: Red Frýdlant n/O-SK Volejbal Klatovy\, z.s.
END:VEVENT
BEGIN:VEVENT
UID:65303034-3737-4635-b539-306638613061
DTSTAMP:20260422T211403Z
DESCRIPTION:9/24 Red Frýdlant n/O - Spartak Velké Meziříčí 2:0 (20\,22)
DTSTART;TZID=Europe/Berlin:20260208T120000
DTEND;TZID=Europe/Berlin:20260208T140000
LOCATION:Sportovní hala MG a ZŠ Jirkov\, Krušnohorská 1675 Jirkov
SUMMARY:CP-U16M-5C: Red Frýdlant n/O-Spartak Velké Meziříčí
END:VEVENT
BEGIN:VEVENT
UID:30626438-3230-4836-b538-376535366364
DTSTAMP:20260422T211403Z
DESCRIPTION:1/2 SK Kojetín 2016\, z.s. - Red Frýdlant n/O 0:2 (-21\,-17)
DTSTART;TZID=Europe/Berlin:20260207T093000
DTEND;TZID=Europe/Berlin:20260207T113000
LOCATION:Sportovní hala MG a ZŠ Jirkov\, Krušnohorská 1675 Jirkov
SUMMARY:CP-U16M-5C: SK Kojetín 2016\, z.s.-Red Frýdlant n/O
END:VEVENT
BEGIN:VEVENT
UID:33376264-3230-4565-b562-303465373164
DTSTAMP:20260422T211403Z
DESCRIPTION:4/10 Kladno - Red Frýdlant n/O 2:1 (23\,-14\,9)
DTSTART;TZID=Europe/Berlin:20260207T153000
DTEND;TZID=Europe/Berlin:20260207T173000
LOCATION:Sportovní hala MG a ZŠ Jirkov\, Krušnohorská 1675 Jirkov
SUMMARY:CP-U16M-5C: Kladno-Red Frýdlant n/O
END:VEVENT
BEGIN:VEVENT
UID:63333030-3163-4732-a162-353537346430
DTSTAMP:20260422T211403Z
DESCRIPTION:7/17 SKV Ústí n. L. - Red Frýdlant n/O 1:2 (23\,-17\,-6)
DTSTART;TZID=Europe/Berlin:20260208T090000
DTEND;TZID=Europe/Berlin:20260208T110000
LOCATION:Sportovní hala MG a ZŠ Jirkov\, Krušnohorská 1675 Jirkov
SUMMARY:CP-U16M-5C: SKV Ústí n. L.-Red Frýdlant n/O
END:VEVENT
BEGIN:VEVENT
UID:36396461-6536-4339-a138-323362656437
DTSTAMP:20260422T211403Z
DESCRIPTION:8/20 VK Jirkov - Red Frýdlant n/O 2:1 (16\,-18\,12)
DTSTART;TZID=Europe/Berlin:20260208T103000
DTEND;TZID=Europe/Berlin:20260208T123000
LOCATION:Sportovní hala MG a ZŠ Jirkov\, Krušnohorská 1675 Jirkov
SUMMARY:CP-U16M-5C: VK Jirkov-Red Frýdlant n/O
END:VEVENT
BEGIN:VEVENT
UID:66303964-3966-4463-a133-636264303863
DTSTAMP:20260422T211403Z
DESCRIPTION:3/6 Red Frýdlant n/O - SK Kojetín 2016 2:0 (20\,23)
DTSTART;TZID=Europe/Berlin:20260314T110000
DTEND;TZID=Europe/Berlin:20260314T130000
LOCATION:Sportovní hala Palkovice\,  Palkovice20
SUMMARY:MS-U16M-T5A: Red Frýdlant n/O-SK Kojetín 2016
END:VEVENT
BEGIN:VEVENT
UID:66623866-3030-4239-b839-643539633262
DTSTAMP:20260422T211403Z
DESCRIPTION:1/2 Green F-M - Red Frýdlant n/O 2:0 (17\,18)
DTSTART;TZID=Europe/Berlin:20260314T090000
DTEND;TZID=Europe/Berlin:20260314T110000
LOCATION:Sportovní hala Palkovice\,  Palkovice20
SUMMARY:MS-U16M-T5A: Green F-M-Red Frýdlant n/O
END:VEVENT
BEGIN:VEVENT
UID:66613465-3133-4138-a266-376665313962
DTSTAMP:20260422T211403Z
DESCRIPTION:2/4 VK Ostrava - Red Frýdlant n/O 2:0 (16\,16)
DTSTART;TZID=Europe/Berlin:20260314T100000
DTEND;TZID=Europe/Berlin:20260314T120000
LOCATION:Sportovní hala Palkovice\,  Palkovice20
SUMMARY:MS-U16M-T5A: VK Ostrava-Red Frýdlant n/O
END:VEVENT
BEGIN:VEVENT
UID:65393635-6538-4334-b766-616331653933
DTSTAMP:20260422T211403Z
DESCRIPTION:3/3 Red Frýdlant n/O - SKV Ústí n. L. 2:0 (22\,17)
DTSTART;TZID=Europe/Berlin:20260321T093000
DTEND;TZID=Europe/Berlin:20260321T113000
LOCATION:TJ Slavia Hradec Králové\, Víta Nejedlého 1216 Hradec Králové
SUMMARY:CP-U16M-6E: Red Frýdlant n/O-SKV Ústí n. L.
END:VEVENT
BEGIN:VEVENT
UID:30353533-3637-4632-b635-623665313464
DTSTAMP:20260422T211403Z
DESCRIPTION:1/1 VK TROX Příbram - Red Frýdlant n/O 2:0 (11\,21)
DTSTART;TZID=Europe/Berlin:20260320T145000
DTEND;TZID=Europe/Berlin:20260320T165000
LOCATION:TJ Slavia Hradec Králové\, Víta Nejedlého 1216 Hradec Králové
SUMMARY:CP-U16M-6E: VK TROX Příbram-Red Frýdlant n/O
END:VEVENT
BEGIN:VEVENT
UID:61653261-3739-4861-b861-303133663237
DTSTAMP:20260422T211403Z
DESCRIPTION:5/5 TJ ABC Braník\, z.s. - Red Frýdlant n/O 1:2 (-11\,13\,-14)
DTSTART;TZID=Europe/Berlin:20260321T120000
DTEND;TZID=Europe/Berlin:20260321T140000
LOCATION:TJ Slavia Hradec Králové\, Víta Nejedlého 1216 Hradec Králové
SUMMARY:CP-U16M-6E: TJ ABC Braník\, z.s.-Red Frýdlant n/O
END:VEVENT
BEGIN:VEVENT
UID:62613566-6230-4161-b365-636230373064
DTSTAMP:20260422T211403Z
DESCRIPTION:1/2 Red Frýdlant n/O - VSC Zlín 2:0 (23\,21)\nE2-F3
DTSTART;TZID=Europe/Berlin:20260321T144500
DTEND;TZID=Europe/Berlin:20260321T164500
LOCATION:TJ Slavia Hradec Králové\, Víta Nejedlého 1216 Hradec Králové
SUMMARY:CP-U16M-P3: Red Frýdlant n/O-VSC Zlín
END:VEVENT
BEGIN:VEVENT
UID:62313932-6430-4939-b132-303132613539
DTSTAMP:20260422T211403Z
DESCRIPTION:2/8 Red Frýdlant n/O - Orion Praha 0:2 (-5\,-18)\nsemifinále 1 
 (3.os.)
DTSTART;TZID=Europe/Berlin:20260321T171500
DTEND;TZID=Europe/Berlin:20260321T191500
LOCATION:TJ Slavia Hradec Králové\, Víta Nejedlého 1216 Hradec Králové
SUMMARY:CP-U16M-P3: Red Frýdlant n/O-Orion Praha
END:VEVENT
BEGIN:VEVENT
UID:63336431-3036-4436-b339-353539323432
DTSTAMP:20260422T211403Z
DESCRIPTION:3/11 Red Frýdlant n/O - SKV Ústí n. L. 2:0 (22\,19)\nFinále 19-
 20
DTSTART;TZID=Europe/Berlin:20260322T103000
DTEND;TZID=Europe/Berlin:20260322T123000
LOCATION:TJ Slavia Hradec Králové\, Víta Nejedlého 1216 Hradec Králové
SUMMARY:CP-U16M-P3: Red Frýdlant n/O-SKV Ústí n. L.
END:VEVENT
BEGIN:VEVENT
UID:61303039-3532-4034-a162-356337633064
DTSTAMP:20260422T211403Z
DESCRIPTION:3/6 Red Frýdlant n/O - VK Valašské Meziříčí 2:0 (20\,15)
DTSTART;TZID=Europe/Berlin:20260329T110000
DTEND;TZID=Europe/Berlin:20260329T130000
LOCATION:Sportovní hala Palkovice\,  Palkovice20
SUMMARY:MS-U16M-T6A: Red Frýdlant n/O-VK Valašské Meziříčí
END:VEVENT
BEGIN:VEVENT
UID:38646263-6330-4233-b038-396263383833
DTSTAMP:20260422T211403Z
DESCRIPTION:1/2 VK Ostrava - Red Frýdlant n/O 2:0 (26\,19)
DTSTART;TZID=Europe/Berlin:20260329T090000
DTEND;TZID=Europe/Berlin:20260329T110000
LOCATION:Sportovní hala Palkovice\,  Palkovice20
SUMMARY:MS-U16M-T6A: VK Ostrava-Red Frýdlant n/O
END:VEVENT
BEGIN:VEVENT
UID:61323439-6530-4566-b830-356561383866
DTSTAMP:20260422T211403Z
DESCRIPTION:2/4 Green F-M - Red Frýdlant n/O 2:0 (21\,15)
DTSTART;TZID=Europe/Berlin:20260329T100000
DTEND;TZID=Europe/Berlin:20260329T120000
LOCATION:Sportovní hala Palkovice\,  Palkovice20
SUMMARY:MS-U16M-T6A: Green F-M-Red Frýdlant n/O
END:VEVENT
BEGIN:VEVENT
UID:35653433-3238-4034-b131-393436346336
DTSTAMP:20260422T211403Z
DESCRIPTION:3/6 Red Frýdlant n/O - Blue Ostrava 2:0 (14\,14)
DTSTART;TZID=Europe/Berlin:20260412T110000
DTEND;TZID=Europe/Berlin:20260412T130000
LOCATION:Tělocvična ZŠ TGM FNO\, Nám. T. G. Masaryka 1260 Frýdlant nad Ostr
 avicí - Frýdlant
SUMMARY:MS-U16M-T7A: Red Frýdlant n/O-Blue Ostrava
END:VEVENT
BEGIN:VEVENT
UID:66393564-3039-4462-b466-346636643838
DTSTAMP:20260422T211403Z
DESCRIPTION:1/2 Green F-M - Red Frýdlant n/O 1:2 (22\,-25\,-5)
DTSTART;TZID=Europe/Berlin:20260412T090000
DTEND;TZID=Europe/Berlin:20260412T110000
LOCATION:Tělocvična ZŠ TGM FNO\, Nám. T. G. Masaryka 1260 Frýdlant nad Ostr
 avicí - Frýdlant
SUMMARY:MS-U16M-T7A: Green F-M-Red Frýdlant n/O
END:VEVENT
BEGIN:VEVENT
UID:39653464-3466-4461-a163-333961363763
DTSTAMP:20260422T211403Z
DESCRIPTION:2/4 VK Ostrava - Red Frýdlant n/O 2:1 (23\,-20\,11)
DTSTART;TZID=Europe/Berlin:20260412T100000
DTEND;TZID=Europe/Berlin:20260412T120000
LOCATION:Tělocvična ZŠ TGM FNO\, Nám. T. G. Masaryka 1260 Frýdlant nad Ostr
 avicí - Frýdlant
SUMMARY:MS-U16M-T7A: VK Ostrava-Red Frýdlant n/O
END:VEVENT
END:VCALENDAR
