BEGIN:VCALENDAR
VERSION:2.0
PRODID:-//SK TŘEBÍN90170//NONSGML kigkonsult.se iCalcreator 2.41.80//
CALSCALE:GREGORIAN
UID:32383130-3534-4931-b938-666562613863
BEGIN:VEVENT
UID:37396661-3038-4866-b435-313663326161
DTSTAMP:20260423T035342Z
DESCRIPTION:2/3 SK TŘEBÍN - VSK Baník Sokolov 0:2 (-22\,-20)
DTSTART;TZID=Europe/Berlin:20250913T103000
DTEND;TZID=Europe/Berlin:20250913T123000
LOCATION:ZŠ Máj I\, M. Chlajna 1319 České Budějovice - České Budějovice 2
SUMMARY:CP-U16Z-Z1E: SK TŘEBÍN-VSK Baník Sokolov
END:VEVENT
BEGIN:VEVENT
UID:61386334-6664-4330-b331-343165636137
DTSTAMP:20260423T035342Z
DESCRIPTION:3/8 SK TŘEBÍN - BVC Chodov 0:2 (-14\,-6)
DTSTART;TZID=Europe/Berlin:20250913T120000
DTEND;TZID=Europe/Berlin:20250913T140000
LOCATION:ZŠ Máj I\, M. Chlajna 1319 České Budějovice - České Budějovice 2
SUMMARY:CP-U16Z-Z1E: SK TŘEBÍN-BVC Chodov
END:VEVENT
BEGIN:VEVENT
UID:30656163-3331-4331-a439-356336366564
DTSTAMP:20260423T035342Z
DESCRIPTION:6/16 SK TŘEBÍN - Volejbal Tábor 0:2 (-19\,-23)
DTSTART;TZID=Europe/Berlin:20250913T163000
DTEND;TZID=Europe/Berlin:20250913T183000
LOCATION:ZŠ Máj I\, M. Chlajna 1319 České Budějovice - České Budějovice 2
SUMMARY:CP-U16Z-Z1E: SK TŘEBÍN-Volejbal Tábor
END:VEVENT
BEGIN:VEVENT
UID:30663438-6361-4934-b464-303266613964
DTSTAMP:20260423T035342Z
DESCRIPTION:8/20 SK TŘEBÍN - Volejbal Rudolfov 0:2 (-25\,-15)
DTSTART;TZID=Europe/Berlin:20250914T103000
DTEND;TZID=Europe/Berlin:20250914T123000
LOCATION:ZŠ Máj I\, M. Chlajna 1319 České Budějovice - České Budějovice 2
SUMMARY:CP-U16Z-Z1E: SK TŘEBÍN-Volejbal Rudolfov
END:VEVENT
BEGIN:VEVENT
UID:66613339-6464-4565-a261-383136663636
DTSTAMP:20260423T035342Z
DESCRIPTION:5/13 Klatovy - SK TŘEBÍN 2:1 (-25\,14\,5)
DTSTART;TZID=Europe/Berlin:20250913T150000
DTEND;TZID=Europe/Berlin:20250913T170000
LOCATION:Sportovní hala ZŠ Čapkova\, Čapkova 136 Klatovy - Klatovy V
SUMMARY:CP-U16Z-Z1E: Klatovy-SK TŘEBÍN
END:VEVENT
BEGIN:VEVENT
UID:31636436-6461-4331-b939-363563323936
DTSTAMP:20260423T035342Z
DESCRIPTION:9/24 VK Rokycany - SK TŘEBÍN 2:0 (11\,11)
DTSTART;TZID=Europe/Berlin:20250914T120000
DTEND;TZID=Europe/Berlin:20250914T140000
LOCATION:Hala Gymnázia Rokycany\, Mládežníků 1115 Rokycany - Nové Město
SUMMARY:CP-U16Z-Z1E: VK Rokycany-SK TŘEBÍN
END:VEVENT
BEGIN:VEVENT
UID:35336138-3264-4362-b038-363466306530
DTSTAMP:20260423T035342Z
DESCRIPTION:10/26 SK Dansport - SK TŘEBÍN 1:2 (-18\,10\,-14)
DTSTART;TZID=Europe/Berlin:20250914T133000
DTEND;TZID=Europe/Berlin:20250914T153000
LOCATION:Sportovní hala Gymnázia Jana Keplera\, Parléřova 118 Praha - Hradč
 any
SUMMARY:CP-U16Z-Z1E: SK Dansport-SK TŘEBÍN
END:VEVENT
BEGIN:VEVENT
UID:35333839-6335-4665-a132-306134343966
DTSTAMP:20260423T035342Z
DESCRIPTION:3/6 SK TŘEBÍN - TJ Sokol M. Hradiště 2:1 (-25\,15\,9)
DTSTART;TZID=Europe/Berlin:20251018T120000
DTEND;TZID=Europe/Berlin:20251018T140000
LOCATION:ZŠ Máj I\, M. Chlajna 1319 České Budějovice - České Budějovice 2
SUMMARY:CP-U16Z-Z2F: SK TŘEBÍN-TJ Sokol M. Hradiště
END:VEVENT
BEGIN:VEVENT
UID:66636261-3438-4237-b266-313465663765
DTSTAMP:20260423T035342Z
DESCRIPTION:7/14 SK TŘEBÍN - Škola volejbalu Č. Budějovice 0:2 (-15\,-14)
DTSTART;TZID=Europe/Berlin:20251018T180000
DTEND;TZID=Europe/Berlin:20251018T200000
LOCATION:ZŠ Máj I\, M. Chlajna 1319 České Budějovice - České Budějovice 2
SUMMARY:CP-U16Z-Z2F: SK TŘEBÍN-Škola volejbalu Č. Budějovice
END:VEVENT
BEGIN:VEVENT
UID:61363636-3738-4464-a232-353735326637
DTSTAMP:20260423T035342Z
DESCRIPTION:10/20 SK TŘEBÍN - VSK Český Krumlov 2:1 (23\,-20\,13)
DTSTART;TZID=Europe/Berlin:20251019T120000
DTEND;TZID=Europe/Berlin:20251019T140000
LOCATION:ZŠ Máj I\, M. Chlajna 1319 České Budějovice - České Budějovice 2
SUMMARY:CP-U16Z-Z2F: SK TŘEBÍN-VSK Český Krumlov
END:VEVENT
BEGIN:VEVENT
UID:64613530-3766-4365-a331-306565343266
DTSTAMP:20260423T035342Z
DESCRIPTION:2/4 Kladno C - SK TŘEBÍN 0:2 (-8\,-16)
DTSTART;TZID=Europe/Berlin:20251018T103000
DTEND;TZID=Europe/Berlin:20251018T123000
LOCATION:Kladenská sportovní hala\, Sportovců 817 Kladno - Rozdělov
SUMMARY:CP-U16Z-Z2F: Kladno C-SK TŘEBÍN
END:VEVENT
BEGIN:VEVENT
UID:63396365-6164-4565-b832-383434616633
DTSTAMP:20260423T035342Z
DESCRIPTION:5/9 SKVD Ústí n.L. - SK TŘEBÍN 2:1 (5\,-20\,13)
DTSTART;TZID=Europe/Berlin:20251018T150000
DTEND;TZID=Europe/Berlin:20251018T170000
LOCATION:Základní škola Stříbrnická\, Stříbrnická 3031 Ústí nad Labem - Sev
 erní Terasa
SUMMARY:CP-U16Z-Z2F: SKVD Ústí n.L.-SK TŘEBÍN
END:VEVENT
BEGIN:VEVENT
UID:32663161-3030-4734-b337-303635376438
DTSTAMP:20260423T035342Z
DESCRIPTION:8/16 TJ Lokomotiva Česká Lípa - SK TŘEBÍN 0:2 (-18\,-17)
DTSTART;TZID=Europe/Berlin:20251019T090000
DTEND;TZID=Europe/Berlin:20251019T110000
LOCATION:ZŠ Lada\, Šluknovská 2904 Česká Lípa
SUMMARY:CP-U16Z-Z2F: TJ Lokomotiva Česká Lípa-SK TŘEBÍN
END:VEVENT
BEGIN:VEVENT
UID:64373266-3230-4435-a637-323935356561
DTSTAMP:20260423T035342Z
DESCRIPTION:2/4 SK TŘEBÍN - Kladno C 2:0 (9\,12)
DTSTART;TZID=Europe/Berlin:20251129T101500
DTEND;TZID=Europe/Berlin:20251129T121500
LOCATION:ZŠ Máj I\, M. Chlajna 1319 České Budějovice - České Budějovice 2
SUMMARY:CP-U16Z-Z3F: SK TŘEBÍN-Kladno C
END:VEVENT
BEGIN:VEVENT
UID:62326530-3233-4535-b662-333962376164
DTSTAMP:20260423T035342Z
DESCRIPTION:4/8 SK TŘEBÍN - VSK Český Krumlov 2:1 (12\,-18\,12)
DTSTART;TZID=Europe/Berlin:20251129T124500
DTEND;TZID=Europe/Berlin:20251129T144500
LOCATION:ZŠ Máj I\, M. Chlajna 1319 České Budějovice - České Budějovice 2
SUMMARY:CP-U16Z-Z3F: SK TŘEBÍN-VSK Český Krumlov
END:VEVENT
BEGIN:VEVENT
UID:64613561-3365-4631-b836-383965616264
DTSTAMP:20260423T035342Z
DESCRIPTION:5/9 SK TŘEBÍN - TJ Lokomotiva Česká Lípa 2:0 (16\,13)
DTSTART;TZID=Europe/Berlin:20251129T140000
DTEND;TZID=Europe/Berlin:20251129T160000
LOCATION:ZŠ Máj I\, M. Chlajna 1319 České Budějovice - České Budějovice 2
SUMMARY:CP-U16Z-Z3F: SK TŘEBÍN-TJ Lokomotiva Česká Lípa
END:VEVENT
BEGIN:VEVENT
UID:61643464-3539-4465-a233-396264396465
DTSTAMP:20260423T035342Z
DESCRIPTION:7/14 VK Rokycany - SK TŘEBÍN 2:1 (24\,-23\,14)
DTSTART;TZID=Europe/Berlin:20251129T163000
DTEND;TZID=Europe/Berlin:20251129T183000
LOCATION:Hala Gymnázia Rokycany\, Mládežníků 1115 Rokycany - Nové Město
SUMMARY:CP-U16Z-Z3F: VK Rokycany-SK TŘEBÍN
END:VEVENT
BEGIN:VEVENT
UID:37626665-6138-4036-a561-633564663366
DTSTAMP:20260423T035342Z
DESCRIPTION:9/18 BV Vratislavice n. N. z.s. - SK TŘEBÍN 2:1 (7\,-22\,15)
DTSTART;TZID=Europe/Berlin:20251130T101500
DTEND;TZID=Europe/Berlin:20251130T121500
SUMMARY:CP-U16Z-Z3F: BV Vratislavice n. N. z.s.-SK TŘEBÍN
END:VEVENT
BEGIN:VEVENT
UID:62323166-3966-4931-a561-616463306263
DTSTAMP:20260423T035342Z
DESCRIPTION:10/19 TJ Sokol M. Hradiště - SK TŘEBÍN 2:0 (13\,17)
DTSTART;TZID=Europe/Berlin:20251130T113000
DTEND;TZID=Europe/Berlin:20251130T133000
LOCATION:Sportovní hala BIOS\, Sokolovská 254 Mnichovo Hradiště
SUMMARY:CP-U16Z-Z3F: TJ Sokol M. Hradiště-SK TŘEBÍN
END:VEVENT
BEGIN:VEVENT
UID:32653962-3964-4664-b963-633838366536
DTSTAMP:20260423T035342Z
DESCRIPTION:7/13 SK TŘEBÍN - Kladno C 2:0 (21\,16)
DTSTART;TZID=Europe/Berlin:20260117T163000
DTEND;TZID=Europe/Berlin:20260117T183000
LOCATION:ZŠ Máj I\, M. Chlajna 1319 České Budějovice - České Budějovice 2
SUMMARY:CP-U16Z4J: SK TŘEBÍN-Kladno C
END:VEVENT
BEGIN:VEVENT
UID:34636633-6639-4732-a639-333937656562
DTSTAMP:20260423T035342Z
DESCRIPTION:9/18 SK TŘEBÍN - TJ Agrotec Hustopeče 2:0 (11\,22)
DTSTART;TZID=Europe/Berlin:20260118T101500
DTEND;TZID=Europe/Berlin:20260118T121500
LOCATION:ZŠ Máj I\, M. Chlajna 1319 České Budějovice - České Budějovice 2
SUMMARY:CP-U16Z4J: SK TŘEBÍN-TJ Agrotec Hustopeče
END:VEVENT
BEGIN:VEVENT
UID:64306531-3433-4436-b564-383966623031
DTSTAMP:20260423T035342Z
DESCRIPTION:10/19 SK TŘEBÍN - TJ Sokol M. Hradiště 1:2 (-21\,10\,-13)
DTSTART;TZID=Europe/Berlin:20260118T113000
DTEND;TZID=Europe/Berlin:20260118T133000
LOCATION:ZŠ Máj I\, M. Chlajna 1319 České Budějovice - České Budějovice 2
SUMMARY:CP-U16Z4J: SK TŘEBÍN-TJ Sokol M. Hradiště
END:VEVENT
BEGIN:VEVENT
UID:61336331-6232-4265-b763-653735663734
DTSTAMP:20260423T035342Z
DESCRIPTION:2/3 TJ Lanškroun - SK TŘEBÍN 0:2 (-12\,-20)
DTSTART;TZID=Europe/Berlin:20260117T101500
DTEND;TZID=Europe/Berlin:20260117T121500
LOCATION:SOŠ a SOU Lanškroun\, Sokolská 288 Lanškroun - Ostrovské Předměstí
SUMMARY:CP-U16Z4J: TJ Lanškroun-SK TŘEBÍN
END:VEVENT
BEGIN:VEVENT
UID:30303966-6639-4931-b166-306431376432
DTSTAMP:20260423T035342Z
DESCRIPTION:4/7 TJ Lokomotiva Česká Lípa - SK TŘEBÍN 0:2 (-10\,-19)
DTSTART;TZID=Europe/Berlin:20260117T124500
DTEND;TZID=Europe/Berlin:20260117T144500
LOCATION:ZŠ Lada\, Šluknovská 2904 Česká Lípa
SUMMARY:CP-U16Z4J: TJ Lokomotiva Česká Lípa-SK TŘEBÍN
END:VEVENT
BEGIN:VEVENT
UID:30663031-3237-4464-b464-633264646262
DTSTAMP:20260423T035342Z
DESCRIPTION:6/11 Sokol Předklášteří - SK TŘEBÍN 1:2 (-21\,22\,-9)
DTSTART;TZID=Europe/Berlin:20260117T151500
DTEND;TZID=Europe/Berlin:20260117T171500
LOCATION:ZŠ Předklášteří\, Komenského 1097 Předklášteří
SUMMARY:CP-U16Z4J: Sokol Předklášteří-SK TŘEBÍN
END:VEVENT
BEGIN:VEVENT
UID:39393531-6435-4664-a465-636333623430
DTSTAMP:20260423T035342Z
DESCRIPTION:7/13 SK TŘEBÍN - VSK Český Krumlov 1:2 (-22\,19\,-8)
DTSTART;TZID=Europe/Berlin:20260207T164500
DTEND;TZID=Europe/Berlin:20260207T184500
LOCATION:ZŠ Máj I\, M. Chlajna 1319 České Budějovice - České Budějovice 2
SUMMARY:CP-U16Z5I: SK TŘEBÍN-VSK Český Krumlov
END:VEVENT
BEGIN:VEVENT
UID:61303037-3234-4561-a337-626636636165
DTSTAMP:20260423T035342Z
DESCRIPTION:2/4 TJ Žďár nad Sázavou - SK TŘEBÍN 2:1 (-22\,14\,14)
DTSTART;TZID=Europe/Berlin:20260207T103000
DTEND;TZID=Europe/Berlin:20260207T123000
LOCATION:Sportovní hala na Bouchalkách\, Jungmannova 1495 Žďár nad Sázavou 
 - Žďár nad Sázavou 1
SUMMARY:CP-U16Z5I: TJ Žďár nad Sázavou-SK TŘEBÍN
END:VEVENT
BEGIN:VEVENT
UID:30363336-6432-4138-b539-393738373361
DTSTAMP:20260423T035342Z
DESCRIPTION:3/6 VK Rokycany - SK TŘEBÍN 2:0 (24\,22)
DTSTART;TZID=Europe/Berlin:20260207T114500
DTEND;TZID=Europe/Berlin:20260207T134500
LOCATION:Hala Gymnázia Rokycany\, Mládežníků 1115 Rokycany - Nové Město
SUMMARY:CP-U16Z5I: VK Rokycany-SK TŘEBÍN
END:VEVENT
BEGIN:VEVENT
UID:32383738-3131-4539-b734-653438613433
DTSTAMP:20260423T035342Z
DESCRIPTION:5/9 VC Kroměříž - SK TŘEBÍN 2:1 (21\,-12\,8)
DTSTART;TZID=Europe/Berlin:20260207T141500
DTEND;TZID=Europe/Berlin:20260207T161500
LOCATION:ZŠ Zachar\, Albertova 4062 Kroměříž
SUMMARY:CP-U16Z5I: VC Kroměříž-SK TŘEBÍN
END:VEVENT
BEGIN:VEVENT
UID:33343232-6561-4131-b839-616335393164
DTSTAMP:20260423T035342Z
DESCRIPTION:9/17 TJ EMĚ Mělník - SK TŘEBÍN 1:2 (-22\,23\,-11)
DTSTART;TZID=Europe/Berlin:20260208T103000
DTEND;TZID=Europe/Berlin:20260208T123000
LOCATION:Tělocvična Gymnázium J. Palacha Mělník\, Pod Vrchem 3421 Mělník
SUMMARY:CP-U16Z5I: TJ EMĚ Mělník-SK TŘEBÍN
END:VEVENT
BEGIN:VEVENT
UID:31333931-3362-4263-a331-643731343235
DTSTAMP:20260423T035342Z
DESCRIPTION:10/19 TJ Sokol M. Hradiště - SK TŘEBÍN 2:1 (21\,-17\,8)
DTSTART;TZID=Europe/Berlin:20260208T114500
DTEND;TZID=Europe/Berlin:20260208T134500
LOCATION:Sportovní hala BIOS\, Sokolovská 254 Mnichovo Hradiště
SUMMARY:CP-U16Z5I: TJ Sokol M. Hradiště-SK TŘEBÍN
END:VEVENT
BEGIN:VEVENT
UID:33636464-3532-4162-b332-323662363332
DTSTAMP:20260423T035342Z
DESCRIPTION:2/3 SK TŘEBÍN - Sokol Předklášteří 1:2 (-15\,31\,-1)
DTSTART;TZID=Europe/Berlin:20260328T103000
DTEND;TZID=Europe/Berlin:20260328T123000
LOCATION:ZŠ Máj I\, M. Chlajna 1319 České Budějovice - České Budějovice 2
SUMMARY:CP-U16Z6M: SK TŘEBÍN-Sokol Předklášteří
END:VEVENT
BEGIN:VEVENT
UID:62343666-6530-4138-b563-346533373462
DTSTAMP:20260423T035342Z
DESCRIPTION:3/5 SK TŘEBÍN - TJ Lokomotiva Česká Lípa 2:0 (13\,21)
DTSTART;TZID=Europe/Berlin:20260328T113000
DTEND;TZID=Europe/Berlin:20260328T133000
LOCATION:ZŠ Máj I\, M. Chlajna 1319 České Budějovice - České Budějovice 2
SUMMARY:CP-U16Z6M: SK TŘEBÍN-TJ Lokomotiva Česká Lípa
END:VEVENT
BEGIN:VEVENT
UID:38663864-3030-4939-b062-383833636333
DTSTAMP:20260423T035342Z
DESCRIPTION:7/14 SK TŘEBÍN - Mělník 2:1 (12\,-24\,12)
DTSTART;TZID=Europe/Berlin:20260328T160000
DTEND;TZID=Europe/Berlin:20260328T180000
LOCATION:ZŠ Máj I\, M. Chlajna 1319 České Budějovice - České Budějovice 2
SUMMARY:CP-U16Z6M: SK TŘEBÍN-Mělník
END:VEVENT
BEGIN:VEVENT
UID:30383432-3732-4231-b436-613637366665
DTSTAMP:20260423T035342Z
DESCRIPTION:5/9 Kladno C - SK TŘEBÍN 0:2 (-8\,-24)
DTSTART;TZID=Europe/Berlin:20260328T140000
DTEND;TZID=Europe/Berlin:20260328T160000
LOCATION:Kladenská sportovní hala\, Sportovců 817 Kladno - Rozdělov
SUMMARY:CP-U16Z6M: Kladno C-SK TŘEBÍN
END:VEVENT
BEGIN:VEVENT
UID:37343065-3065-4863-b034-353035663935
DTSTAMP:20260423T035342Z
DESCRIPTION:8/16 Lanškroun - SK TŘEBÍN 2:0 (16\,16)
DTSTART;TZID=Europe/Berlin:20260329T090000
DTEND;TZID=Europe/Berlin:20260329T110000
LOCATION:SOŠ a SOU Lanškroun\, Sokolská 288 Lanškroun - Ostrovské Předměstí
SUMMARY:CP-U16Z6M: Lanškroun-SK TŘEBÍN
END:VEVENT
BEGIN:VEVENT
UID:61633033-6135-4438-a464-616635623833
DTSTAMP:20260423T035342Z
DESCRIPTION:10/20 Uh.Hradiště - SK TŘEBÍN 2:0 (19\,23)
DTSTART;TZID=Europe/Berlin:20260329T113000
DTEND;TZID=Europe/Berlin:20260329T133000
LOCATION:Městská sportovní hala\, Stonky 860 Uherské Hradiště
SUMMARY:CP-U16Z6M: Uh.Hradiště-SK TŘEBÍN
END:VEVENT
END:VCALENDAR
