BEGIN:VCALENDAR
VERSION:2.0
PRODID:-//Sportovní klub Jihlava, z.s.90171//NONSGML kigkonsult.se iCalcreator 2.41.80//
CALSCALE:GREGORIAN
UID:65313066-3432-4633-b335-663031663931
BEGIN:VEVENT
UID:65376261-6639-4235-a236-643939326439
DTSTAMP:20260422T211524Z
DESCRIPTION:1/1 Sportovní klub Jihlava\, z.s. - TJ Jiskra Havlíčkův Brod B 
 3:0 (24\,21\,20)
DTSTART;TZID=Europe/Berlin:20250920T100000
DTEND;TZID=Europe/Berlin:20250920T120000
LOCATION:ZŠ Jihlava Demlova\, Demlova 4178 Jihlava
SUMMARY:VY-M: Sportovní klub Jihlava\, z.s.-TJ Jiskra Havlíčkův Brod B
END:VEVENT
BEGIN:VEVENT
UID:39633139-6436-4161-b230-663764343061
DTSTAMP:20260422T211524Z
DESCRIPTION:2/4 Sportovní klub Jihlava\, z.s. - TJ Jiskra Havlíčkův Brod B 
 3:0 (18\,24\,17)
DTSTART;TZID=Europe/Berlin:20250920T130000
DTEND;TZID=Europe/Berlin:20250920T150000
LOCATION:ZŠ Jihlava Demlova\, Demlova 4178 Jihlava
SUMMARY:VY-M: Sportovní klub Jihlava\, z.s.-TJ Jiskra Havlíčkův Brod B
END:VEVENT
BEGIN:VEVENT
UID:62343666-3363-4662-a465-363864396531
DTSTAMP:20260422T211524Z
DESCRIPTION:3/9 Sportovní klub Jihlava\, z.s. - SLAVOJ POLNÁ z.s. 1:3 (-16\
 ,21\,-19\,-20)
DTSTART;TZID=Europe/Berlin:20251011T100000
DTEND;TZID=Europe/Berlin:20251011T120000
LOCATION:ZŠ Jihlava Demlova\, Demlova 4178 Jihlava
SUMMARY:VY-M: Sportovní klub Jihlava\, z.s.-SLAVOJ POLNÁ z.s.
END:VEVENT
BEGIN:VEVENT
UID:65323236-3137-4364-a530-653765626364
DTSTAMP:20260422T211524Z
DESCRIPTION:4/12 Sportovní klub Jihlava\, z.s. - SLAVOJ POLNÁ z.s. 2:3 (19\
 ,-20\,-21\,19\,-10)
DTSTART;TZID=Europe/Berlin:20251011T130000
DTEND;TZID=Europe/Berlin:20251011T150000
LOCATION:ZŠ Jihlava Demlova\, Demlova 4178 Jihlava
SUMMARY:VY-M: Sportovní klub Jihlava\, z.s.-SLAVOJ POLNÁ z.s.
END:VEVENT
BEGIN:VEVENT
UID:63333366-3032-4266-a134-396463396334
DTSTAMP:20260422T211524Z
DESCRIPTION:7/20 Sportovní klub Jihlava\, z.s. - TJ Žďár nad Sázavou 3:0 (2
 4\,19\,19)
DTSTART;TZID=Europe/Berlin:20251129T090000
DTEND;TZID=Europe/Berlin:20251129T110000
LOCATION:ZŠ Jihlava Demlova\, Demlova 4178 Jihlava
SUMMARY:VY-M: Sportovní klub Jihlava\, z.s.-TJ Žďár nad Sázavou
END:VEVENT
BEGIN:VEVENT
UID:36353834-3462-4763-b434-663835326364
DTSTAMP:20260422T211524Z
DESCRIPTION:8/23 Sportovní klub Jihlava\, z.s. - TJ Žďár nad Sázavou 3:0 (1
 3\,20\,16)
DTSTART;TZID=Europe/Berlin:20251129T120000
DTEND;TZID=Europe/Berlin:20251129T140000
LOCATION:ZŠ Jihlava Demlova\, Demlova 4178 Jihlava
SUMMARY:VY-M: Sportovní klub Jihlava\, z.s.-TJ Žďár nad Sázavou
END:VEVENT
BEGIN:VEVENT
UID:63313866-6161-4131-a565-323163356264
DTSTAMP:20260422T211524Z
DESCRIPTION:15/44 Sportovní klub Jihlava\, z.s. - Tělovýchovná jednota Spar
 tak Pelhřimov\, z.s. 3:2 (-19\,22\,-24\,21\,13)
DTSTART;TZID=Europe/Berlin:20260228T100000
DTEND;TZID=Europe/Berlin:20260228T120000
LOCATION:ZŠ Jihlava Demlova\, Demlova 4178 Jihlava
SUMMARY:VY-M: Sportovní klub Jihlava\, z.s.-Tělovýchovná jednota Spartak Pe
 lhřimov\, z.s.
END:VEVENT
BEGIN:VEVENT
UID:34663561-3663-4661-a537-383432326462
DTSTAMP:20260422T211524Z
DESCRIPTION:16/47 Sportovní klub Jihlava\, z.s. - Tělovýchovná jednota Spar
 tak Pelhřimov\, z.s. 3:0 (25\,21\,19)
DTSTART;TZID=Europe/Berlin:20260228T130000
DTEND;TZID=Europe/Berlin:20260228T150000
LOCATION:ZŠ Jihlava Demlova\, Demlova 4178 Jihlava
SUMMARY:VY-M: Sportovní klub Jihlava\, z.s.-Tělovýchovná jednota Spartak Pe
 lhřimov\, z.s.
END:VEVENT
BEGIN:VEVENT
UID:62366163-3066-4931-a566-613133393131
DTSTAMP:20260422T211524Z
DESCRIPTION:19/57 Sportovní klub Jihlava\, z.s. - Telč 1:3 (-15\,23\,-23\,-
 17)
DTSTART;TZID=Europe/Berlin:20260314T100000
DTEND;TZID=Europe/Berlin:20260314T120000
LOCATION:ZŠ Jihlava Demlova\, Demlova 4178 Jihlava
SUMMARY:VY-M: Sportovní klub Jihlava\, z.s.-Telč
END:VEVENT
BEGIN:VEVENT
UID:36633064-6163-4131-b861-636630623337
DTSTAMP:20260422T211524Z
DESCRIPTION:20/60 Sportovní klub Jihlava\, z.s. - Telč 0:3 (-13\,-13\,-21)
DTSTART;TZID=Europe/Berlin:20260314T130000
DTEND;TZID=Europe/Berlin:20260314T150000
LOCATION:ZŠ Jihlava Demlova\, Demlova 4178 Jihlava
SUMMARY:VY-M: Sportovní klub Jihlava\, z.s.-Telč
END:VEVENT
BEGIN:VEVENT
UID:39303261-6233-4666-a137-656439333233
DTSTAMP:20260422T211524Z
DESCRIPTION:5/14 Tělovýchovná jednota Spartak Pelhřimov\, z.s. - Sportovní 
 klub Jihlava\, z.s. 0:3 (-26\,-18\,-25)
DTSTART;TZID=Europe/Berlin:20251108T100000
DTEND;TZID=Europe/Berlin:20251108T120000
LOCATION:Základní škola Pelhřimov\, Osvobození\, Osvobození 1881 Pelhřimov
SUMMARY:VY-M: Tělovýchovná jednota Spartak Pelhřimov\, z.s.-Sportovní klub 
 Jihlava\, z.s.
END:VEVENT
BEGIN:VEVENT
UID:62356535-3766-4136-b139-383239613265
DTSTAMP:20260422T211524Z
DESCRIPTION:6/17 Tělovýchovná jednota Spartak Pelhřimov\, z.s. - Sportovní 
 klub Jihlava\, z.s. 3:0 (21\,27\,20)
DTSTART;TZID=Europe/Berlin:20251108T130000
DTEND;TZID=Europe/Berlin:20251108T150000
LOCATION:Základní škola Pelhřimov\, Osvobození\, Osvobození 1881 Pelhřimov
SUMMARY:VY-M: Tělovýchovná jednota Spartak Pelhřimov\, z.s.-Sportovní klub 
 Jihlava\, z.s.
END:VEVENT
BEGIN:VEVENT
UID:34376565-6236-4866-b564-316439306432
DTSTAMP:20260422T211524Z
DESCRIPTION:9/27 Telč - Sportovní klub Jihlava\, z.s. 3:0 (18\,25\,18)
DTSTART;TZID=Europe/Berlin:20260110T100000
DTEND;TZID=Europe/Berlin:20260110T120000
LOCATION:Sokol Telč\, Masarykova 222 Telč - Telč-Podolí
SUMMARY:VY-M: Telč-Sportovní klub Jihlava\, z.s.
END:VEVENT
BEGIN:VEVENT
UID:38656231-6232-4434-a533-323036376130
DTSTAMP:20260422T211524Z
DESCRIPTION:10/30 Telč - Sportovní klub Jihlava\, z.s. 3:0 (26\,14\,17)
DTSTART;TZID=Europe/Berlin:20260110T130000
DTEND;TZID=Europe/Berlin:20260110T150000
LOCATION:Sokol Telč\, Masarykova 222 Telč - Telč-Podolí
SUMMARY:VY-M: Telč-Sportovní klub Jihlava\, z.s.
END:VEVENT
BEGIN:VEVENT
UID:65366339-6639-4633-b366-376166313763
DTSTAMP:20260422T211524Z
DESCRIPTION:11/31 TJ Jiskra Havlíčkův Brod B - Sportovní klub Jihlava\, z.s
 . 1:3 (-22\,-22\,0\,-20)
DTSTART;TZID=Europe/Berlin:20260124T100000
DTEND;TZID=Europe/Berlin:20260124T120000
LOCATION:Sportovní hala TJ Jiskra\, Ledečská 3028 Havlíčkův Brod
SUMMARY:VY-M: TJ Jiskra Havlíčkův Brod B-Sportovní klub Jihlava\, z.s.
END:VEVENT
BEGIN:VEVENT
UID:35613934-6566-4235-a435-623939643664
DTSTAMP:20260422T211524Z
DESCRIPTION:12/34 TJ Jiskra Havlíčkův Brod B - Sportovní klub Jihlava\, z.s
 . 1:3 (13\,-17\,-21\,-21)
DTSTART;TZID=Europe/Berlin:20260124T130000
DTEND;TZID=Europe/Berlin:20260124T150000
LOCATION:Sportovní hala TJ Jiskra\, Ledečská 3028 Havlíčkův Brod
SUMMARY:VY-M: TJ Jiskra Havlíčkův Brod B-Sportovní klub Jihlava\, z.s.
END:VEVENT
BEGIN:VEVENT
UID:38653838-6563-4834-a537-643465636230
DTSTAMP:20260422T211524Z
DESCRIPTION:13/39 SLAVOJ POLNÁ z.s. - Sportovní klub Jihlava\, z.s. 3:2 (20
 \,-19\,17\,-17\,7)
DTSTART;TZID=Europe/Berlin:20260214T100000
DTEND;TZID=Europe/Berlin:20260214T120000
LOCATION:Školní tělocvična\, Poděbradova 76 Polná
SUMMARY:VY-M: SLAVOJ POLNÁ z.s.-Sportovní klub Jihlava\, z.s.
END:VEVENT
BEGIN:VEVENT
UID:63656536-3064-4266-b038-636561306536
DTSTAMP:20260422T211524Z
DESCRIPTION:14/42 SLAVOJ POLNÁ z.s. - Sportovní klub Jihlava\, z.s. 0:3 (-1
 9\,-24\,-23)
DTSTART;TZID=Europe/Berlin:20260214T130000
DTEND;TZID=Europe/Berlin:20260214T150000
LOCATION:Školní tělocvična\, Poděbradova 76 Polná
SUMMARY:VY-M: SLAVOJ POLNÁ z.s.-Sportovní klub Jihlava\, z.s.
END:VEVENT
BEGIN:VEVENT
UID:64373462-3134-4233-b635-646633316361
DTSTAMP:20260422T211524Z
DESCRIPTION:17/50 TJ Žďár nad Sázavou - Sportovní klub Jihlava\, z.s. 0:3 (
 -9\,-18\,-17)
DTSTART;TZID=Europe/Berlin:20260321T100000
DTEND;TZID=Europe/Berlin:20260321T120000
LOCATION:Sportovní hala na Bouchalkách\, Jungmannova 1495 Žďár nad Sázavou 
 - Žďár nad Sázavou 1
SUMMARY:VY-M: TJ Žďár nad Sázavou-Sportovní klub Jihlava\, z.s.
END:VEVENT
BEGIN:VEVENT
UID:38626531-3266-4730-b635-616533306531
DTSTAMP:20260422T211524Z
DESCRIPTION:18/53 TJ Žďár nad Sázavou - Sportovní klub Jihlava\, z.s. 3:1 (
 -22\,24\,22\,21)
DTSTART;TZID=Europe/Berlin:20260321T130000
DTEND;TZID=Europe/Berlin:20260321T150000
LOCATION:Sportovní hala na Bouchalkách\, Jungmannova 1495 Žďár nad Sázavou 
 - Žďár nad Sázavou 1
SUMMARY:VY-M: TJ Žďár nad Sázavou-Sportovní klub Jihlava\, z.s.
END:VEVENT
END:VCALENDAR
