BEGIN:VCALENDAR
VERSION:2.0
PRODID:-//Tělovýchovná jednota Spartak Pelhřimov, z.s.90173//NONSGML kigkonsult.se iCalcreator 2.41.80//
CALSCALE:GREGORIAN
UID:36616365-3334-4839-b463-663233373134
BEGIN:VEVENT
UID:32376563-3865-4462-a631-626564306161
DTSTAMP:20260422T221327Z
DESCRIPTION:1/3 Tělovýchovná jednota Spartak Pelhřimov\, z.s. - TJ Žďár nad
  Sázavou 3:0 (18\,18\,22)
DTSTART;TZID=Europe/Berlin:20251025T100000
DTEND;TZID=Europe/Berlin:20251025T120000
LOCATION:Základní škola Pelhřimov\, Osvobození\, Osvobození 1881 Pelhřimov
SUMMARY:VY-M: Tělovýchovná jednota Spartak Pelhřimov\, z.s.-TJ Žďár nad Sáz
 avou
END:VEVENT
BEGIN:VEVENT
UID:39626532-6132-4739-b863-386261396237
DTSTAMP:20260422T221327Z
DESCRIPTION:2/6 Tělovýchovná jednota Spartak Pelhřimov\, z.s. - TJ Žďár nad
  Sázavou 3:0 (18\,19\,18)
DTSTART;TZID=Europe/Berlin:20251025T130000
DTEND;TZID=Europe/Berlin:20251025T150000
LOCATION:Základní škola Pelhřimov\, Osvobození\, Osvobození 1881 Pelhřimov
SUMMARY:VY-M: Tělovýchovná jednota Spartak Pelhřimov\, z.s.-TJ Žďár nad Sáz
 avou
END:VEVENT
BEGIN:VEVENT
UID:38653734-3231-4164-b664-306436646232
DTSTAMP:20260422T221327Z
DESCRIPTION:5/14 Tělovýchovná jednota Spartak Pelhřimov\, z.s. - Sportovní 
 klub Jihlava\, z.s. 0:3 (-26\,-18\,-25)
DTSTART;TZID=Europe/Berlin:20251108T100000
DTEND;TZID=Europe/Berlin:20251108T120000
LOCATION:Základní škola Pelhřimov\, Osvobození\, Osvobození 1881 Pelhřimov
SUMMARY:VY-M: Tělovýchovná jednota Spartak Pelhřimov\, z.s.-Sportovní klub 
 Jihlava\, z.s.
END:VEVENT
BEGIN:VEVENT
UID:66316361-3266-4364-a339-633461353537
DTSTAMP:20260422T221327Z
DESCRIPTION:6/17 Tělovýchovná jednota Spartak Pelhřimov\, z.s. - Sportovní 
 klub Jihlava\, z.s. 3:0 (21\,27\,20)
DTSTART;TZID=Europe/Berlin:20251108T130000
DTEND;TZID=Europe/Berlin:20251108T150000
LOCATION:Základní škola Pelhřimov\, Osvobození\, Osvobození 1881 Pelhřimov
SUMMARY:VY-M: Tělovýchovná jednota Spartak Pelhřimov\, z.s.-Sportovní klub 
 Jihlava\, z.s.
END:VEVENT
BEGIN:VEVENT
UID:39363333-3338-4136-b464-323166663834
DTSTAMP:20260422T221327Z
DESCRIPTION:9/25 Tělovýchovná jednota Spartak Pelhřimov\, z.s. - TJ Jiskra 
 Havlíčkův Brod B 3:1 (18\,-23\,15\,14)\nMožná změna haly
DTSTART;TZID=Europe/Berlin:20260201T100000
DTEND;TZID=Europe/Berlin:20260201T120000
LOCATION:Základní škola Pelhřimov\, Osvobození\, Osvobození 1881 Pelhřimov
SUMMARY:VY-M: Tělovýchovná jednota Spartak Pelhřimov\, z.s.-TJ Jiskra Havlí
 čkův Brod B
END:VEVENT
BEGIN:VEVENT
UID:61613637-6133-4934-b364-666363623231
DTSTAMP:20260422T221327Z
DESCRIPTION:10/28 Tělovýchovná jednota Spartak Pelhřimov\, z.s. - TJ Jiskra
  Havlíčkův Brod B 3:1 (18\,-27\,18\,18)
DTSTART;TZID=Europe/Berlin:20260201T130000
DTEND;TZID=Europe/Berlin:20260201T150000
LOCATION:Základní škola Pelhřimov\, Osvobození\, Osvobození 1881 Pelhřimov
SUMMARY:VY-M: Tělovýchovná jednota Spartak Pelhřimov\, z.s.-TJ Jiskra Havlí
 čkův Brod B
END:VEVENT
BEGIN:VEVENT
UID:30386435-6636-4130-a136-616630363436
DTSTAMP:20260422T221327Z
DESCRIPTION:13/38 Tělovýchovná jednota Spartak Pelhřimov\, z.s. - Telč 1:3 
 (-20\,18\,-17\,-28)
DTSTART;TZID=Europe/Berlin:20260215T100000
DTEND;TZID=Europe/Berlin:20260215T120000
LOCATION:Základní škola Pelhřimov\, Osvobození\, Osvobození 1881 Pelhřimov
SUMMARY:VY-M: Tělovýchovná jednota Spartak Pelhřimov\, z.s.-Telč
END:VEVENT
BEGIN:VEVENT
UID:30623765-3135-4232-a433-316461636138
DTSTAMP:20260422T221327Z
DESCRIPTION:14/41 Tělovýchovná jednota Spartak Pelhřimov\, z.s. - Telč 0:3 
 (-23\,-13\,-17)
DTSTART;TZID=Europe/Berlin:20260215T130000
DTEND;TZID=Europe/Berlin:20260215T150000
LOCATION:Základní škola Pelhřimov\, Osvobození\, Osvobození 1881 Pelhřimov
SUMMARY:VY-M: Tělovýchovná jednota Spartak Pelhřimov\, z.s.-Telč
END:VEVENT
BEGIN:VEVENT
UID:32623064-3530-4335-a433-653736666133
DTSTAMP:20260422T221327Z
DESCRIPTION:17/51 Tělovýchovná jednota Spartak Pelhřimov\, z.s. - SLAVOJ PO
 LNÁ z.s. 1:3 (22\,-21\,-16\,-21)
DTSTART;TZID=Europe/Berlin:20260307T100000
DTEND;TZID=Europe/Berlin:20260307T120000
LOCATION:Základní škola Pelhřimov\, Osvobození\, Osvobození 1881 Pelhřimov
SUMMARY:VY-M: Tělovýchovná jednota Spartak Pelhřimov\, z.s.-SLAVOJ POLNÁ z.
 s.
END:VEVENT
BEGIN:VEVENT
UID:37656538-3839-4964-a463-326438666136
DTSTAMP:20260422T221327Z
DESCRIPTION:18/54 Tělovýchovná jednota Spartak Pelhřimov\, z.s. - SLAVOJ PO
 LNÁ z.s. 1:3 (-21\,-19\,27\,-21)
DTSTART;TZID=Europe/Berlin:20260307T130000
DTEND;TZID=Europe/Berlin:20260307T150000
LOCATION:Základní škola Pelhřimov\, Osvobození\, Osvobození 1881 Pelhřimov
SUMMARY:VY-M: Tělovýchovná jednota Spartak Pelhřimov\, z.s.-SLAVOJ POLNÁ z.
 s.
END:VEVENT
BEGIN:VEVENT
UID:38343035-3764-4136-a466-353964396337
DTSTAMP:20260422T221327Z
DESCRIPTION:3/8 Telč - Tělovýchovná jednota Spartak Pelhřimov\, z.s. 3:0 (1
 3\,30\,11)
DTSTART;TZID=Europe/Berlin:20251011T100000
DTEND;TZID=Europe/Berlin:20251011T120000
LOCATION:Sokol Telč\, Masarykova 222 Telč - Telč-Podolí
SUMMARY:VY-M: Telč-Tělovýchovná jednota Spartak Pelhřimov\, z.s.
END:VEVENT
BEGIN:VEVENT
UID:62663162-6537-4435-b035-666632623637
DTSTAMP:20260422T221327Z
DESCRIPTION:4/11 Telč - Tělovýchovná jednota Spartak Pelhřimov\, z.s. 3:0 (
 21\,16\,18)
DTSTART;TZID=Europe/Berlin:20251011T130000
DTEND;TZID=Europe/Berlin:20251011T150000
LOCATION:Sokol Telč\, Masarykova 222 Telč - Telč-Podolí
SUMMARY:VY-M: Telč-Tělovýchovná jednota Spartak Pelhřimov\, z.s.
END:VEVENT
BEGIN:VEVENT
UID:34623235-3961-4635-b234-333437653838
DTSTAMP:20260422T221327Z
DESCRIPTION:7/21 SLAVOJ POLNÁ z.s. - Tělovýchovná jednota Spartak Pelhřimov
 \, z.s. 3:0 (22\,18\,12)
DTSTART;TZID=Europe/Berlin:20251206T100000
DTEND;TZID=Europe/Berlin:20251206T120000
LOCATION:Školní tělocvična\, Poděbradova 76 Polná
SUMMARY:VY-M: SLAVOJ POLNÁ z.s.-Tělovýchovná jednota Spartak Pelhřimov\, z.
 s.
END:VEVENT
BEGIN:VEVENT
UID:35656132-3339-4665-b231-643335393933
DTSTAMP:20260422T221327Z
DESCRIPTION:8/24 SLAVOJ POLNÁ z.s. - Tělovýchovná jednota Spartak Pelhřimov
 \, z.s. 3:0 (19\,28\,18)
DTSTART;TZID=Europe/Berlin:20251206T130000
DTEND;TZID=Europe/Berlin:20251206T150000
LOCATION:Školní tělocvična\, Poděbradova 76 Polná
SUMMARY:VY-M: SLAVOJ POLNÁ z.s.-Tělovýchovná jednota Spartak Pelhřimov\, z.
 s.
END:VEVENT
BEGIN:VEVENT
UID:35386236-3163-4465-a435-643765383436
DTSTAMP:20260422T221327Z
DESCRIPTION:11/33 TJ Žďár nad Sázavou - Tělovýchovná jednota Spartak Pelhři
 mov\, z.s. 1:3 (20\,-17\,-19\,-17)
DTSTART;TZID=Europe/Berlin:20260124T100000
DTEND;TZID=Europe/Berlin:20260124T120000
LOCATION:Sportovní hala na Bouchalkách\, Jungmannova 1495 Žďár nad Sázavou 
 - Žďár nad Sázavou 1
SUMMARY:VY-M: TJ Žďár nad Sázavou-Tělovýchovná jednota Spartak Pelhřimov\, 
 z.s.
END:VEVENT
BEGIN:VEVENT
UID:35303563-3338-4964-b037-346130373662
DTSTAMP:20260422T221327Z
DESCRIPTION:12/36 TJ Žďár nad Sázavou - Tělovýchovná jednota Spartak Pelhři
 mov\, z.s. 1:3 (22\,-15\,-22\,-15)
DTSTART;TZID=Europe/Berlin:20260124T130000
DTEND;TZID=Europe/Berlin:20260124T150000
LOCATION:Sportovní hala na Bouchalkách\, Jungmannova 1495 Žďár nad Sázavou 
 - Žďár nad Sázavou 1
SUMMARY:VY-M: TJ Žďár nad Sázavou-Tělovýchovná jednota Spartak Pelhřimov\, 
 z.s.
END:VEVENT
BEGIN:VEVENT
UID:66613831-3066-4135-b338-343930383962
DTSTAMP:20260422T221327Z
DESCRIPTION:15/44 Sportovní klub Jihlava\, z.s. - Tělovýchovná jednota Spar
 tak Pelhřimov\, z.s. 3:2 (-19\,22\,-24\,21\,13)
DTSTART;TZID=Europe/Berlin:20260228T100000
DTEND;TZID=Europe/Berlin:20260228T120000
LOCATION:ZŠ Jihlava Demlova\, Demlova 4178 Jihlava
SUMMARY:VY-M: Sportovní klub Jihlava\, z.s.-Tělovýchovná jednota Spartak Pe
 lhřimov\, z.s.
END:VEVENT
BEGIN:VEVENT
UID:61643536-6634-4565-a638-306563343533
DTSTAMP:20260422T221327Z
DESCRIPTION:16/47 Sportovní klub Jihlava\, z.s. - Tělovýchovná jednota Spar
 tak Pelhřimov\, z.s. 3:0 (25\,21\,19)
DTSTART;TZID=Europe/Berlin:20260228T130000
DTEND;TZID=Europe/Berlin:20260228T150000
LOCATION:ZŠ Jihlava Demlova\, Demlova 4178 Jihlava
SUMMARY:VY-M: Sportovní klub Jihlava\, z.s.-Tělovýchovná jednota Spartak Pe
 lhřimov\, z.s.
END:VEVENT
BEGIN:VEVENT
UID:62653466-6333-4365-b765-393465336230
DTSTAMP:20260422T221327Z
DESCRIPTION:19/55 TJ Jiskra Havlíčkův Brod B - Tělovýchovná jednota Spartak
  Pelhřimov\, z.s. 0:3 (-20\,-13\,-13)
DTSTART;TZID=Europe/Berlin:20260314T100000
DTEND;TZID=Europe/Berlin:20260314T120000
LOCATION:Sportovní hala TJ Jiskra\, Ledečská 3028 Havlíčkův Brod
SUMMARY:VY-M: TJ Jiskra Havlíčkův Brod B-Tělovýchovná jednota Spartak Pelhř
 imov\, z.s.
END:VEVENT
BEGIN:VEVENT
UID:37376565-3863-4330-b531-666462353633
DTSTAMP:20260422T221327Z
DESCRIPTION:20/58 TJ Jiskra Havlíčkův Brod B - Tělovýchovná jednota Spartak
  Pelhřimov\, z.s. 1:3 (-17\,23\,-18\,-22)
DTSTART;TZID=Europe/Berlin:20260314T130000
DTEND;TZID=Europe/Berlin:20260314T150000
LOCATION:Sportovní hala TJ Jiskra\, Ledečská 3028 Havlíčkův Brod
SUMMARY:VY-M: TJ Jiskra Havlíčkův Brod B-Tělovýchovná jednota Spartak Pelhř
 imov\, z.s.
END:VEVENT
END:VCALENDAR
