BEGIN:VCALENDAR
VERSION:2.0
PRODID:-//Tělocvičná jednota Sokol Hrotovice90181//NONSGML kigkonsult.se iCalcreator 2.41.80//
CALSCALE:GREGORIAN
UID:61366139-6665-4462-b563-383737353762
BEGIN:VEVENT
UID:61333633-3939-4734-b435-376463313734
DTSTAMP:20260423T044412Z
DESCRIPTION:1/3 Tělocvičná jednota Sokol Hrotovice - Jihlava 0:2 (-16\,-25)
DTSTART;TZID=Europe/Berlin:20250914T100000
DTEND;TZID=Europe/Berlin:20250914T120000
LOCATION:Sportovní hala ZŠ Hrotovice\, F. B. Zvěřiny 221 Hrotovice
SUMMARY:PA-U16M-KV-III: Tělocvičná jednota Sokol Hrotovice-Jihlava
END:VEVENT
BEGIN:VEVENT
UID:36326430-3561-4131-a437-363036626636
DTSTAMP:20260423T044412Z
DESCRIPTION:1/1 TJ Jiskra Havlíčkův Brod - Tělocvičná jednota Sokol Hrotovi
 ce 2:0 (9\,20)
DTSTART;TZID=Europe/Berlin:20250914T090000
DTEND;TZID=Europe/Berlin:20250914T110000
LOCATION:Sportovní hala TJ Jiskra\, Ledečská 3028 Havlíčkův Brod
SUMMARY:PA-U16M-KV-III: TJ Jiskra Havlíčkův Brod-Tělocvičná jednota Sokol H
 rotovice
END:VEVENT
BEGIN:VEVENT
UID:34313734-6637-4833-a465-613663336535
DTSTAMP:20260423T044412Z
DESCRIPTION:1/5 Spartak Velké Meziříčí - Tělocvičná jednota Sokol Hrotovice
  2:0 (22\,15)
DTSTART;TZID=Europe/Berlin:20250914T110000
DTEND;TZID=Europe/Berlin:20250914T130000
LOCATION:ZŠ Komenského\, Komenského 1 Velké Meziříčí
SUMMARY:PA-U16M-KV-III: Spartak Velké Meziříčí-Tělocvičná jednota Sokol Hro
 tovice
END:VEVENT
BEGIN:VEVENT
UID:31626630-3664-4764-a661-353533646463
DTSTAMP:20260423T044412Z
DESCRIPTION:1/1 Tělocvičná jednota Sokol Hrotovice - Tělocvičná jednota Sok
 ol Kerhartice 3:2 (23\,-20\,-15\,20\,12)
DTSTART;TZID=Europe/Berlin:20251012T090000
DTEND;TZID=Europe/Berlin:20251012T110000
LOCATION:Sportovní hala ZŠ Hrotovice\, F. B. Zvěřiny 221 Hrotovice
SUMMARY:PA-U16M-1D: Tělocvičná jednota Sokol Hrotovice-Tělocvičná jednota S
 okol Kerhartice
END:VEVENT
BEGIN:VEVENT
UID:39336434-3638-4663-a632-396566663966
DTSTAMP:20260423T044412Z
DESCRIPTION:1/3 Tělocvičná jednota Sokol Hrotovice - Orel Letohrad 0:3 (-9\
 ,-13\,-11)
DTSTART;TZID=Europe/Berlin:20251012T130000
DTEND;TZID=Europe/Berlin:20251012T150000
LOCATION:Sportovní hala ZŠ Hrotovice\, F. B. Zvěřiny 221 Hrotovice
SUMMARY:PA-U16M-1D: Tělocvičná jednota Sokol Hrotovice-Orel Letohrad
END:VEVENT
BEGIN:VEVENT
UID:32353036-3630-4637-b830-383638636538
DTSTAMP:20260423T044412Z
DESCRIPTION:1/2 Tělocvičná jednota Sokol Hrotovice - Svitavy B 3:0 (15\,20\
 ,16)
DTSTART;TZID=Europe/Berlin:20251109T110000
DTEND;TZID=Europe/Berlin:20251109T130000
LOCATION:Sportovní hala ZŠ Hrotovice\, F. B. Zvěřiny 221 Hrotovice
SUMMARY:PA-U16M-2D: Tělocvičná jednota Sokol Hrotovice-Svitavy B
END:VEVENT
BEGIN:VEVENT
UID:36356564-3063-4361-b037-333061613538
DTSTAMP:20260423T044412Z
DESCRIPTION:1/3 Tělocvičná jednota Sokol Kerhartice - Tělocvičná jednota So
 kol Hrotovice 0:3 (-19\,-19\,-18)
DTSTART;TZID=Europe/Berlin:20251109T130000
DTEND;TZID=Europe/Berlin:20251109T150000
LOCATION:Střední škola automobilní\, Dukelská 313 Ústí nad Orlicí - Hylváty
SUMMARY:PA-U16M-2D: Tělocvičná jednota Sokol Kerhartice-Tělocvičná jednota 
 Sokol Hrotovice
END:VEVENT
BEGIN:VEVENT
UID:34303063-3736-4930-a263-363736343735
DTSTAMP:20260423T044412Z
DESCRIPTION:1/1 TJ Jiskra Havlíčkův Brod - Tělocvičná jednota Sokol Hrotovi
 ce 3:0 (15\,20\,22)
DTSTART;TZID=Europe/Berlin:20251207T090000
DTEND;TZID=Europe/Berlin:20251207T110000
LOCATION:Sportovní hala TJ Jiskra\, Ledečská 3028 Havlíčkův Brod
SUMMARY:PA-U16M-3C: TJ Jiskra Havlíčkův Brod-Tělocvičná jednota Sokol Hroto
 vice
END:VEVENT
BEGIN:VEVENT
UID:66666438-3433-4334-b930-663534303038
DTSTAMP:20260423T044412Z
DESCRIPTION:1/2 Volejbalový klub Choceň\, z.s. - Tělocvičná jednota Sokol H
 rotovice 3:1 (23\,12\,-23\,22)
DTSTART;TZID=Europe/Berlin:20251207T110000
DTEND;TZID=Europe/Berlin:20251207T130000
LOCATION:Volejbalová hala \, U Koupaliště 1734 Choceň
SUMMARY:PA-U16M-3C: Volejbalový klub Choceň\, z.s.-Tělocvičná jednota Sokol
  Hrotovice
END:VEVENT
BEGIN:VEVENT
UID:34386464-3832-4662-a138-623639666236
DTSTAMP:20260423T044412Z
DESCRIPTION:1/1 Tělocvičná jednota Sokol Hrotovice - Svitavy B 2:3 (20\,-14
 \,-18\,21\,-8)
DTSTART;TZID=Europe/Berlin:20260118T090000
DTEND;TZID=Europe/Berlin:20260118T110000
LOCATION:Sportovní hala ZŠ Hrotovice\, F. B. Zvěřiny 221 Hrotovice
SUMMARY:PA-U16M-4D: Tělocvičná jednota Sokol Hrotovice-Svitavy B
END:VEVENT
BEGIN:VEVENT
UID:34383136-3231-4264-a331-313962353232
DTSTAMP:20260423T044412Z
DESCRIPTION:1/3 Tělocvičná jednota Sokol Hrotovice - Tělocvičná jednota Sok
 ol Kerhartice 3:1 (19\,26\,-15\,23)
DTSTART;TZID=Europe/Berlin:20260118T130000
DTEND;TZID=Europe/Berlin:20260118T150000
LOCATION:Sportovní hala ZŠ Hrotovice\, F. B. Zvěřiny 221 Hrotovice
SUMMARY:PA-U16M-4D: Tělocvičná jednota Sokol Hrotovice-Tělocvičná jednota S
 okol Kerhartice
END:VEVENT
BEGIN:VEVENT
UID:37623766-3864-4164-b436-383231323966
DTSTAMP:20260423T044412Z
DESCRIPTION:1/2 Tělocvičná jednota Sokol Hrotovice - TJ Jiskra Havlíčkův Br
 od 0:3 (-6\,-17\,-22)
DTSTART;TZID=Europe/Berlin:20260222T110000
DTEND;TZID=Europe/Berlin:20260222T130000
LOCATION:Sportovní hala ZŠ Hrotovice\, F. B. Zvěřiny 221 Hrotovice
SUMMARY:PA-U16M-5D: Tělocvičná jednota Sokol Hrotovice-TJ Jiskra Havlíčkův 
 Brod
END:VEVENT
BEGIN:VEVENT
UID:35383466-6138-4266-a437-326130386366
DTSTAMP:20260423T044412Z
DESCRIPTION:1/3 Tělocvičná jednota Sokol Kerhartice - Tělocvičná jednota So
 kol Hrotovice 3:1 (18\,-16\,17\,19)
DTSTART;TZID=Europe/Berlin:20260222T130000
DTEND;TZID=Europe/Berlin:20260222T150000
LOCATION:Střední škola automobilní\, Dukelská 313 Ústí nad Orlicí - Hylváty
SUMMARY:PA-U16M-5D: Tělocvičná jednota Sokol Kerhartice-Tělocvičná jednota 
 Sokol Hrotovice
END:VEVENT
BEGIN:VEVENT
UID:33656535-3134-4066-a230-666436383132
DTSTAMP:20260423T044412Z
DESCRIPTION:1/2 Tělocvičná jednota Sokol Hrotovice - Tělocvičná jednota Sok
 ol Kerhartice
DTSTART;TZID=Europe/Berlin:20260308T110000
DTEND;TZID=Europe/Berlin:20260308T130000
LOCATION:Sportovní hala ZŠ Hrotovice\, F. B. Zvěřiny 221 Hrotovice
SUMMARY:PA-U16M-6D: Tělocvičná jednota Sokol Hrotovice-Tělocvičná jednota S
 okol Kerhartice
END:VEVENT
BEGIN:VEVENT
UID:33373831-3435-4463-a334-363961383836
DTSTAMP:20260423T044412Z
DESCRIPTION:1/3 VoCe - Tělocvičná jednota Sokol Hrotovice
DTSTART;TZID=Europe/Berlin:20260308T130000
DTEND;TZID=Europe/Berlin:20260308T150000
LOCATION:Tělocvična ZŠ Černčice\,  Černčice68
SUMMARY:PA-U16M-6D: VoCe-Tělocvičná jednota Sokol Hrotovice
END:VEVENT
BEGIN:VEVENT
UID:33363839-3136-4366-b264-326466353138
DTSTAMP:20260423T044412Z
DESCRIPTION:1/2 Tělocvičná jednota Sokol Hrotovice - Svitavy B 0:3 (-21\,-1
 2\,-22)
DTSTART;TZID=Europe/Berlin:20260329T110000
DTEND;TZID=Europe/Berlin:20260329T130000
LOCATION:Sportovní hala ZŠ Hrotovice\, F. B. Zvěřiny 221 Hrotovice
SUMMARY:PA-U16M-7D: Tělocvičná jednota Sokol Hrotovice-Svitavy B
END:VEVENT
BEGIN:VEVENT
UID:34303165-6438-4939-b234-303665333665
DTSTAMP:20260423T044412Z
DESCRIPTION:1/3 Tělocvičná jednota Sokol Kerhartice - Tělocvičná jednota So
 kol Hrotovice 3:0 (18\,22\,15)
DTSTART;TZID=Europe/Berlin:20260329T130000
DTEND;TZID=Europe/Berlin:20260329T150000
LOCATION:Střední škola automobilní\, Dukelská 313 Ústí nad Orlicí - Hylváty
SUMMARY:PA-U16M-7D: Tělocvičná jednota Sokol Kerhartice-Tělocvičná jednota 
 Sokol Hrotovice
END:VEVENT
END:VCALENDAR
