BEGIN:VCALENDAR
VERSION:2.0
PRODID:-//Orel jednota Studenec90184//NONSGML kigkonsult.se iCalcreator 2.41.80//
CALSCALE:GREGORIAN
UID:37653831-3263-4235-b963-376131626164
BEGIN:VEVENT
UID:30303535-3635-4432-a432-623739343339
DTSTAMP:20260422T033929Z
DESCRIPTION:1/3 Orel Studenec - Nová Paka 0:2 (-7\,-15)
DTSTART;TZID=Europe/Berlin:20250921T090000
DTEND;TZID=Europe/Berlin:20250921T110000
LOCATION:Sportovní hala Jilemnice\, Metyšova 102 Jilemnice
SUMMARY:HK-U16Z-ZD: Orel Studenec-Nová Paka
END:VEVENT
BEGIN:VEVENT
UID:63343434-3466-4131-b664-633733356163
DTSTAMP:20260422T033929Z
DESCRIPTION:2/8 Orel Studenec - Nová Paka 0:2 (-12\,-16)
DTSTART;TZID=Europe/Berlin:20251005T090000
DTEND;TZID=Europe/Berlin:20251005T110000
LOCATION:Sportovní hala Jilemnice\, Metyšova 102 Jilemnice
SUMMARY:HK-U16Z-ZD: Orel Studenec-Nová Paka
END:VEVENT
BEGIN:VEVENT
UID:66643366-3766-4037-a432-636231356434
DTSTAMP:20260422T033929Z
DESCRIPTION:4/19 Orel Studenec - B.Třemešná 2:0 (11\,23)\npoř: Studenec
DTSTART;TZID=Europe/Berlin:20251102T090000
DTEND;TZID=Europe/Berlin:20251102T110000
LOCATION:Sportovní hala Jilemnice\, Metyšova 102 Jilemnice
SUMMARY:HK-U16Z-ZD: Orel Studenec-B.Třemešná
END:VEVENT
BEGIN:VEVENT
UID:37623066-6163-4164-b462-386636353866
DTSTAMP:20260422T033929Z
DESCRIPTION:4/21 Orel Studenec - Nová Paka 1:2 (-10\,24\,-7)
DTSTART;TZID=Europe/Berlin:20251102T090000
DTEND;TZID=Europe/Berlin:20251102T110000
LOCATION:Sportovní hala Jilemnice\, Metyšova 102 Jilemnice
SUMMARY:HK-U16Z-ZD: Orel Studenec-Nová Paka
END:VEVENT
BEGIN:VEVENT
UID:63623937-3966-4339-b836-663232393266
DTSTAMP:20260422T033929Z
DESCRIPTION:4/22 Orel Studenec - B.Třemešná 2:0 (6\,21)
DTSTART;TZID=Europe/Berlin:20251102T090000
DTEND;TZID=Europe/Berlin:20251102T110000
LOCATION:Sportovní hala Jilemnice\, Metyšova 102 Jilemnice
SUMMARY:HK-U16Z-ZD: Orel Studenec-B.Třemešná
END:VEVENT
BEGIN:VEVENT
UID:32396466-3139-4966-a539-633330336366
DTSTAMP:20260422T033929Z
DESCRIPTION:4/24 Orel Studenec - Nová Paka 0:2 (-14\,-17)
DTSTART;TZID=Europe/Berlin:20251102T090000
DTEND;TZID=Europe/Berlin:20251102T110000
LOCATION:Sportovní hala Jilemnice\, Metyšova 102 Jilemnice
SUMMARY:HK-U16Z-ZD: Orel Studenec-Nová Paka
END:VEVENT
BEGIN:VEVENT
UID:37363931-3766-4665-b163-663032666262
DTSTAMP:20260422T033929Z
DESCRIPTION:1/2 B.Třemešná - Orel Studenec 0:2 (-15\,-17)
DTSTART;TZID=Europe/Berlin:20250921T090000
DTEND;TZID=Europe/Berlin:20250921T110000
LOCATION:Sportovní hala Jilemnice\, Metyšova 102 Jilemnice
SUMMARY:HK-U16Z-ZD: B.Třemešná-Orel Studenec
END:VEVENT
BEGIN:VEVENT
UID:32356166-6539-4036-a431-356262663161
DTSTAMP:20260422T033929Z
DESCRIPTION:1/5 B.Třemešná - Orel Studenec 2:1 (-12\,20\,15)
DTSTART;TZID=Europe/Berlin:20250921T090000
DTEND;TZID=Europe/Berlin:20250921T110000
LOCATION:Sportovní hala Jilemnice\, Metyšova 102 Jilemnice
SUMMARY:HK-U16Z-ZD: B.Třemešná-Orel Studenec
END:VEVENT
BEGIN:VEVENT
UID:37643037-3538-4066-b230-623535633834
DTSTAMP:20260422T033929Z
DESCRIPTION:1/6 Nová Paka - Orel Studenec 2:0 (7\,20)
DTSTART;TZID=Europe/Berlin:20250921T090000
DTEND;TZID=Europe/Berlin:20250921T110000
LOCATION:Sportovní hala Jilemnice\, Metyšova 102 Jilemnice
SUMMARY:HK-U16Z-ZD: Nová Paka-Orel Studenec
END:VEVENT
BEGIN:VEVENT
UID:31383364-3835-4866-a362-313433323465
DTSTAMP:20260422T033929Z
DESCRIPTION:2/9 B.Třemešná - Orel Studenec 0:2 (-15\,-21)
DTSTART;TZID=Europe/Berlin:20251005T090000
DTEND;TZID=Europe/Berlin:20251005T110000
LOCATION:Sportovní hala Jilemnice\, Metyšova 102 Jilemnice
SUMMARY:HK-U16Z-ZD: B.Třemešná-Orel Studenec
END:VEVENT
BEGIN:VEVENT
UID:34313539-6264-4261-b331-616135333165
DTSTAMP:20260422T033929Z
DESCRIPTION:2/11 Nová Paka - Orel Studenec 2:0 (22\,5)
DTSTART;TZID=Europe/Berlin:20251005T090000
DTEND;TZID=Europe/Berlin:20251005T110000
LOCATION:Sportovní hala Jilemnice\, Metyšova 102 Jilemnice
SUMMARY:HK-U16Z-ZD: Nová Paka-Orel Studenec
END:VEVENT
BEGIN:VEVENT
UID:36623232-3261-4231-b437-326362373335
DTSTAMP:20260422T033929Z
DESCRIPTION:2/12 B.Třemešná - Orel Studenec 0:2 (-20\,-16)
DTSTART;TZID=Europe/Berlin:20251005T090000
DTEND;TZID=Europe/Berlin:20251005T110000
LOCATION:Sportovní hala Jilemnice\, Metyšova 102 Jilemnice
SUMMARY:HK-U16Z-ZD: B.Třemešná-Orel Studenec
END:VEVENT
BEGIN:VEVENT
UID:66663538-6362-4134-b638-616663383365
DTSTAMP:20260422T033929Z
DESCRIPTION:1/2 Hronov - Orel Studenec 0:2 (-25\,-16)
DTSTART;TZID=Europe/Berlin:20251117T090000
DTEND;TZID=Europe/Berlin:20251117T110000
LOCATION:TJ Slavia Hradec Králové\, Víta Nejedlého 1216 Hradec Králové
SUMMARY:HK-U16Z-1FB: Hronov-Orel Studenec
END:VEVENT
BEGIN:VEVENT
UID:30376434-3837-4839-b530-633431666366
DTSTAMP:20260422T033929Z
DESCRIPTION:1/4 Sokol Pouchov - Orel Studenec 2:0 (13\,24)
DTSTART;TZID=Europe/Berlin:20251117T103000
DTEND;TZID=Europe/Berlin:20251117T123000
LOCATION:TJ Slavia Hradec Králové\, Víta Nejedlého 1216 Hradec Králové
SUMMARY:HK-U16Z-1FB: Sokol Pouchov-Orel Studenec
END:VEVENT
BEGIN:VEVENT
UID:63653462-3338-4861-a265-366232393934
DTSTAMP:20260422T033929Z
DESCRIPTION:1/6 Slavia H.Králové - Orel Studenec 2:0 (18\,17)
DTSTART;TZID=Europe/Berlin:20251117T120000
DTEND;TZID=Europe/Berlin:20251117T140000
LOCATION:TJ Slavia Hradec Králové\, Víta Nejedlého 1216 Hradec Králové
SUMMARY:HK-U16Z-1FB: Slavia H.Králové-Orel Studenec
END:VEVENT
BEGIN:VEVENT
UID:34393739-3636-4032-b563-653330366137
DTSTAMP:20260422T033929Z
DESCRIPTION:1/2 Nová Paka - Orel Studenec 2:0 (18\,16)
DTSTART;TZID=Europe/Berlin:20251123T093000
DTEND;TZID=Europe/Berlin:20251123T113000
LOCATION:Sportovní hala\, Palackého 1234 Červený Kostelec
SUMMARY:HK-U16Z-2FB: Nová Paka-Orel Studenec
END:VEVENT
BEGIN:VEVENT
UID:31616333-3736-4630-b931-343736613233
DTSTAMP:20260422T033929Z
DESCRIPTION:1/4 Sokol Pouchov - Orel Studenec 2:1 (20\,-15\,13)
DTSTART;TZID=Europe/Berlin:20251123T110000
DTEND;TZID=Europe/Berlin:20251123T130000
LOCATION:Sportovní hala\, Palackého 1234 Červený Kostelec
SUMMARY:HK-U16Z-2FB: Sokol Pouchov-Orel Studenec
END:VEVENT
BEGIN:VEVENT
UID:36396437-6435-4939-a464-366239646533
DTSTAMP:20260422T033929Z
DESCRIPTION:1/6 Červený Kostelec - Orel Studenec 2:0 (17\,23)
DTSTART;TZID=Europe/Berlin:20251123T120000
DTEND;TZID=Europe/Berlin:20251123T140000
LOCATION:Sportovní hala\, Palackého 1234 Červený Kostelec
SUMMARY:HK-U16Z-2FB: Červený Kostelec-Orel Studenec
END:VEVENT
BEGIN:VEVENT
UID:32306565-3166-4232-b030-383336323634
DTSTAMP:20260422T033929Z
DESCRIPTION:1/2 B.Třemešná - Orel Studenec 0:2 (-15\,-23)
DTSTART;TZID=Europe/Berlin:20251214T100000
DTEND;TZID=Europe/Berlin:20251214T120000
LOCATION:Slavíčkova hala\, Sokolská 795 Chlumec nad Cidlinou - Chlumec nad 
 Cidlinou IV
SUMMARY:HK-U16Z-3FC: B.Třemešná-Orel Studenec
END:VEVENT
BEGIN:VEVENT
UID:65656636-3661-4564-b635-396532333661
DTSTAMP:20260422T033929Z
DESCRIPTION:1/4 Staré M.Náchod - Orel Studenec 2:1 (16\,-10\,8)
DTSTART;TZID=Europe/Berlin:20251214T111500
DTEND;TZID=Europe/Berlin:20251214T131500
LOCATION:Slavíčkova hala\, Sokolská 795 Chlumec nad Cidlinou - Chlumec nad 
 Cidlinou IV
SUMMARY:HK-U16Z-3FC: Staré M.Náchod-Orel Studenec
END:VEVENT
BEGIN:VEVENT
UID:38373130-6333-4039-b335-663834396336
DTSTAMP:20260422T033929Z
DESCRIPTION:1/6 Chlumec/.C. - Orel Studenec 1:2 (19\,-16\,-12)
DTSTART;TZID=Europe/Berlin:20251214T130000
DTEND;TZID=Europe/Berlin:20251214T150000
LOCATION:Slavíčkova hala\, Sokolská 795 Chlumec nad Cidlinou - Chlumec nad 
 Cidlinou IV
SUMMARY:HK-U16Z-3FC: Chlumec/.C.-Orel Studenec
END:VEVENT
BEGIN:VEVENT
UID:33303030-6261-4433-a134-613966386133
DTSTAMP:20260422T033929Z
DESCRIPTION:1/1 Orel Studenec - B.Třemešná 2:1 (-17\,22\,9)
DTSTART;TZID=Europe/Berlin:20260111T090000
DTEND;TZID=Europe/Berlin:20260111T110000
LOCATION:Sokolovna Studenec\,  Studenec59
SUMMARY:HK-U16Z-4FC: Orel Studenec-B.Třemešná
END:VEVENT
BEGIN:VEVENT
UID:64613331-3735-4462-b066-306465316561
DTSTAMP:20260422T033929Z
DESCRIPTION:1/6 Orel Studenec - Hronov 0:2 (-14\,-16)
DTSTART;TZID=Europe/Berlin:20260111T140000
DTEND;TZID=Europe/Berlin:20260111T160000
LOCATION:Sokolovna Studenec\,  Studenec59
SUMMARY:HK-U16Z-4FC: Orel Studenec-Hronov
END:VEVENT
BEGIN:VEVENT
UID:62633461-3632-4738-b730-666461333436
DTSTAMP:20260422T033929Z
DESCRIPTION:1/3 RÉMA Rychnov - Orel Studenec 1:2 (23\,-19\,-13)
DTSTART;TZID=Europe/Berlin:20260111T110000
DTEND;TZID=Europe/Berlin:20260111T130000
LOCATION:Sokolovna Studenec\,  Studenec59
SUMMARY:HK-U16Z-4FC: RÉMA Rychnov-Orel Studenec
END:VEVENT
BEGIN:VEVENT
UID:32313537-3361-4438-a661-363338326433
DTSTAMP:20260422T033929Z
DESCRIPTION:1/2 Orel Studenec - Chlumec/.C. 2:0 (23\,19)
DTSTART;TZID=Europe/Berlin:20260125T100000
DTEND;TZID=Europe/Berlin:20260125T120000
LOCATION:tělocvična ZŠ Javornická\, Javornická 1596 Rychnov nad Kněžnou
SUMMARY:HK-U16Z-5FC: Orel Studenec-Chlumec/.C.
END:VEVENT
BEGIN:VEVENT
UID:32353366-3765-4664-b461-643731386162
DTSTAMP:20260422T033929Z
DESCRIPTION:1/3 Orel Studenec - RÉMA Rychnov 0:2 (-22\,-18)
DTSTART;TZID=Europe/Berlin:20260125T110000
DTEND;TZID=Europe/Berlin:20260125T130000
LOCATION:tělocvična ZŠ Javornická\, Javornická 1596 Rychnov nad Kněžnou
SUMMARY:HK-U16Z-5FC: Orel Studenec-RÉMA Rychnov
END:VEVENT
BEGIN:VEVENT
UID:36626461-3263-4638-a661-616131646465
DTSTAMP:20260422T033929Z
DESCRIPTION:1/5 Orel Studenec - Staré M.Náchod 0:2 (-22\,-17)
DTSTART;TZID=Europe/Berlin:20260125T130000
DTEND;TZID=Europe/Berlin:20260125T150000
LOCATION:tělocvična ZŠ Javornická\, Javornická 1596 Rychnov nad Kněžnou
SUMMARY:HK-U16Z-5FC: Orel Studenec-Staré M.Náchod
END:VEVENT
BEGIN:VEVENT
UID:61333534-6534-4632-b737-363464323337
DTSTAMP:20260422T033929Z
DESCRIPTION:1/2 Staré M.Náchod - Orel Studenec 1:2 (-11\,20\,-5)
DTSTART;TZID=Europe/Berlin:20260222T110000
DTEND;TZID=Europe/Berlin:20260222T130000
LOCATION:Tělocvična ZŠ Náchod - Staré Město nad Metují\, Drtinovo náměstí 1
 21 Náchod - Staré Město nad Metují
SUMMARY:HK-U16Z-6FC: Staré M.Náchod-Orel Studenec
END:VEVENT
BEGIN:VEVENT
UID:30333161-6635-4461-b763-393137313865
DTSTAMP:20260422T033929Z
DESCRIPTION:1/4 B.Třemešná - Orel Studenec 0:2 (-16\,-22)
DTSTART;TZID=Europe/Berlin:20260222T100000
DTEND;TZID=Europe/Berlin:20260222T120000
LOCATION:Tělocvična ZŠ Náchod - Staré Město nad Metují\, Drtinovo náměstí 1
 21 Náchod - Staré Město nad Metují
SUMMARY:HK-U16Z-6FC: B.Třemešná-Orel Studenec
END:VEVENT
BEGIN:VEVENT
UID:63643639-6133-4736-b136-336437666538
DTSTAMP:20260422T033929Z
DESCRIPTION:1/6 Červený Kostelec - Orel Studenec 2:1 (22\,-21\,11)
DTSTART;TZID=Europe/Berlin:20260222T130000
DTEND;TZID=Europe/Berlin:20260222T150000
LOCATION:Tělocvična ZŠ Náchod - Staré Město nad Metují\, Drtinovo náměstí 1
 21 Náchod - Staré Město nad Metují
SUMMARY:HK-U16Z-6FC: Červený Kostelec-Orel Studenec
END:VEVENT
END:VCALENDAR
