BEGIN:VCALENDAR
VERSION:2.0
PRODID:-//Školní sportovní klub při Gymnáziu Šlapanice90192//NONSGML kigkonsult.se iCalcreator 2.41.80//
CALSCALE:GREGORIAN
UID:62366633-3232-4332-b466-653435653437
BEGIN:VEVENT
UID:62323533-3337-4239-b265-396537376532
DTSTAMP:20260422T053804Z
DESCRIPTION:1/4 ŠSK při Gymnáziu Šlapanice - Tělocvičná jednota Sokol Šlapa
 nice u Brna 3:0 (25\,10\,25)
DTSTART;TZID=Europe/Berlin:20251004T100000
DTEND;TZID=Europe/Berlin:20251004T120000
LOCATION:Sportovní a společenská hala Nebovidy\,  Nebovidy250
SUMMARY:JM-Z-1: ŠSK při Gymnáziu Šlapanice-Tělocvičná jednota Sokol Šlapani
 ce u Brna
END:VEVENT
BEGIN:VEVENT
UID:31383239-3337-4339-a332-313030343665
DTSTAMP:20260422T053804Z
DESCRIPTION:2/9 ŠSK při Gymnáziu Šlapanice - Tělocvičná jednota Sokol Šlapa
 nice u Brna 3:0 (20\,23\,24)
DTSTART;TZID=Europe/Berlin:20251004T130000
DTEND;TZID=Europe/Berlin:20251004T150000
LOCATION:Sportovní a společenská hala Nebovidy\,  Nebovidy250
SUMMARY:JM-Z-1: ŠSK při Gymnáziu Šlapanice-Tělocvičná jednota Sokol Šlapani
 ce u Brna
END:VEVENT
BEGIN:VEVENT
UID:34366139-6265-4538-b537-656236623166
DTSTAMP:20260422T053804Z
DESCRIPTION:5/23 ŠSK při Gymnáziu Šlapanice - Újezd u Brna 0:3 (-14\,-19\,-
 19)
DTSTART;TZID=Europe/Berlin:20251018T100000
DTEND;TZID=Europe/Berlin:20251018T120000
LOCATION:Sportovní a společenská hala Nebovidy\,  Nebovidy250
SUMMARY:JM-Z-1: ŠSK při Gymnáziu Šlapanice-Újezd u Brna
END:VEVENT
BEGIN:VEVENT
UID:36393830-6233-4737-b637-393837383362
DTSTAMP:20260422T053804Z
DESCRIPTION:6/28 ŠSK při Gymnáziu Šlapanice - Újezd u Brna 0:3 (-17\,-21\,-
 15)
DTSTART;TZID=Europe/Berlin:20251018T130000
DTEND;TZID=Europe/Berlin:20251018T150000
LOCATION:Sportovní a společenská hala Nebovidy\,  Nebovidy250
SUMMARY:JM-Z-1: ŠSK při Gymnáziu Šlapanice-Újezd u Brna
END:VEVENT
BEGIN:VEVENT
UID:62383230-3832-4263-b035-393637646131
DTSTAMP:20260422T053804Z
DESCRIPTION:9/42 ŠSK při Gymnáziu Šlapanice - TJ Sokol Jehnice 0:3 (-22\,-1
 2\,-18)
DTSTART;TZID=Europe/Berlin:20260201T120000
DTEND;TZID=Europe/Berlin:20260201T140000
LOCATION:Sportovní a společenská hala Nebovidy\,  Nebovidy250
SUMMARY:JM-Z-1: ŠSK při Gymnáziu Šlapanice-TJ Sokol Jehnice
END:VEVENT
BEGIN:VEVENT
UID:65356233-3732-4062-a239-623936383361
DTSTAMP:20260422T053804Z
DESCRIPTION:10/47 ŠSK při Gymnáziu Šlapanice - TJ Sokol Jehnice 3:1 (23\,-3
 5\,18\,18)
DTSTART;TZID=Europe/Berlin:20260201T143000
DTEND;TZID=Europe/Berlin:20260201T163000
LOCATION:Sportovní a společenská hala Nebovidy\,  Nebovidy250
SUMMARY:JM-Z-1: ŠSK při Gymnáziu Šlapanice-TJ Sokol Jehnice
END:VEVENT
BEGIN:VEVENT
UID:30363431-3666-4564-b834-636432653462
DTSTAMP:20260422T053804Z
DESCRIPTION:13/61 ŠSK při Gymnáziu Šlapanice - TJ Sokol Hodonín 3:1 (17\,-1
 7\,24\,19)
DTSTART;TZID=Europe/Berlin:20251129T100000
DTEND;TZID=Europe/Berlin:20251129T120000
LOCATION:Sportovní a společenská hala Nebovidy\,  Nebovidy250
SUMMARY:JM-Z-1: ŠSK při Gymnáziu Šlapanice-TJ Sokol Hodonín
END:VEVENT
BEGIN:VEVENT
UID:37373134-6533-4364-b036-323037663862
DTSTAMP:20260422T053804Z
DESCRIPTION:14/66 ŠSK při Gymnáziu Šlapanice - TJ Sokol Hodonín 3:1 (10\,29
 \,-23\,18)
DTSTART;TZID=Europe/Berlin:20251129T130000
DTEND;TZID=Europe/Berlin:20251129T150000
LOCATION:Sportovní a společenská hala Nebovidy\,  Nebovidy250
SUMMARY:JM-Z-1: ŠSK při Gymnáziu Šlapanice-TJ Sokol Hodonín
END:VEVENT
BEGIN:VEVENT
UID:39366539-3461-4233-b864-363661656133
DTSTAMP:20260422T053804Z
DESCRIPTION:15/75 ŠSK při Gymnáziu Šlapanice - VK Znojmo - Přímětice 2:3 (-
 20\,19\,-23\,14\,-8)
DTSTART;TZID=Europe/Berlin:20251206T100000
DTEND;TZID=Europe/Berlin:20251206T120000
LOCATION:Sportovní a společenská hala Nebovidy\,  Nebovidy250
SUMMARY:JM-Z-1: ŠSK při Gymnáziu Šlapanice-VK Znojmo - Přímětice
END:VEVENT
BEGIN:VEVENT
UID:39626237-3136-4361-b964-366639653636
DTSTAMP:20260422T053804Z
DESCRIPTION:16/80 ŠSK při Gymnáziu Šlapanice - VK Znojmo - Přímětice 3:1 (1
 3\,20\,-23\,19)
DTSTART;TZID=Europe/Berlin:20251206T130000
DTEND;TZID=Europe/Berlin:20251206T150000
LOCATION:Sportovní a společenská hala Nebovidy\,  Nebovidy250
SUMMARY:JM-Z-1: ŠSK při Gymnáziu Šlapanice-VK Znojmo - Přímětice
END:VEVENT
BEGIN:VEVENT
UID:34373733-6663-4431-a535-393334353833
DTSTAMP:20260422T053804Z
DESCRIPTION:21/103 ŠSK při Gymnáziu Šlapanice - VK Lužánky - SVČ 3:0 (15\,1
 4\,21)
DTSTART;TZID=Europe/Berlin:20260110T100000
DTEND;TZID=Europe/Berlin:20260110T120000
LOCATION:Sportovní a společenská hala Nebovidy\,  Nebovidy250
SUMMARY:JM-Z-1: ŠSK při Gymnáziu Šlapanice-VK Lužánky - SVČ
END:VEVENT
BEGIN:VEVENT
UID:34333136-3464-4466-a262-376230633432
DTSTAMP:20260422T053804Z
DESCRIPTION:22/108 ŠSK při Gymnáziu Šlapanice - VK Lužánky - SVČ 3:2 (-20\,
 19\,-11\,18\,9)
DTSTART;TZID=Europe/Berlin:20260110T130000
DTEND;TZID=Europe/Berlin:20260110T150000
LOCATION:Sportovní a společenská hala Nebovidy\,  Nebovidy250
SUMMARY:JM-Z-1: ŠSK při Gymnáziu Šlapanice-VK Lužánky - SVČ
END:VEVENT
BEGIN:VEVENT
UID:39663131-3264-4336-a361-633366353934
DTSTAMP:20260422T053804Z
DESCRIPTION:25/124 ŠSK při Gymnáziu Šlapanice - TJ Minerva Boskovice 3:0 (2
 0\,22\,19)
DTSTART;TZID=Europe/Berlin:20251101T090000
DTEND;TZID=Europe/Berlin:20251101T110000
LOCATION:Sportovní a společenská hala Nebovidy\,  Nebovidy250
SUMMARY:JM-Z-1: ŠSK při Gymnáziu Šlapanice-TJ Minerva Boskovice
END:VEVENT
BEGIN:VEVENT
UID:38373339-6161-4164-b131-663034383364
DTSTAMP:20260422T053804Z
DESCRIPTION:26/129 ŠSK při Gymnáziu Šlapanice - TJ Minerva Boskovice 3:2 (-
 21\,23\,24\,-20\,13)
DTSTART;TZID=Europe/Berlin:20251101T120000
DTEND;TZID=Europe/Berlin:20251101T140000
LOCATION:Sportovní a společenská hala Nebovidy\,  Nebovidy250
SUMMARY:JM-Z-1: ŠSK při Gymnáziu Šlapanice-TJ Minerva Boskovice
END:VEVENT
BEGIN:VEVENT
UID:63666536-3533-4439-a137-383734663865
DTSTAMP:20260422T053804Z
DESCRIPTION:29/145 ŠSK při Gymnáziu Šlapanice - VS Vydry Drásov 3:0 (10\,17
 \,20)
DTSTART;TZID=Europe/Berlin:20260207T100000
DTEND;TZID=Europe/Berlin:20260207T120000
LOCATION:Sportovní a společenská hala Nebovidy\,  Nebovidy250
SUMMARY:JM-Z-1: ŠSK při Gymnáziu Šlapanice-VS Vydry Drásov
END:VEVENT
BEGIN:VEVENT
UID:32623533-3533-4835-b166-383163393862
DTSTAMP:20260422T053804Z
DESCRIPTION:30/150 ŠSK při Gymnáziu Šlapanice - VS Vydry Drásov 3:1 (-21\,1
 9\,9\,15)
DTSTART;TZID=Europe/Berlin:20260207T130000
DTEND;TZID=Europe/Berlin:20260207T150000
LOCATION:Sportovní a společenská hala Nebovidy\,  Nebovidy250
SUMMARY:JM-Z-1: ŠSK při Gymnáziu Šlapanice-VS Vydry Drásov
END:VEVENT
BEGIN:VEVENT
UID:30396335-3037-4465-b664-653939623838
DTSTAMP:20260422T053804Z
DESCRIPTION:3/13 VK Lužánky - SVČ - ŠSK při Gymnáziu Šlapanice 1:3 (-18\,11
 \,-15\,-23)
DTSTART;TZID=Europe/Berlin:20251011T100000
DTEND;TZID=Europe/Berlin:20251011T120000
LOCATION:ZŠ Masarova\, Masarova 2360 Brno - Líšeň
SUMMARY:JM-Z-1: VK Lužánky - SVČ-ŠSK při Gymnáziu Šlapanice
END:VEVENT
BEGIN:VEVENT
UID:38663130-3939-4131-b335-353963623031
DTSTAMP:20260422T053804Z
DESCRIPTION:4/18 VK Lužánky - SVČ - ŠSK při Gymnáziu Šlapanice 3:2 (-21\,-2
 0\,23\,21\,10)
DTSTART;TZID=Europe/Berlin:20251011T130000
DTEND;TZID=Europe/Berlin:20251011T150000
LOCATION:ZŠ Masarova\, Masarova 2360 Brno - Líšeň
SUMMARY:JM-Z-1: VK Lužánky - SVČ-ŠSK při Gymnáziu Šlapanice
END:VEVENT
BEGIN:VEVENT
UID:64366436-6131-4261-b264-353333306431
DTSTAMP:20260422T053804Z
DESCRIPTION:7/34 TJ Minerva Boskovice - ŠSK při Gymnáziu Šlapanice 0:3 (-17
 \,-19\,-17)
DTSTART;TZID=Europe/Berlin:20260124T090000
DTEND;TZID=Europe/Berlin:20260124T110000
LOCATION:Tělocvična ZŠ\, Slovákova 2006 Boskovice
SUMMARY:JM-Z-1: TJ Minerva Boskovice-ŠSK při Gymnáziu Šlapanice
END:VEVENT
BEGIN:VEVENT
UID:61386331-6435-4437-b430-633334373034
DTSTAMP:20260422T053804Z
DESCRIPTION:8/39 TJ Minerva Boskovice - ŠSK při Gymnáziu Šlapanice 0:3 (-18
 \,-10\,-16)
DTSTART;TZID=Europe/Berlin:20260124T120000
DTEND;TZID=Europe/Berlin:20260124T140000
LOCATION:Tělocvična ZŠ\, Slovákova 2006 Boskovice
SUMMARY:JM-Z-1: TJ Minerva Boskovice-ŠSK při Gymnáziu Šlapanice
END:VEVENT
BEGIN:VEVENT
UID:38383730-3734-4239-b538-316438623639
DTSTAMP:20260422T053804Z
DESCRIPTION:11/55 VS Vydry Drásov - ŠSK při Gymnáziu Šlapanice 2:3 (23\,15\
 ,-16\,-14\,-8)
DTSTART;TZID=Europe/Berlin:20251122T100000
DTEND;TZID=Europe/Berlin:20251122T120000
LOCATION:Hala u ZŠ TGM Drásov\, Školní 167 Drásov
SUMMARY:JM-Z-1: VS Vydry Drásov-ŠSK při Gymnáziu Šlapanice
END:VEVENT
BEGIN:VEVENT
UID:35643038-3866-4362-a138-616430363331
DTSTAMP:20260422T053805Z
DESCRIPTION:12/60 VS Vydry Drásov - ŠSK při Gymnáziu Šlapanice 0:3 (-25\,-1
 6\,-18)
DTSTART;TZID=Europe/Berlin:20251122T130000
DTEND;TZID=Europe/Berlin:20251122T150000
LOCATION:Hala u ZŠ TGM Drásov\, Školní 167 Drásov
SUMMARY:JM-Z-1: VS Vydry Drásov-ŠSK při Gymnáziu Šlapanice
END:VEVENT
BEGIN:VEVENT
UID:33383065-3663-4936-b765-333162353166
DTSTAMP:20260422T053805Z
DESCRIPTION:19/94 Tělocvičná jednota Sokol Šlapanice u Brna - ŠSK při Gymná
 ziu Šlapanice 0:3 (-23\,-22\,-23)
DTSTART;TZID=Europe/Berlin:20260103T100000
DTEND;TZID=Europe/Berlin:20260103T120000
LOCATION:Tělocvična ZŠ Šlapanice\, Masarykovo náměstí 1594 Šlapanice
SUMMARY:JM-Z-1: Tělocvičná jednota Sokol Šlapanice u Brna-ŠSK při Gymnáziu 
 Šlapanice
END:VEVENT
BEGIN:VEVENT
UID:39373261-3432-4139-b037-326631316633
DTSTAMP:20260422T053805Z
DESCRIPTION:20/99 Tělocvičná jednota Sokol Šlapanice u Brna - ŠSK při Gymná
 ziu Šlapanice 3:0 (12\,22\,20)
DTSTART;TZID=Europe/Berlin:20260103T130000
DTEND;TZID=Europe/Berlin:20260103T150000
LOCATION:Tělocvična ZŠ Šlapanice\, Masarykovo náměstí 1594 Šlapanice
SUMMARY:JM-Z-1: Tělocvičná jednota Sokol Šlapanice u Brna-ŠSK při Gymnáziu 
 Šlapanice
END:VEVENT
BEGIN:VEVENT
UID:30623936-3234-4661-a538-626135643365
DTSTAMP:20260422T053805Z
DESCRIPTION:23/113 Újezd u Brna - ŠSK při Gymnáziu Šlapanice 3:0 (14\,16\,1
 9)
DTSTART;TZID=Europe/Berlin:20260117T090000
DTEND;TZID=Europe/Berlin:20260117T110000
LOCATION:Hala ZŠ Újezd u Brna\, Školní 284 Újezd u Brna
SUMMARY:JM-Z-1: Újezd u Brna-ŠSK při Gymnáziu Šlapanice
END:VEVENT
BEGIN:VEVENT
UID:34616165-3261-4236-b463-643632653234
DTSTAMP:20260422T053805Z
DESCRIPTION:24/118 Újezd u Brna - ŠSK při Gymnáziu Šlapanice 3:1 (-22\,24\,
 11\,20)
DTSTART;TZID=Europe/Berlin:20260117T120000
DTEND;TZID=Europe/Berlin:20260117T140000
LOCATION:Hala ZŠ Újezd u Brna\, Školní 284 Újezd u Brna
SUMMARY:JM-Z-1: Újezd u Brna-ŠSK při Gymnáziu Šlapanice
END:VEVENT
BEGIN:VEVENT
UID:33346330-3264-4334-b232-363637356631
DTSTAMP:20260422T053805Z
DESCRIPTION:27/132 TJ Sokol Jehnice - ŠSK při Gymnáziu Šlapanice 3:0 (17\,2
 2\,12)
DTSTART;TZID=Europe/Berlin:20251108T100000
DTEND;TZID=Europe/Berlin:20251108T120000
LOCATION:TJ Sokol Jehnice\, Blanenská 1 Brno - Jehnice
SUMMARY:JM-Z-1: TJ Sokol Jehnice-ŠSK při Gymnáziu Šlapanice
END:VEVENT
BEGIN:VEVENT
UID:37613738-6531-4030-b434-666437663433
DTSTAMP:20260422T053805Z
DESCRIPTION:28/137 TJ Sokol Jehnice - ŠSK při Gymnáziu Šlapanice 3:1 (-19\,
 14\,24\,16)
DTSTART;TZID=Europe/Berlin:20251108T130000
DTEND;TZID=Europe/Berlin:20251108T150000
LOCATION:TJ Sokol Jehnice\, Blanenská 1 Brno - Jehnice
SUMMARY:JM-Z-1: TJ Sokol Jehnice-ŠSK při Gymnáziu Šlapanice
END:VEVENT
BEGIN:VEVENT
UID:36613731-6239-4837-b764-646662323530
DTSTAMP:20260422T053805Z
DESCRIPTION:31/151 TJ Sokol Hodonín - ŠSK při Gymnáziu Šlapanice 0:3 (-16\,
 -18\,-19)
DTSTART;TZID=Europe/Berlin:20260307T100000
DTEND;TZID=Europe/Berlin:20260307T120000
LOCATION:Sokolovna\, Velkomoravská 2202 Hodonín
SUMMARY:JM-Z-1: TJ Sokol Hodonín-ŠSK při Gymnáziu Šlapanice
END:VEVENT
BEGIN:VEVENT
UID:63333337-3664-4261-b063-386635623036
DTSTAMP:20260422T053805Z
DESCRIPTION:32/156 TJ Sokol Hodonín - ŠSK při Gymnáziu Šlapanice 1:3 (-19\,
 18\,-21\,-18)
DTSTART;TZID=Europe/Berlin:20260307T130000
DTEND;TZID=Europe/Berlin:20260307T150000
LOCATION:Sokolovna\, Velkomoravská 2202 Hodonín
SUMMARY:JM-Z-1: TJ Sokol Hodonín-ŠSK při Gymnáziu Šlapanice
END:VEVENT
BEGIN:VEVENT
UID:35336664-6635-4633-a235-633539653063
DTSTAMP:20260422T053805Z
DESCRIPTION:33/165 VK Znojmo - Přímětice - ŠSK při Gymnáziu Šlapanice 1:3 (
 -18\,20\,-18\,-13)
DTSTART;TZID=Europe/Berlin:20260314T113000
DTEND;TZID=Europe/Berlin:20260314T133000
LOCATION:Tělocvična ZŠ Prokopa Diviše a MŠ\, Ke Škole 569 Znojmo - Přímětic
 e
SUMMARY:JM-Z-1: VK Znojmo - Přímětice-ŠSK při Gymnáziu Šlapanice
END:VEVENT
BEGIN:VEVENT
UID:65343039-6464-4533-a633-343066663839
DTSTAMP:20260422T053805Z
DESCRIPTION:34/170 VK Znojmo - Přímětice - ŠSK při Gymnáziu Šlapanice 3:1 (
 -22\,20\,21\,23)
DTSTART;TZID=Europe/Berlin:20260314T143000
DTEND;TZID=Europe/Berlin:20260314T163000
LOCATION:Tělocvična ZŠ Prokopa Diviše a MŠ\, Ke Škole 569 Znojmo - Přímětic
 e
SUMMARY:JM-Z-1: VK Znojmo - Přímětice-ŠSK při Gymnáziu Šlapanice
END:VEVENT
END:VCALENDAR
