BEGIN:VCALENDAR
VERSION:2.0
PRODID:-//Tělocvičná jednota Sokol Frýdek - Místek B90195//NONSGML kigkonsult.se iCalcreator 2.41.80//
CALSCALE:GREGORIAN
UID:32636434-3961-4432-b130-346361383238
BEGIN:VEVENT
UID:32303263-6437-4637-b866-356132346464
DTSTAMP:20260422T053856Z
DESCRIPTION:1/2 Sokol F-M  B - TJ Třinec 0:3 (-15\,-17\,-20)
DTSTART;TZID=Europe/Berlin:20250921T100000
DTEND;TZID=Europe/Berlin:20250921T120000
LOCATION:Sokolovna Frýdek-Místek\, Novodvorská 667 Frýdek-Místek - Frýdek
SUMMARY:MS-U20ZA: Sokol F-M  B-TJ Třinec
END:VEVENT
BEGIN:VEVENT
UID:38633363-6632-4461-a666-336435616165
DTSTAMP:20260422T053856Z
DESCRIPTION:2/6 Sokol F-M  B - TJ Třinec 0:3 (-15\,-7\,-22)
DTSTART;TZID=Europe/Berlin:20250921T140000
DTEND;TZID=Europe/Berlin:20250921T160000
LOCATION:Sokolovna Frýdek-Místek\, Novodvorská 667 Frýdek-Místek - Frýdek
SUMMARY:MS-U20ZA: Sokol F-M  B-TJ Třinec
END:VEVENT
BEGIN:VEVENT
UID:32343835-3839-4536-a461-303038303962
DTSTAMP:20260422T053856Z
DESCRIPTION:7/28 Sokol F-M  B - SVK Nový Jičín 3:1 (-22\,16\,15\,22)
DTSTART;TZID=Europe/Berlin:20251019T100000
DTEND;TZID=Europe/Berlin:20251019T120000
LOCATION:Sokolovna Frýdek-Místek\, Novodvorská 667 Frýdek-Místek - Frýdek
SUMMARY:MS-U20ZA: Sokol F-M  B-SVK Nový Jičín
END:VEVENT
BEGIN:VEVENT
UID:35656630-6533-4637-b463-376665333531
DTSTAMP:20260422T053856Z
DESCRIPTION:8/32 Sokol F-M  B - SVK Nový Jičín 3:0 (16\,23\,13)
DTSTART;TZID=Europe/Berlin:20251019T140000
DTEND;TZID=Europe/Berlin:20251019T160000
LOCATION:Sokolovna Frýdek-Místek\, Novodvorská 667 Frýdek-Místek - Frýdek
SUMMARY:MS-U20ZA: Sokol F-M  B-SVK Nový Jičín
END:VEVENT
BEGIN:VEVENT
UID:39313365-3532-4866-b363-633735343335
DTSTAMP:20260422T053856Z
DESCRIPTION:11/43 Sokol F-M  B - Bílovec 0:3 (-11\,-12\,-20)
DTSTART;TZID=Europe/Berlin:20251109T100000
DTEND;TZID=Europe/Berlin:20251109T120000
LOCATION:Sokolovna Frýdek-Místek\, Novodvorská 667 Frýdek-Místek - Frýdek
SUMMARY:MS-U20ZA: Sokol F-M  B-Bílovec
END:VEVENT
BEGIN:VEVENT
UID:37663664-3065-4936-a130-393030653530
DTSTAMP:20260422T053856Z
DESCRIPTION:12/47 Sokol F-M  B - Bílovec 0:3 (-11\,-9\,-13)
DTSTART;TZID=Europe/Berlin:20251109T140000
DTEND;TZID=Europe/Berlin:20251109T160000
LOCATION:Sokolovna Frýdek-Místek\, Novodvorská 667 Frýdek-Místek - Frýdek
SUMMARY:MS-U20ZA: Sokol F-M  B-Bílovec
END:VEVENT
BEGIN:VEVENT
UID:34336332-3661-4138-a336-326235356263
DTSTAMP:20260422T053856Z
DESCRIPTION:17/68 Sokol F-M  B - VKB Frýdlant n.O. 0:3 (-13\,-24\,-14)
DTSTART;TZID=Europe/Berlin:20251207T100000
DTEND;TZID=Europe/Berlin:20251207T120000
LOCATION:Sokolovna Frýdek-Místek\, Novodvorská 667 Frýdek-Místek - Frýdek
SUMMARY:MS-U20ZA: Sokol F-M  B-VKB Frýdlant n.O.
END:VEVENT
BEGIN:VEVENT
UID:65373961-3665-4138-a463-363534623864
DTSTAMP:20260422T053856Z
DESCRIPTION:18/72 Sokol F-M  B - VKB Frýdlant n.O. 1:3 (17\,-19\,-15\,-16)
DTSTART;TZID=Europe/Berlin:20251207T140000
DTEND;TZID=Europe/Berlin:20251207T160000
LOCATION:Sokolovna Frýdek-Místek\, Novodvorská 667 Frýdek-Místek - Frýdek
SUMMARY:MS-U20ZA: Sokol F-M  B-VKB Frýdlant n.O.
END:VEVENT
BEGIN:VEVENT
UID:30333266-3164-4930-b063-393335613137
DTSTAMP:20260422T053856Z
DESCRIPTION:23/90 Sokol F-M  B - VK Raškovice 2:3 (21\,-12\,20\,-16\,-12)
DTSTART;TZID=Europe/Berlin:20260208T100000
DTEND;TZID=Europe/Berlin:20260208T120000
LOCATION:Sokolovna Frýdek-Místek\, Novodvorská 667 Frýdek-Místek - Frýdek
SUMMARY:MS-U20ZA: Sokol F-M  B-VK Raškovice
END:VEVENT
BEGIN:VEVENT
UID:30343739-3263-4430-b761-306661393032
DTSTAMP:20260422T053856Z
DESCRIPTION:24/94 Sokol F-M  B - VK Raškovice 3:2 (-20\,-24\,18\,24\,6)
DTSTART;TZID=Europe/Berlin:20260208T140000
DTEND;TZID=Europe/Berlin:20260208T160000
LOCATION:Sokolovna Frýdek-Místek\, Novodvorská 667 Frýdek-Místek - Frýdek
SUMMARY:MS-U20ZA: Sokol F-M  B-VK Raškovice
END:VEVENT
BEGIN:VEVENT
UID:35313037-6530-4861-b161-363164353863
DTSTAMP:20260422T053856Z
DESCRIPTION:27/107 Sokol F-M  B - Sokol F-M C 3:1 (17\,-23\,14\,15)
DTSTART;TZID=Europe/Berlin:20260217T163000
DTEND;TZID=Europe/Berlin:20260217T183000
LOCATION:Sokolovna Frýdek-Místek\, Novodvorská 667 Frýdek-Místek - Frýdek
SUMMARY:MS-U20ZA: Sokol F-M  B-Sokol F-M C
END:VEVENT
BEGIN:VEVENT
UID:34363934-6331-4561-a562-633933343166
DTSTAMP:20260422T053856Z
DESCRIPTION:28/111 Sokol F-M  B - Sokol F-M C 3:0 (11\,14\,9)
DTSTART;TZID=Europe/Berlin:20260217T183000
DTEND;TZID=Europe/Berlin:20260217T203000
LOCATION:Sokolovna Frýdek-Místek\, Novodvorská 667 Frýdek-Místek - Frýdek
SUMMARY:MS-U20ZA: Sokol F-M  B-Sokol F-M C
END:VEVENT
BEGIN:VEVENT
UID:31303664-3331-4236-b137-656134653532
DTSTAMP:20260422T053856Z
DESCRIPTION:3/12 VKB Frýdlant n.O. - Sokol F-M  B 3:0 (22\,13\,10)
DTSTART;TZID=Europe/Berlin:20251005T100000
DTEND;TZID=Europe/Berlin:20251005T120000
LOCATION:Sokolovna\, Hlavní 401 Frýdlant nad Ostravicí - Frýdlant
SUMMARY:MS-U20ZA: VKB Frýdlant n.O.-Sokol F-M  B
END:VEVENT
BEGIN:VEVENT
UID:39393738-3331-4032-a363-666666396137
DTSTAMP:20260422T053856Z
DESCRIPTION:4/16 VKB Frýdlant n.O. - Sokol F-M  B 3:0 (19\,12\,13)
DTSTART;TZID=Europe/Berlin:20251005T140000
DTEND;TZID=Europe/Berlin:20251005T160000
LOCATION:Sokolovna\, Hlavní 401 Frýdlant nad Ostravicí - Frýdlant
SUMMARY:MS-U20ZA: VKB Frýdlant n.O.-Sokol F-M  B
END:VEVENT
BEGIN:VEVENT
UID:65343363-6538-4534-a435-646461653734
DTSTAMP:20260422T053856Z
DESCRIPTION:9/34 VK Raškovice - Sokol F-M  B 3:0 (15\,20\,8)
DTSTART;TZID=Europe/Berlin:20251102T100000
DTEND;TZID=Europe/Berlin:20251102T120000
LOCATION:Víceúčelová sportovní hala\,  Raškovice18
SUMMARY:MS-U20ZA: VK Raškovice-Sokol F-M  B
END:VEVENT
BEGIN:VEVENT
UID:62306335-3566-4262-b431-303732383866
DTSTAMP:20260422T053856Z
DESCRIPTION:10/38 VK Raškovice - Sokol F-M  B 3:1 (24\,-23\,12\,11)
DTSTART;TZID=Europe/Berlin:20251102T140000
DTEND;TZID=Europe/Berlin:20251102T160000
LOCATION:Víceúčelová sportovní hala\,  Raškovice18
SUMMARY:MS-U20ZA: VK Raškovice-Sokol F-M  B
END:VEVENT
BEGIN:VEVENT
UID:66656165-6666-4233-b063-343430633937
DTSTAMP:20260422T053856Z
DESCRIPTION:13/51 Sokol F-M C - Sokol F-M  B 0:3 (-11\,-9\,-19)
DTSTART;TZID=Europe/Berlin:20251123T090000
DTEND;TZID=Europe/Berlin:20251123T110000
LOCATION:Sokolovna Frýdek-Místek\, Novodvorská 667 Frýdek-Místek - Frýdek
SUMMARY:MS-U20ZA: Sokol F-M C-Sokol F-M  B
END:VEVENT
BEGIN:VEVENT
UID:37666564-3034-4437-b165-633139626539
DTSTAMP:20260422T053856Z
DESCRIPTION:14/55 Sokol F-M C - Sokol F-M  B 0:3 (-19\,-21\,-14)
DTSTART;TZID=Europe/Berlin:20251123T130000
DTEND;TZID=Europe/Berlin:20251123T150000
LOCATION:Sokolovna Frýdek-Místek\, Novodvorská 667 Frýdek-Místek - Frýdek
SUMMARY:MS-U20ZA: Sokol F-M C-Sokol F-M  B
END:VEVENT
BEGIN:VEVENT
UID:39316639-3364-4766-b036-383830623730
DTSTAMP:20260422T053856Z
DESCRIPTION:15/58 TJ Třinec - Sokol F-M  B 3:0 (18\,13\,19)
DTSTART;TZID=Europe/Berlin:20251130T100000
DTEND;TZID=Europe/Berlin:20251130T120000
LOCATION:1.PZŠ Třinec\, Nádražní 10 Třinec - Staré Město
SUMMARY:MS-U20ZA: TJ Třinec-Sokol F-M  B
END:VEVENT
BEGIN:VEVENT
UID:30643831-3364-4366-b435-336638303066
DTSTAMP:20260422T053856Z
DESCRIPTION:16/62 TJ Třinec - Sokol F-M  B 3:1 (-17\,21\,24\,9)
DTSTART;TZID=Europe/Berlin:20251130T140000
DTEND;TZID=Europe/Berlin:20251130T160000
LOCATION:1.PZŠ Třinec\, Nádražní 10 Třinec - Staré Město
SUMMARY:MS-U20ZA: TJ Třinec-Sokol F-M  B
END:VEVENT
BEGIN:VEVENT
UID:37363861-6630-4034-b534-613966396534
DTSTAMP:20260422T053856Z
DESCRIPTION:21/84 SVK Nový Jičín - Sokol F-M  B 1:3 (-24\,-18\,22\,-14)
DTSTART;TZID=Europe/Berlin:20260118T100000
DTEND;TZID=Europe/Berlin:20260118T120000
LOCATION:Tělocvična Msgr. Šrámka\, Msgr. Šrámka 1105 Nový Jičín
SUMMARY:MS-U20ZA: SVK Nový Jičín-Sokol F-M  B
END:VEVENT
BEGIN:VEVENT
UID:62666134-3336-4431-b364-633737643739
DTSTAMP:20260422T053856Z
DESCRIPTION:22/88 SVK Nový Jičín - Sokol F-M  B 0:3 (-8\,-20\,-16)
DTSTART;TZID=Europe/Berlin:20260118T140000
DTEND;TZID=Europe/Berlin:20260118T160000
LOCATION:Tělocvična Msgr. Šrámka\, Msgr. Šrámka 1105 Nový Jičín
SUMMARY:MS-U20ZA: SVK Nový Jičín-Sokol F-M  B
END:VEVENT
BEGIN:VEVENT
UID:61326631-6331-4263-a633-376164633133
DTSTAMP:20260422T053856Z
DESCRIPTION:25/99 Bílovec - Sokol F-M  B 3:0 (12\,11\,18)
DTSTART;TZID=Europe/Berlin:20260215T100000
DTEND;TZID=Europe/Berlin:20260215T120000
LOCATION:Tělocvična GMK Bílovec\, 17. listopadu 526 Bílovec
SUMMARY:MS-U20ZA: Bílovec-Sokol F-M  B
END:VEVENT
BEGIN:VEVENT
UID:36636338-6166-4861-b632-623532663838
DTSTAMP:20260422T053856Z
DESCRIPTION:26/103 Bílovec - Sokol F-M  B 3:0 (13\,24\,10)
DTSTART;TZID=Europe/Berlin:20260215T140000
DTEND;TZID=Europe/Berlin:20260215T160000
LOCATION:Tělocvična GMK Bílovec\, 17. listopadu 526 Bílovec
SUMMARY:MS-U20ZA: Bílovec-Sokol F-M  B
END:VEVENT
BEGIN:VEVENT
UID:38333332-6430-4065-b365-316133333530
DTSTAMP:20260422T053856Z
DESCRIPTION:3/8 Sokol F-M  B - TJ Sokol Bohumín 3:0 (16\,17\,24)
DTSTART;TZID=Europe/Berlin:20260308T100000
DTEND;TZID=Europe/Berlin:20260308T120000
LOCATION:Sokolovna Frýdek-Místek\, Novodvorská 667 Frýdek-Místek - Frýdek
SUMMARY:MS-U20Z-U: Sokol F-M  B-TJ Sokol Bohumín
END:VEVENT
BEGIN:VEVENT
UID:38313837-3437-4832-b935-396236383434
DTSTAMP:20260422T053856Z
DESCRIPTION:4/11 Sokol F-M  B - TJ Sokol Bohumín 3:0 (19\,18\,11)
DTSTART;TZID=Europe/Berlin:20260308T140000
DTEND;TZID=Europe/Berlin:20260308T160000
LOCATION:Sokolovna Frýdek-Místek\, Novodvorská 667 Frýdek-Místek - Frýdek
SUMMARY:MS-U20Z-U: Sokol F-M  B-TJ Sokol Bohumín
END:VEVENT
BEGIN:VEVENT
UID:65363964-3232-4330-a264-663433633338
DTSTAMP:20260422T053856Z
DESCRIPTION:9/26 Sokol F-M  B - TJ Sokol Poruba 3:0 (22\,21\,20)
DTSTART;TZID=Europe/Berlin:20260329T100000
DTEND;TZID=Europe/Berlin:20260329T120000
LOCATION:Sokolovna Frýdek-Místek\, Novodvorská 667 Frýdek-Místek - Frýdek
SUMMARY:MS-U20Z-U: Sokol F-M  B-TJ Sokol Poruba
END:VEVENT
BEGIN:VEVENT
UID:30323431-3531-4361-b761-643362396363
DTSTAMP:20260422T053856Z
DESCRIPTION:10/29 Sokol F-M  B - TJ Sokol Poruba 3:2 (18\,-23\,-17\,11\,15)
DTSTART;TZID=Europe/Berlin:20260329T140000
DTEND;TZID=Europe/Berlin:20260329T160000
LOCATION:Sokolovna Frýdek-Místek\, Novodvorská 667 Frýdek-Místek - Frýdek
SUMMARY:MS-U20Z-U: Sokol F-M  B-TJ Sokol Poruba
END:VEVENT
BEGIN:VEVENT
UID:38393063-3866-4138-a236-366363626533
DTSTAMP:20260422T053856Z
DESCRIPTION:13/39 Sokol F-M  B - TJ Ostrava C 3:2 (19\,-19\,-19\,18\,6)
DTSTART;TZID=Europe/Berlin:20260419T100000
DTEND;TZID=Europe/Berlin:20260419T120000
LOCATION:Sokolovna Frýdek-Místek\, Novodvorská 667 Frýdek-Místek - Frýdek
SUMMARY:MS-U20Z-U: Sokol F-M  B-TJ Ostrava C
END:VEVENT
BEGIN:VEVENT
UID:32313234-6366-4363-b534-356363616333
DTSTAMP:20260422T053856Z
DESCRIPTION:14/42 Sokol F-M  B - TJ Ostrava C 2:3 (17\,-19\,23\,-17\,-11)
DTSTART;TZID=Europe/Berlin:20260419T140000
DTEND;TZID=Europe/Berlin:20260419T160000
LOCATION:Sokolovna Frýdek-Místek\, Novodvorská 667 Frýdek-Místek - Frýdek
SUMMARY:MS-U20Z-U: Sokol F-M  B-TJ Ostrava C
END:VEVENT
BEGIN:VEVENT
UID:35653930-6531-4636-b637-343539316565
DTSTAMP:20260422T053856Z
DESCRIPTION:1/2 TJ Sokol Poruba - Sokol F-M  B 3:2 (-13\,23\,23\,-25\,15)
DTSTART;TZID=Europe/Berlin:20260301T100000
DTEND;TZID=Europe/Berlin:20260301T120000
LOCATION:TJ Sokol Poruba\, Vřesinská 121 Ostrava - Poruba
SUMMARY:MS-U20Z-U: TJ Sokol Poruba-Sokol F-M  B
END:VEVENT
BEGIN:VEVENT
UID:33363861-3631-4233-a334-343064613264
DTSTAMP:20260422T053856Z
DESCRIPTION:2/5 TJ Sokol Poruba - Sokol F-M  B 2:3 (-25\,17\,23\,-13\,-8)
DTSTART;TZID=Europe/Berlin:20260301T140000
DTEND;TZID=Europe/Berlin:20260301T160000
LOCATION:TJ Sokol Poruba\, Vřesinská 121 Ostrava - Poruba
SUMMARY:MS-U20Z-U: TJ Sokol Poruba-Sokol F-M  B
END:VEVENT
BEGIN:VEVENT
UID:35656134-3964-4537-b634-373563623137
DTSTAMP:20260422T053856Z
DESCRIPTION:5/15 TJ Ostrava C - Sokol F-M  B 3:1 (22\,-23\,22\,17)
DTSTART;TZID=Europe/Berlin:20260315T100000
DTEND;TZID=Europe/Berlin:20260315T120000
LOCATION:Tělocvična ZŠ Gen. Píky \, Gen. Píky 2975 Ostrava - Moravská Ostra
 va
SUMMARY:MS-U20Z-U: TJ Ostrava C-Sokol F-M  B
END:VEVENT
BEGIN:VEVENT
UID:31616535-6330-4236-a234-313666643636
DTSTAMP:20260422T053856Z
DESCRIPTION:6/18 TJ Ostrava C - Sokol F-M  B 3:1 (18\,17\,-23\,16)
DTSTART;TZID=Europe/Berlin:20260315T140000
DTEND;TZID=Europe/Berlin:20260315T160000
LOCATION:Hala míčových sportů\, Varenská 3098 Ostrava - Moravská Ostrava
SUMMARY:MS-U20Z-U: TJ Ostrava C-Sokol F-M  B
END:VEVENT
BEGIN:VEVENT
UID:39383937-3836-4739-b966-373031663737
DTSTAMP:20260422T053856Z
DESCRIPTION:11/32 TJ Sokol Bohumín - Sokol F-M  B 3:1 (18\,-20\,18\,24)
DTSTART;TZID=Europe/Berlin:20260412T100000
DTEND;TZID=Europe/Berlin:20260412T120000
LOCATION:ZŠ ČSA Bohumín\, Čs. armády 1026 Bohumín - Nový Bohumín
SUMMARY:MS-U20Z-U: TJ Sokol Bohumín-Sokol F-M  B
END:VEVENT
BEGIN:VEVENT
UID:32343866-6436-4961-b662-353833613863
DTSTAMP:20260422T053856Z
DESCRIPTION:12/35 TJ Sokol Bohumín - Sokol F-M  B 2:3 (-21\,23\,-14\,19\,-1
 3)
DTSTART;TZID=Europe/Berlin:20260412T140000
DTEND;TZID=Europe/Berlin:20260412T160000
LOCATION:ZŠ ČSA Bohumín\, Čs. armády 1026 Bohumín - Nový Bohumín
SUMMARY:MS-U20Z-U: TJ Sokol Bohumín-Sokol F-M  B
END:VEVENT
END:VCALENDAR
