BEGIN:VCALENDAR
VERSION:2.0
PRODID:-//TJ Kunčičky, spolek90218//NONSGML kigkonsult.se iCalcreator 2.41.80//
CALSCALE:GREGORIAN
UID:61616336-3833-4534-b234-663862346335
BEGIN:VEVENT
UID:36353666-6535-4365-b662-323037353563
DTSTAMP:20260422T184032Z
DESCRIPTION:1/2 SVK Nový Jičín B - TJ Kunčičky 2:0 (10\,15)
DTSTART;TZID=Europe/Berlin:20250921T090000
DTEND;TZID=Europe/Berlin:20250921T110000
LOCATION:Hala ZŠ Komenského\, Komenského 701 Bílovec
SUMMARY:MS-U16Z-KVB1: SVK Nový Jičín B-TJ Kunčičky
END:VEVENT
BEGIN:VEVENT
UID:33383237-3834-4864-b765-326464633134
DTSTAMP:20260422T184032Z
DESCRIPTION:2/3 Bílovec - TJ Kunčičky 2:0 (9\,9)
DTSTART;TZID=Europe/Berlin:20250921T100000
DTEND;TZID=Europe/Berlin:20250921T120000
LOCATION:Hala ZŠ Komenského\, Komenského 701 Bílovec
SUMMARY:MS-U16Z-KVB1: Bílovec-TJ Kunčičky
END:VEVENT
BEGIN:VEVENT
UID:36633730-3435-4034-b162-323061393133
DTSTAMP:20260422T184032Z
DESCRIPTION:3/6 TJ Ostrava 'B' - TJ Kunčičky 2:0 (11\,9)
DTSTART;TZID=Europe/Berlin:20250921T110000
DTEND;TZID=Europe/Berlin:20250921T130000
LOCATION:Hala ZŠ Komenského\, Komenského 701 Bílovec
SUMMARY:MS-U16Z-KVB1: TJ Ostrava 'B'-TJ Kunčičky
END:VEVENT
BEGIN:VEVENT
UID:38623032-6439-4663-a431-363462653866
DTSTAMP:20260422T184032Z
DESCRIPTION:1/2 TJ Kunčičky - TJ Sokol St. Bělá 0:2 (-9\,-17)
DTSTART;TZID=Europe/Berlin:20250921T130000
DTEND;TZID=Europe/Berlin:20250921T150000
LOCATION:Hala ZŠ Komenského\, Komenského 701 Bílovec
SUMMARY:MS-U16Z-KVBU: TJ Kunčičky-TJ Sokol St. Bělá
END:VEVENT
BEGIN:VEVENT
UID:62666535-6136-4437-b566-386663646231
DTSTAMP:20260422T184032Z
DESCRIPTION:2/4 TJ Kunčičky - ŠSK Bílovec B 2:0 (22\,22)
DTSTART;TZID=Europe/Berlin:20250921T143000
DTEND;TZID=Europe/Berlin:20250921T163000
LOCATION:Hala ZŠ Komenského\, Komenského 701 Bílovec
SUMMARY:MS-U16Z-KVBU: TJ Kunčičky-ŠSK Bílovec B
END:VEVENT
BEGIN:VEVENT
UID:37363363-3033-4031-a530-613963316464
DTSTAMP:20260422T184032Z
DESCRIPTION:1/2 TJ Kunčičky - TJ ODRY 0:2 (-7\,-23)
DTSTART;TZID=Europe/Berlin:20251012T090000
DTEND;TZID=Europe/Berlin:20251012T110000
LOCATION:Hala ZŠ Komenského\, Komenského 701 Bílovec
SUMMARY:MS-U16Z-T1G: TJ Kunčičky-TJ ODRY
END:VEVENT
BEGIN:VEVENT
UID:33313461-6433-4838-b661-623165306134
DTSTAMP:20260422T184032Z
DESCRIPTION:2/4 TJ Kunčičky - ŠSK Bílovec B 2:0 (23\,20)
DTSTART;TZID=Europe/Berlin:20251012T103000
DTEND;TZID=Europe/Berlin:20251012T123000
LOCATION:Hala ZŠ Komenského\, Komenského 701 Bílovec
SUMMARY:MS-U16Z-T1G: TJ Kunčičky-ŠSK Bílovec B
END:VEVENT
BEGIN:VEVENT
UID:66643638-6138-4238-a135-636233393066
DTSTAMP:20260422T184032Z
DESCRIPTION:3/5 TJ Sokol FM C - TJ Kunčičky 0:2 (-24\,-22)
DTSTART;TZID=Europe/Berlin:20251012T120000
DTEND;TZID=Europe/Berlin:20251012T140000
LOCATION:Hala ZŠ Komenského\, Komenského 701 Bílovec
SUMMARY:MS-U16Z-T1G: TJ Sokol FM C-TJ Kunčičky
END:VEVENT
BEGIN:VEVENT
UID:61643761-3463-4633-a433-623562313665
DTSTAMP:20260422T184032Z
DESCRIPTION:1/2 TJ Kunčičky - TJ Sokol FM C 0:2 (-4\,-16)
DTSTART;TZID=Europe/Berlin:20251109T090000
DTEND;TZID=Europe/Berlin:20251109T110000
LOCATION:tělocvična 11.ZŠ Frýdek-Místek\, Jiřího z Poděbrad 3109 Frýdek-Mís
 tek - Frýdek
SUMMARY:MS-U16Z-T2G: TJ Kunčičky-TJ Sokol FM C
END:VEVENT
BEGIN:VEVENT
UID:33363836-6139-4833-b365-333465326633
DTSTAMP:20260422T184032Z
DESCRIPTION:2/4 TJ Kunčičky - Volejbalový klub Kylešovice\, z.s. 0:2 (-16\,
 -15)
DTSTART;TZID=Europe/Berlin:20251109T103000
DTEND;TZID=Europe/Berlin:20251109T123000
LOCATION:tělocvična 11.ZŠ Frýdek-Místek\, Jiřího z Poděbrad 3109 Frýdek-Mís
 tek - Frýdek
SUMMARY:MS-U16Z-T2G: TJ Kunčičky-Volejbalový klub Kylešovice\, z.s.
END:VEVENT
BEGIN:VEVENT
UID:61346131-6537-4135-b732-363436373531
DTSTAMP:20260422T184032Z
DESCRIPTION:3/5 SA Ostrava - TJ Kunčičky 1:2 (22\,-7\,-8)
DTSTART;TZID=Europe/Berlin:20251109T120000
DTEND;TZID=Europe/Berlin:20251109T140000
LOCATION:tělocvična 11.ZŠ Frýdek-Místek\, Jiřího z Poděbrad 3109 Frýdek-Mís
 tek - Frýdek
SUMMARY:MS-U16Z-T2G: SA Ostrava-TJ Kunčičky
END:VEVENT
BEGIN:VEVENT
UID:62653437-6339-4661-b132-646637336238
DTSTAMP:20260422T184032Z
DESCRIPTION:3/5 TJ Kunčičky - ŠSK Bílovec B 1:2 (21\,-23\,-3)
DTSTART;TZID=Europe/Berlin:20251214T120000
DTEND;TZID=Europe/Berlin:20251214T140000
LOCATION:Hala ZŠ Komenského\, Komenského 701 Bílovec
SUMMARY:MS-U16Z-T3G: TJ Kunčičky-ŠSK Bílovec B
END:VEVENT
BEGIN:VEVENT
UID:37373761-3262-4663-a238-626431363361
DTSTAMP:20260422T184032Z
DESCRIPTION:1/2 TJ Sokol FM C - TJ Kunčičky 2:1 (-15\,13\,11)
DTSTART;TZID=Europe/Berlin:20251214T090000
DTEND;TZID=Europe/Berlin:20251214T110000
LOCATION:Hala ZŠ Komenského\, Komenského 701 Bílovec
SUMMARY:MS-U16Z-T3G: TJ Sokol FM C-TJ Kunčičky
END:VEVENT
BEGIN:VEVENT
UID:33366536-3934-4664-b966-373136643835
DTSTAMP:20260422T184032Z
DESCRIPTION:2/3 SVK Nový Jičín C - TJ Kunčičky 2:0 (19\,20)
DTSTART;TZID=Europe/Berlin:20251214T103000
DTEND;TZID=Europe/Berlin:20251214T123000
LOCATION:Hala ZŠ Komenského\, Komenského 701 Bílovec
SUMMARY:MS-U16Z-T3G: SVK Nový Jičín C-TJ Kunčičky
END:VEVENT
BEGIN:VEVENT
UID:62613963-6162-4930-a438-646263623937
DTSTAMP:20260422T184032Z
DESCRIPTION:1/1 TJ Kunčičky - TJ Ostrava C 1:2 (22\,-19\,-12)
DTSTART;TZID=Europe/Berlin:20260111T090000
DTEND;TZID=Europe/Berlin:20260111T110000
LOCATION:Hala míčových sportů\, Varenská 3098 Ostrava - Moravská Ostrava
SUMMARY:MS-U16Z-T4H: TJ Kunčičky-TJ Ostrava C
END:VEVENT
BEGIN:VEVENT
UID:35333633-6263-4338-a637-623461663065
DTSTAMP:20260422T184032Z
DESCRIPTION:4/4 TJ Kunčičky - TJ Hlučín 'B' 2:0 (15\,15)
DTSTART;TZID=Europe/Berlin:20260111T133000
DTEND;TZID=Europe/Berlin:20260111T153000
LOCATION:Hala míčových sportů\, Varenská 3098 Ostrava - Moravská Ostrava
SUMMARY:MS-U16Z-T4H: TJ Kunčičky-TJ Hlučín 'B'
END:VEVENT
BEGIN:VEVENT
UID:61376534-3734-4334-b962-373932613932
DTSTAMP:20260422T184032Z
DESCRIPTION:5/5 TJ Kunčičky - Happy Sport Opava\,'B' 2:0 (20\,20)
DTSTART;TZID=Europe/Berlin:20260111T150000
DTEND;TZID=Europe/Berlin:20260111T170000
LOCATION:Hala míčových sportů\, Varenská 3098 Ostrava - Moravská Ostrava
SUMMARY:MS-U16Z-T4H: TJ Kunčičky-Happy Sport Opava\,'B'
END:VEVENT
BEGIN:VEVENT
UID:66306133-6535-4735-a432-303765396231
DTSTAMP:20260422T184032Z
DESCRIPTION:1/2 TJ Kunčičky - Happy Sport Opava\,'B' 0:2 (-20\,-17)
DTSTART;TZID=Europe/Berlin:20260215T090000
DTEND;TZID=Europe/Berlin:20260215T110000
LOCATION:Sportovní hala\, Tyršova 1668 Hlučín
SUMMARY:MS-U16Z-T5H: TJ Kunčičky-Happy Sport Opava\,'B'
END:VEVENT
BEGIN:VEVENT
UID:63626363-6266-4465-b366-643530386462
DTSTAMP:20260422T184032Z
DESCRIPTION:2/4 TJ Kunčičky - TJ Hlučín 'B' 2:1 (11\,-21\,12)
DTSTART;TZID=Europe/Berlin:20260215T103000
DTEND;TZID=Europe/Berlin:20260215T123000
LOCATION:Sportovní hala\, Tyršova 1668 Hlučín
SUMMARY:MS-U16Z-T5H: TJ Kunčičky-TJ Hlučín 'B'
END:VEVENT
BEGIN:VEVENT
UID:63343233-6632-4233-b861-323238376235
DTSTAMP:20260422T184032Z
DESCRIPTION:3/6 SA Ostrava - TJ Kunčičky 2:1 (-16\,23\,12)
DTSTART;TZID=Europe/Berlin:20260215T120000
DTEND;TZID=Europe/Berlin:20260215T140000
LOCATION:Sportovní hala\, Tyršova 1668 Hlučín
SUMMARY:MS-U16Z-T5H: SA Ostrava-TJ Kunčičky
END:VEVENT
BEGIN:VEVENT
UID:35626138-6235-4638-b731-623161386561
DTSTAMP:20260422T184032Z
DESCRIPTION:5/5 TJ Kunčičky - Happy Sport Opava\,'B' 2:0 (19\,20)
DTSTART;TZID=Europe/Berlin:20260315T150000
DTEND;TZID=Europe/Berlin:20260315T170000
LOCATION:Hala míčových sportů\, Varenská 3098 Ostrava - Moravská Ostrava
SUMMARY:MS-U16Z-T6H: TJ Kunčičky-Happy Sport Opava\,'B'
END:VEVENT
BEGIN:VEVENT
UID:63313438-6434-4665-a532-393634346536
DTSTAMP:20260422T184032Z
DESCRIPTION:1/1 TJ Ostrava C - TJ Kunčičky 1:2 (18\,-11\,-10)
DTSTART;TZID=Europe/Berlin:20260315T090000
DTEND;TZID=Europe/Berlin:20260315T110000
LOCATION:Hala míčových sportů\, Varenská 3098 Ostrava - Moravská Ostrava
SUMMARY:MS-U16Z-T6H: TJ Ostrava C-TJ Kunčičky
END:VEVENT
BEGIN:VEVENT
UID:33363039-3137-4533-b934-386132616430
DTSTAMP:20260422T184032Z
DESCRIPTION:4/4 TJ Hlučín 'B' - TJ Kunčičky 2:1 (-17\,23\,12)
DTSTART;TZID=Europe/Berlin:20260315T133000
DTEND;TZID=Europe/Berlin:20260315T153000
LOCATION:Hala míčových sportů\, Varenská 3098 Ostrava - Moravská Ostrava
SUMMARY:MS-U16Z-T6H: TJ Hlučín 'B'-TJ Kunčičky
END:VEVENT
END:VCALENDAR
