BEGIN:VCALENDAR
VERSION:2.0
PRODID:-//Volejbalový spolek Ostrava90224//NONSGML kigkonsult.se iCalcreator 2.41.80//
CALSCALE:GREGORIAN
UID:66373631-3462-4235-b266-313565373465
BEGIN:VEVENT
UID:37393561-6130-4239-b334-393532313432
DTSTAMP:20260422T033926Z
DESCRIPTION:2/4 Volejbalový spolek Ostrava - Vlci Nový Jičín 2:0 (6\,10)
DTSTART;TZID=Europe/Berlin:20251012T150000
DTEND;TZID=Europe/Berlin:20251012T170000
LOCATION:Sportovní hala Brušperk\, Sportovní 584 Brušperk
SUMMARY:MS-U14M-KVB: Volejbalový spolek Ostrava-Vlci Nový Jičín
END:VEVENT
BEGIN:VEVENT
UID:63333634-6462-4134-a130-366532336136
DTSTAMP:20260422T033926Z
DESCRIPTION:3/6 Volejbalový spolek Ostrava - VK Ostrava 'B' 2:0 (10\,3)
DTSTART;TZID=Europe/Berlin:20251012T163000
DTEND;TZID=Europe/Berlin:20251012T183000
LOCATION:Sportovní hala Brušperk\, Sportovní 584 Brušperk
SUMMARY:MS-U14M-KVB: Volejbalový spolek Ostrava-VK Ostrava 'B'
END:VEVENT
BEGIN:VEVENT
UID:31616637-3763-4861-b764-333362653931
DTSTAMP:20260422T033926Z
DESCRIPTION:1/1 Green F-M - Volejbalový spolek Ostrava 0:2 (-8\,-9)
DTSTART;TZID=Europe/Berlin:20251012T133000
DTEND;TZID=Europe/Berlin:20251012T153000
LOCATION:Sportovní hala Brušperk\, Sportovní 584 Brušperk
SUMMARY:MS-U14M-KVB: Green F-M-Volejbalový spolek Ostrava
END:VEVENT
BEGIN:VEVENT
UID:39376634-6639-4638-b263-613765653666
DTSTAMP:20260422T033926Z
DESCRIPTION:3/5 Volejbalový spolek Ostrava - Happy Sport Opava\, z.s. 2:0 (
 17\,24)
DTSTART;TZID=Europe/Berlin:20251109T120000
DTEND;TZID=Europe/Berlin:20251109T140000
LOCATION:Jugoslávská\, Jugoslávská 2906 Ostrava - Zábřeh
SUMMARY:MS-U14M-T1A: Volejbalový spolek Ostrava-Happy Sport Opava\, z.s.
END:VEVENT
BEGIN:VEVENT
UID:36646338-6463-4963-b139-353364303538
DTSTAMP:20260422T033926Z
DESCRIPTION:1/2 Green F-M - Volejbalový spolek Ostrava 0:2 (-14\,-12)
DTSTART;TZID=Europe/Berlin:20251109T090000
DTEND;TZID=Europe/Berlin:20251109T110000
LOCATION:Jugoslávská\, Jugoslávská 2906 Ostrava - Zábřeh
SUMMARY:MS-U14M-T1A: Green F-M-Volejbalový spolek Ostrava
END:VEVENT
BEGIN:VEVENT
UID:66363635-3236-4366-b265-663938336630
DTSTAMP:20260422T033926Z
DESCRIPTION:2/4 VK Ostrava 'A' - Volejbalový spolek Ostrava 0:2 (-17\,-23)
DTSTART;TZID=Europe/Berlin:20251109T103000
DTEND;TZID=Europe/Berlin:20251109T123000
LOCATION:Jugoslávská\, Jugoslávská 2906 Ostrava - Zábřeh
SUMMARY:MS-U14M-T1A: VK Ostrava 'A'-Volejbalový spolek Ostrava
END:VEVENT
BEGIN:VEVENT
UID:62326565-3864-4230-a233-343839303734
DTSTAMP:20260422T033926Z
DESCRIPTION:2/4 Volejbalový spolek Ostrava - VK Ostrava 'A' 1:2 (-15\,23\,-
 14)
DTSTART;TZID=Europe/Berlin:20251207T103000
DTEND;TZID=Europe/Berlin:20251207T123000
LOCATION:ZŠ Ed. Beneše\, Edvarda Beneše 961 Opava - Kateřinky
SUMMARY:MS-U14M-T2A: Volejbalový spolek Ostrava-VK Ostrava 'A'
END:VEVENT
BEGIN:VEVENT
UID:38663231-3139-4538-a564-323662303530
DTSTAMP:20260422T033926Z
DESCRIPTION:3/6 Volejbalový spolek Ostrava - Red Frýdlant n/O 2:1 (11\,-19\
 ,9)
DTSTART;TZID=Europe/Berlin:20251207T120000
DTEND;TZID=Europe/Berlin:20251207T140000
LOCATION:ZŠ Ed. Beneše\, Edvarda Beneše 961 Opava - Kateřinky
SUMMARY:MS-U14M-T2A: Volejbalový spolek Ostrava-Red Frýdlant n/O
END:VEVENT
BEGIN:VEVENT
UID:39343865-3738-4235-b436-303130303538
DTSTAMP:20260422T033926Z
DESCRIPTION:1/1 Happy Sport Opava\, z.s. - Volejbalový spolek Ostrava 0:2 (
 -22\,-22)
DTSTART;TZID=Europe/Berlin:20251207T090000
DTEND;TZID=Europe/Berlin:20251207T110000
LOCATION:ZŠ Ed. Beneše\, Edvarda Beneše 961 Opava - Kateřinky
SUMMARY:MS-U14M-T2A: Happy Sport Opava\, z.s.-Volejbalový spolek Ostrava
END:VEVENT
BEGIN:VEVENT
UID:32613664-6430-4539-b635-643366306531
DTSTAMP:20260422T033926Z
DESCRIPTION:3/5 Volejbalový spolek Ostrava - Red Frýdlant n/O 1:2 (-18\,18\
 ,-11)
DTSTART;TZID=Europe/Berlin:20260111T120000
DTEND;TZID=Europe/Berlin:20260111T140000
LOCATION:Jugoslávská\, Jugoslávská 2906 Ostrava - Zábřeh
SUMMARY:MS-U14M-T3A: Volejbalový spolek Ostrava-Red Frýdlant n/O
END:VEVENT
BEGIN:VEVENT
UID:34333730-3766-4631-b638-346339343332
DTSTAMP:20260422T033926Z
DESCRIPTION:1/2 Blue Ostrava - Volejbalový spolek Ostrava 0:2 (-13\,-13)
DTSTART;TZID=Europe/Berlin:20260111T090000
DTEND;TZID=Europe/Berlin:20260111T110000
LOCATION:Jugoslávská\, Jugoslávská 2906 Ostrava - Zábřeh
SUMMARY:MS-U14M-T3A: Blue Ostrava-Volejbalový spolek Ostrava
END:VEVENT
BEGIN:VEVENT
UID:61636138-3738-4666-a366-396632383462
DTSTAMP:20260422T033926Z
DESCRIPTION:2/4 VK Ostrava 'A' - Volejbalový spolek Ostrava 0:2 (-13\,-23)
DTSTART;TZID=Europe/Berlin:20260111T103000
DTEND;TZID=Europe/Berlin:20260111T123000
LOCATION:Jugoslávská\, Jugoslávská 2906 Ostrava - Zábřeh
SUMMARY:MS-U14M-T3A: VK Ostrava 'A'-Volejbalový spolek Ostrava
END:VEVENT
BEGIN:VEVENT
UID:30343466-3766-4930-a436-343239393833
DTSTAMP:20260422T033926Z
DESCRIPTION:1/1 Volejbalový spolek Ostrava - SK Kojetín 2016\, z.s. 0:2 (-1
 6\,-17)
DTSTART;TZID=Europe/Berlin:20251206T090000
DTEND;TZID=Europe/Berlin:20251206T110000
LOCATION:Sportovní hala Brušperk\, Sportovní 584 Brušperk
SUMMARY:CP-U14M-VA: Volejbalový spolek Ostrava-SK Kojetín 2016\, z.s.
END:VEVENT
BEGIN:VEVENT
UID:30613361-6366-4131-b063-663038653632
DTSTAMP:20260422T033926Z
DESCRIPTION:5/7 Volejbalový spolek Ostrava - Vlci Nový Jičín 2:0 (12\,10)
DTSTART;TZID=Europe/Berlin:20251206T130000
DTEND;TZID=Europe/Berlin:20251206T150000
LOCATION:Sportovní hala Brušperk\, Sportovní 584 Brušperk
SUMMARY:CP-U14M-VA: Volejbalový spolek Ostrava-Vlci Nový Jičín
END:VEVENT
BEGIN:VEVENT
UID:36336231-6462-4436-b333-643638393766
DTSTAMP:20260422T033926Z
DESCRIPTION:3/4 Volejbalový oddíl TJ Lanškroun\, z.s. - Volejbalový spolek 
 Ostrava 2:0 (25\,15)
DTSTART;TZID=Europe/Berlin:20251206T110000
DTEND;TZID=Europe/Berlin:20251206T130000
LOCATION:Sportovní hala Brušperk\, Sportovní 584 Brušperk
SUMMARY:CP-U14M-VA: Volejbalový oddíl TJ Lanškroun\, z.s.-Volejbalový spole
 k Ostrava
END:VEVENT
BEGIN:VEVENT
UID:30346361-3539-4833-a666-633338366562
DTSTAMP:20260422T033926Z
DESCRIPTION:6/9 Green F-M - Volejbalový spolek Ostrava 0:2 (-18\,-12)
DTSTART;TZID=Europe/Berlin:20251206T140000
DTEND;TZID=Europe/Berlin:20251206T160000
LOCATION:Sportovní hala Brušperk\, Sportovní 584 Brušperk
SUMMARY:CP-U14M-VA: Green F-M-Volejbalový spolek Ostrava
END:VEVENT
BEGIN:VEVENT
UID:64303338-6435-4464-b961-376264393563
DTSTAMP:20260422T033926Z
DESCRIPTION:1/1 Volejbalový spolek Ostrava - VK Ostrava\, z.s. 1:1 (19\,-24
 )\n3A-3B 5-6. místo
DTSTART;TZID=Europe/Berlin:20251206T160000
DTEND;TZID=Europe/Berlin:20251206T180000
LOCATION:Sportovní hala Brušperk\, Sportovní 584 Brušperk
SUMMARY:CP-U14M-VC: Volejbalový spolek Ostrava-VK Ostrava\, z.s.
END:VEVENT
BEGIN:VEVENT
UID:31333265-3333-4133-a133-326261326266
DTSTAMP:20260422T033926Z
DESCRIPTION:2/4 Volejbalový spolek Ostrava - VK Ostrava 'A' 2:0 (21\,24)
DTSTART;TZID=Europe/Berlin:20260215T103000
DTEND;TZID=Europe/Berlin:20260215T123000
LOCATION:Jugoslávská\, Jugoslávská 2906 Ostrava - Zábřeh
SUMMARY:MS-U14M-T4A: Volejbalový spolek Ostrava-VK Ostrava 'A'
END:VEVENT
BEGIN:VEVENT
UID:31366330-3136-4439-b432-366238333433
DTSTAMP:20260422T033926Z
DESCRIPTION:3/6 Volejbalový spolek Ostrava - Happy Sport Opava\, z.s. 2:0 (
 24\,14)
DTSTART;TZID=Europe/Berlin:20260215T120000
DTEND;TZID=Europe/Berlin:20260215T140000
LOCATION:Jugoslávská\, Jugoslávská 2906 Ostrava - Zábřeh
SUMMARY:MS-U14M-T4A: Volejbalový spolek Ostrava-Happy Sport Opava\, z.s.
END:VEVENT
BEGIN:VEVENT
UID:63353466-3136-4137-a439-383934663063
DTSTAMP:20260422T033926Z
DESCRIPTION:1/1 Red Frýdlant n/O - Volejbalový spolek Ostrava 0:2 (-18\,-16
 )
DTSTART;TZID=Europe/Berlin:20260215T090000
DTEND;TZID=Europe/Berlin:20260215T110000
LOCATION:Jugoslávská\, Jugoslávská 2906 Ostrava - Zábřeh
SUMMARY:MS-U14M-T4A: Red Frýdlant n/O-Volejbalový spolek Ostrava
END:VEVENT
BEGIN:VEVENT
UID:63376366-3765-4461-b630-393730363839
DTSTAMP:20260422T033926Z
DESCRIPTION:2/4 Volejbalový spolek Ostrava - VK Ostrava 'A' 0:2 (-19\,-15)
DTSTART;TZID=Europe/Berlin:20260315T103000
DTEND;TZID=Europe/Berlin:20260315T123000
LOCATION:Jugoslávská\, Jugoslávská 2906 Ostrava - Zábřeh
SUMMARY:MS-U14M-T5A: Volejbalový spolek Ostrava-VK Ostrava 'A'
END:VEVENT
BEGIN:VEVENT
UID:63656138-3031-4132-a137-643863373938
DTSTAMP:20260422T033926Z
DESCRIPTION:3/6 Volejbalový spolek Ostrava - Green F-M 2:0 (17\,17)
DTSTART;TZID=Europe/Berlin:20260315T120000
DTEND;TZID=Europe/Berlin:20260315T140000
LOCATION:Jugoslávská\, Jugoslávská 2906 Ostrava - Zábřeh
SUMMARY:MS-U14M-T5A: Volejbalový spolek Ostrava-Green F-M
END:VEVENT
BEGIN:VEVENT
UID:36383734-3162-4838-a137-333566316661
DTSTAMP:20260422T033926Z
DESCRIPTION:1/1 Red Frýdlant n/O - Volejbalový spolek Ostrava 0:2 (-12\,-22
 )
DTSTART;TZID=Europe/Berlin:20260315T090000
DTEND;TZID=Europe/Berlin:20260315T110000
LOCATION:Jugoslávská\, Jugoslávská 2906 Ostrava - Zábřeh
SUMMARY:MS-U14M-T5A: Red Frýdlant n/O-Volejbalový spolek Ostrava
END:VEVENT
BEGIN:VEVENT
UID:61373735-3137-4236-b062-656436343764
DTSTAMP:20260422T033926Z
DESCRIPTION:1/1 Volejbalový spolek Ostrava - TESLA BRNOPolák Milan
DTSTART;TZID=Europe/Berlin:20260425T100000
DTEND;TZID=Europe/Berlin:20260425T120000
LOCATION:Sportovní hala Brušperk\, Sportovní 584 Brušperk
SUMMARY:MCR-U14ME: Volejbalový spolek Ostrava-TESLA BRNO
END:VEVENT
BEGIN:VEVENT
UID:31386231-3262-4531-b534-373131386438
DTSTAMP:20260422T033926Z
DESCRIPTION:2/4 Volejbalový spolek Ostrava - Green F-MPolák Milan
DTSTART;TZID=Europe/Berlin:20260425T110000
DTEND;TZID=Europe/Berlin:20260425T130000
LOCATION:Sportovní hala Brušperk\, Sportovní 584 Brušperk
SUMMARY:MCR-U14ME: Volejbalový spolek Ostrava-Green F-M
END:VEVENT
BEGIN:VEVENT
UID:33383462-3535-4339-b764-303330326538
DTSTAMP:20260422T033926Z
DESCRIPTION:4/10 Volejbalový spolek Ostrava - Red Frýdlant n/OFriedel Pavel
DTSTART;TZID=Europe/Berlin:20260425T140000
DTEND;TZID=Europe/Berlin:20260425T160000
LOCATION:Sportovní hala Brušperk\, Sportovní 584 Brušperk
SUMMARY:MCR-U14ME: Volejbalový spolek Ostrava-Red Frýdlant n/O
END:VEVENT
BEGIN:VEVENT
UID:34643231-3737-4138-b935-646331663663
DTSTAMP:20260422T033926Z
DESCRIPTION:3/7 TJ SOKOL LETOVICE\, z.s. - Volejbalový spolek OstravaFriede
 l Pavel
DTSTART;TZID=Europe/Berlin:20260425T120000
DTEND;TZID=Europe/Berlin:20260425T140000
LOCATION:Sportovní hala Brušperk\, Sportovní 584 Brušperk
SUMMARY:MCR-U14ME: TJ SOKOL LETOVICE\, z.s.-Volejbalový spolek Ostrava
END:VEVENT
BEGIN:VEVENT
UID:30646262-6465-4539-b434-373931333437
DTSTAMP:20260422T033926Z
DESCRIPTION:5/13 Volejbalový klub Ostrava\, z.s. - Volejbalový spolek Ostra
 vaFriedel Pavel
DTSTART;TZID=Europe/Berlin:20260425T150000
DTEND;TZID=Europe/Berlin:20260425T170000
LOCATION:Sportovní hala Brušperk\, Sportovní 584 Brušperk
SUMMARY:MCR-U14ME: Volejbalový klub Ostrava\, z.s.-Volejbalový spolek Ostra
 va
END:VEVENT
BEGIN:VEVENT
UID:64633733-3232-4666-a366-663566343766
DTSTAMP:20260422T033926Z
DESCRIPTION:2/4 Volejbalový spolek Ostrava - Red Frýdlant n/O 2:0 (27\,18)
DTSTART;TZID=Europe/Berlin:20260419T103000
DTEND;TZID=Europe/Berlin:20260419T123000
LOCATION:Sportovní hala Brušperk\, Sportovní 584 Brušperk
SUMMARY:MS-U14M-T6A: Volejbalový spolek Ostrava-Red Frýdlant n/O
END:VEVENT
BEGIN:VEVENT
UID:62323632-3265-4331-a637-616335393332
DTSTAMP:20260422T033926Z
DESCRIPTION:1/2 Happy Sport Opava\, z.s. - Volejbalový spolek Ostrava 0:2 (
 -19\,-15)
DTSTART;TZID=Europe/Berlin:20260419T090000
DTEND;TZID=Europe/Berlin:20260419T110000
LOCATION:Sportovní hala Brušperk\, Sportovní 584 Brušperk
SUMMARY:MS-U14M-T6A: Happy Sport Opava\, z.s.-Volejbalový spolek Ostrava
END:VEVENT
BEGIN:VEVENT
UID:37653236-3665-4563-b935-636564623431
DTSTAMP:20260422T033926Z
DESCRIPTION:3/6 VK Ostrava 'A' - Volejbalový spolek Ostrava 1:2 (-21\,20\,-
 10)
DTSTART;TZID=Europe/Berlin:20260419T120000
DTEND;TZID=Europe/Berlin:20260419T140000
LOCATION:Sportovní hala Brušperk\, Sportovní 584 Brušperk
SUMMARY:MS-U14M-T6A: VK Ostrava 'A'-Volejbalový spolek Ostrava
END:VEVENT
END:VCALENDAR
