BEGIN:VCALENDAR
VERSION:2.0
PRODID:-//Tělovýchovná jednota Slavoj Český Těšín90230//NONSGML kigkonsult.se iCalcreator 2.41.80//
CALSCALE:GREGORIAN
UID:36646636-6231-4364-b963-333364376663
BEGIN:VEVENT
UID:66623865-3231-4635-b132-383263646564
DTSTAMP:20260422T164605Z
DESCRIPTION:1/3 TJ Český Těšín - VK Polanka 'B' 3:0 (22\,17\,19)
DTSTART;TZID=Europe/Berlin:20250920T090000
DTEND;TZID=Europe/Berlin:20250920T110000
LOCATION:Pink ARÉNA\, Frýdecká 690 Český Těšín
SUMMARY:MS-Z: TJ Český Těšín-VK Polanka 'B'
END:VEVENT
BEGIN:VEVENT
UID:61316639-6665-4636-b830-333030623865
DTSTAMP:20260422T164605Z
DESCRIPTION:2/7 TJ Český Těšín - VK Polanka 'B' 3:1 (19\,22\,-17\,18)
DTSTART;TZID=Europe/Berlin:20250920T130000
DTEND;TZID=Europe/Berlin:20250920T150000
LOCATION:Pink ARÉNA\, Frýdecká 690 Český Těšín
SUMMARY:MS-Z: TJ Český Těšín-VK Polanka 'B'
END:VEVENT
BEGIN:VEVENT
UID:39346131-6439-4161-a464-623030396363
DTSTAMP:20260422T164605Z
DESCRIPTION:5/18 TJ Český Těšín - VK Karviná 2:3 (17\,23\,-21\,-17\,-8)
DTSTART;TZID=Europe/Berlin:20251101T090000
DTEND;TZID=Europe/Berlin:20251101T110000
LOCATION:Pink ARÉNA\, Frýdecká 690 Český Těšín
SUMMARY:MS-Z: TJ Český Těšín-VK Karviná
END:VEVENT
BEGIN:VEVENT
UID:34653139-3965-4162-a433-373739626534
DTSTAMP:20260422T164605Z
DESCRIPTION:6/22 TJ Český Těšín - VK Karviná 1:3 (-14\,-16\,21\,-20)
DTSTART;TZID=Europe/Berlin:20251101T130000
DTEND;TZID=Europe/Berlin:20251101T150000
LOCATION:Pink ARÉNA\, Frýdecká 690 Český Těšín
SUMMARY:MS-Z: TJ Český Těšín-VK Karviná
END:VEVENT
BEGIN:VEVENT
UID:61363332-3130-4663-a164-633361326565
DTSTAMP:20260422T164605Z
DESCRIPTION:9/33 TJ Český Těšín - VŠB - TU Ostrava 3:2 (12\,-25\,16\,-13\,1
 3)
DTSTART;TZID=Europe/Berlin:20251108T090000
DTEND;TZID=Europe/Berlin:20251108T110000
LOCATION:Sportovní hala Svojsíkova\, Svojsíkova 2119 Český Těšín
SUMMARY:MS-Z: TJ Český Těšín-VŠB - TU Ostrava
END:VEVENT
BEGIN:VEVENT
UID:31386636-3063-4933-b366-363465366130
DTSTAMP:20260422T164605Z
DESCRIPTION:10/37 TJ Český Těšín - VŠB - TU Ostrava 0:3 (-22\,-17\,-19)
DTSTART;TZID=Europe/Berlin:20251108T130000
DTEND;TZID=Europe/Berlin:20251108T150000
LOCATION:Sportovní hala Svojsíkova\, Svojsíkova 2119 Český Těšín
SUMMARY:MS-Z: TJ Český Těšín-VŠB - TU Ostrava
END:VEVENT
BEGIN:VEVENT
UID:39323361-3936-4535-a365-616464663736
DTSTAMP:20260422T164605Z
DESCRIPTION:11/44 TJ Český Těšín - SVK Nový Jičín 0:3 (-20\,-19\,-11)
DTSTART;TZID=Europe/Berlin:20251122T090000
DTEND;TZID=Europe/Berlin:20251122T110000
LOCATION:Pink ARÉNA\, Frýdecká 690 Český Těšín
SUMMARY:MS-Z: TJ Český Těšín-SVK Nový Jičín
END:VEVENT
BEGIN:VEVENT
UID:37306232-3439-4032-b632-373862336230
DTSTAMP:20260422T164605Z
DESCRIPTION:12/48 TJ Český Těšín - SVK Nový Jičín 0:3 (-12\,-19\,-23)
DTSTART;TZID=Europe/Berlin:20251122T130000
DTEND;TZID=Europe/Berlin:20251122T150000
LOCATION:Pink ARÉNA\, Frýdecká 690 Český Těšín
SUMMARY:MS-Z: TJ Český Těšín-SVK Nový Jičín
END:VEVENT
BEGIN:VEVENT
UID:66343263-6333-4561-b033-346362656138
DTSTAMP:20260422T164605Z
DESCRIPTION:17/67 TJ Český Těšín - VK Polanka 0:3 (-10\,-10\,-18)
DTSTART;TZID=Europe/Berlin:20260110T090000
DTEND;TZID=Europe/Berlin:20260110T110000
LOCATION:Pink ARÉNA\, Frýdecká 690 Český Těšín
SUMMARY:MS-Z: TJ Český Těšín-VK Polanka
END:VEVENT
BEGIN:VEVENT
UID:30373438-6436-4135-b862-383637663833
DTSTAMP:20260422T164605Z
DESCRIPTION:18/71 TJ Český Těšín - VK Polanka 0:3 (-27\,-17\,-16)
DTSTART;TZID=Europe/Berlin:20260110T130000
DTEND;TZID=Europe/Berlin:20260110T150000
LOCATION:Pink ARÉNA\, Frýdecká 690 Český Těšín
SUMMARY:MS-Z: TJ Český Těšín-VK Polanka
END:VEVENT
BEGIN:VEVENT
UID:33616363-6366-4532-b131-386533343331
DTSTAMP:20260422T164605Z
DESCRIPTION:21/84 TJ Český Těšín - Happy Opava 0:3 (-19\,-11\,-22)
DTSTART;TZID=Europe/Berlin:20260207T090000
DTEND;TZID=Europe/Berlin:20260207T110000
LOCATION:Pink ARÉNA\, Frýdecká 690 Český Těšín
SUMMARY:MS-Z: TJ Český Těšín-Happy Opava
END:VEVENT
BEGIN:VEVENT
UID:32643433-3139-4332-b133-363834363734
DTSTAMP:20260422T164605Z
DESCRIPTION:22/88 TJ Český Těšín - Happy Opava 0:3 (-22\,-18\,-16)
DTSTART;TZID=Europe/Berlin:20260207T130000
DTEND;TZID=Europe/Berlin:20260207T150000
LOCATION:Pink ARÉNA\, Frýdecká 690 Český Těšín
SUMMARY:MS-Z: TJ Český Těšín-Happy Opava
END:VEVENT
BEGIN:VEVENT
UID:36313364-3965-4831-b538-386539323230
DTSTAMP:20260422T164605Z
DESCRIPTION:27/106 TJ Český Těšín - TJ Hlučín 3:1 (-19\,13\,11\,12)
DTSTART;TZID=Europe/Berlin:20260321T090000
DTEND;TZID=Europe/Berlin:20260321T110000
LOCATION:Gymnázium Český Těšín \, Frýdecká 689 Český Těšín
SUMMARY:MS-Z: TJ Český Těšín-TJ Hlučín
END:VEVENT
BEGIN:VEVENT
UID:35346137-3966-4635-a365-386539306533
DTSTAMP:20260422T164605Z
DESCRIPTION:28/110 TJ Český Těšín - TJ Hlučín 3:0 (13\,16\,18)
DTSTART;TZID=Europe/Berlin:20260321T130000
DTEND;TZID=Europe/Berlin:20260321T150000
LOCATION:Gymnázium Český Těšín \, Frýdecká 689 Český Těšín
SUMMARY:MS-Z: TJ Český Těšín-TJ Hlučín
END:VEVENT
BEGIN:VEVENT
UID:32636163-3465-4563-a461-383662313663
DTSTAMP:20260422T164605Z
DESCRIPTION:3/11 VK Polanka - TJ Český Těšín 3:0 (9\,16\,20)
DTSTART;TZID=Europe/Berlin:20251130T090000
DTEND;TZID=Europe/Berlin:20251130T110000
LOCATION:Sportovní hala\, Heleny Salichové 1275 Ostrava - Polanka nad Odrou
SUMMARY:MS-Z: VK Polanka-TJ Český Těšín
END:VEVENT
BEGIN:VEVENT
UID:31383631-6139-4232-b836-363964336130
DTSTAMP:20260422T164605Z
DESCRIPTION:4/15 VK Polanka - TJ Český Těšín 3:0 (8\,15\,18)
DTSTART;TZID=Europe/Berlin:20251130T130000
DTEND;TZID=Europe/Berlin:20251130T150000
LOCATION:Sportovní hala\, Heleny Salichové 1275 Ostrava - Polanka nad Odrou
SUMMARY:MS-Z: VK Polanka-TJ Český Těšín
END:VEVENT
BEGIN:VEVENT
UID:63613662-6262-4238-b938-336534353533
DTSTAMP:20260422T164605Z
DESCRIPTION:7/28 Happy Opava - TJ Český Těšín 3:0 (18\,23\,21)
DTSTART;TZID=Europe/Berlin:20251018T100000
DTEND;TZID=Europe/Berlin:20251018T120000
LOCATION:SHŠ Husova\, Husova 507 Opava - Předměstí
SUMMARY:MS-Z: Happy Opava-TJ Český Těšín
END:VEVENT
BEGIN:VEVENT
UID:31623561-3266-4663-b133-363633393236
DTSTAMP:20260422T164605Z
DESCRIPTION:8/32 Happy Opava - TJ Český Těšín 3:0 (16\,23\,22)
DTSTART;TZID=Europe/Berlin:20251018T140000
DTEND;TZID=Europe/Berlin:20251018T160000
LOCATION:SHŠ Husova\, Husova 507 Opava - Předměstí
SUMMARY:MS-Z: Happy Opava-TJ Český Těšín
END:VEVENT
BEGIN:VEVENT
UID:66316332-6437-4466-a363-636561643666
DTSTAMP:20260422T164605Z
DESCRIPTION:13/50 TJ Hlučín - TJ Český Těšín 0:3 (-14\,-10\,-13)
DTSTART;TZID=Europe/Berlin:20260117T090000
DTEND;TZID=Europe/Berlin:20260117T110000
LOCATION:Sportovní hala\, Tyršova 1668 Hlučín
SUMMARY:MS-Z: TJ Hlučín-TJ Český Těšín
END:VEVENT
BEGIN:VEVENT
UID:35373531-3235-4436-a564-383330343761
DTSTAMP:20260422T164605Z
DESCRIPTION:14/54 TJ Hlučín - TJ Český Těšín 0:3 (-13\,-16\,-14)
DTSTART;TZID=Europe/Berlin:20260117T130000
DTEND;TZID=Europe/Berlin:20260117T150000
LOCATION:Sportovní hala\, Tyršova 1668 Hlučín
SUMMARY:MS-Z: TJ Hlučín-TJ Český Těšín
END:VEVENT
BEGIN:VEVENT
UID:35366137-3233-4339-b737-393462363634
DTSTAMP:20260422T164605Z
DESCRIPTION:15/59 VK Polanka 'B' - TJ Český Těšín 3:0 (22\,19\,16)
DTSTART;TZID=Europe/Berlin:20251213T090000
DTEND;TZID=Europe/Berlin:20251213T110000
LOCATION:Sportovní hala\, Heleny Salichové 1275 Ostrava - Polanka nad Odrou
SUMMARY:MS-Z: VK Polanka 'B'-TJ Český Těšín
END:VEVENT
BEGIN:VEVENT
UID:39336161-6266-4634-b263-376662306261
DTSTAMP:20260422T164605Z
DESCRIPTION:16/63 VK Polanka 'B' - TJ Český Těšín 3:1 (26\,22\,-18\,17)
DTSTART;TZID=Europe/Berlin:20251213T130000
DTEND;TZID=Europe/Berlin:20251213T150000
LOCATION:Sportovní hala\, Heleny Salichové 1275 Ostrava - Polanka nad Odrou
SUMMARY:MS-Z: VK Polanka 'B'-TJ Český Těšín
END:VEVENT
BEGIN:VEVENT
UID:61613735-3339-4933-b034-636335353665
DTSTAMP:20260422T164605Z
DESCRIPTION:19/74 VK Karviná - TJ Český Těšín 3:0 (12\,20\,16)
DTSTART;TZID=Europe/Berlin:20260124T090000
DTEND;TZID=Europe/Berlin:20260124T110000
LOCATION:Tělocvična ZŠ Družby\, tř. Družby 1383 Karviná - Nové Město
SUMMARY:MS-Z: VK Karviná-TJ Český Těšín
END:VEVENT
BEGIN:VEVENT
UID:33363936-6335-4030-b839-313234336164
DTSTAMP:20260422T164605Z
DESCRIPTION:20/78 VK Karviná - TJ Český Těšín 3:1 (14\,14\,-22\,23)
DTSTART;TZID=Europe/Berlin:20260124T130000
DTEND;TZID=Europe/Berlin:20260124T150000
LOCATION:Tělocvična ZŠ Družby\, tř. Družby 1383 Karviná - Nové Město
SUMMARY:MS-Z: VK Karviná-TJ Český Těšín
END:VEVENT
BEGIN:VEVENT
UID:63616661-3266-4430-a532-626138343330
DTSTAMP:20260422T164605Z
DESCRIPTION:23/89 VŠB - TU Ostrava - TJ Český Těšín 3:0 (19\,15\,20)
DTSTART;TZID=Europe/Berlin:20260221T100000
DTEND;TZID=Europe/Berlin:20260221T120000
LOCATION:Sportovní hala VŠB-TUO\, Studentská 6175 Ostrava - Poruba
SUMMARY:MS-Z: VŠB - TU Ostrava-TJ Český Těšín
END:VEVENT
BEGIN:VEVENT
UID:38623132-3261-4861-b131-363162373361
DTSTAMP:20260422T164605Z
DESCRIPTION:24/93 VŠB - TU Ostrava - TJ Český Těšín 3:0 (18\,13\,12)
DTSTART;TZID=Europe/Berlin:20260221T140000
DTEND;TZID=Europe/Berlin:20260221T160000
LOCATION:Sportovní hala VŠB-TUO\, Studentská 6175 Ostrava - Poruba
SUMMARY:MS-Z: VŠB - TU Ostrava-TJ Český Těšín
END:VEVENT
BEGIN:VEVENT
UID:63386132-6566-4431-b637-326336326466
DTSTAMP:20260422T164605Z
DESCRIPTION:25/100 SVK Nový Jičín - TJ Český Těšín 3:1 (-23\,22\,24\,20)
DTSTART;TZID=Europe/Berlin:20260307T100000
DTEND;TZID=Europe/Berlin:20260307T120000
LOCATION:Hala ABC\, Purkyňova 116 Nový Jičín
SUMMARY:MS-Z: SVK Nový Jičín-TJ Český Těšín
END:VEVENT
BEGIN:VEVENT
UID:66656631-3138-4439-a561-623464346231
DTSTAMP:20260422T164605Z
DESCRIPTION:26/104 SVK Nový Jičín - TJ Český Těšín 3:1 (-22\,14\,16\,18)
DTSTART;TZID=Europe/Berlin:20260307T140000
DTEND;TZID=Europe/Berlin:20260307T160000
LOCATION:Hala ABC\, Purkyňova 116 Nový Jičín
SUMMARY:MS-Z: SVK Nový Jičín-TJ Český Těšín
END:VEVENT
END:VCALENDAR
