BEGIN:VCALENDAR
VERSION:2.0
PRODID:-//VSC Zlín90301//NONSGML kigkonsult.se iCalcreator 2.41.80//
CALSCALE:GREGORIAN
UID:34323962-6333-4237-a463-656635616234
BEGIN:VEVENT
UID:66646238-6436-4862-a534-656662383535
DTSTAMP:20260423T042803Z
DESCRIPTION:3/9 VSC Zlín - VK Olomouc 2:1 (-15\,10\,4)
DTSTART;TZID=Europe/Berlin:20250913T130000
DTEND;TZID=Europe/Berlin:20250913T150000
LOCATION:ZŠ Okružní Zlín\, Okružní 4685 Zlín
SUMMARY:CP-U16Z-V1C: VSC Zlín-VK Olomouc
END:VEVENT
BEGIN:VEVENT
UID:37653430-3964-4862-b532-646666316361
DTSTAMP:20260423T042803Z
DESCRIPTION:9/25 VSC Zlín - VA MUNI Sport Brno 2:0 (4\,18)
DTSTART;TZID=Europe/Berlin:20250914T114500
DTEND;TZID=Europe/Berlin:20250914T134500
LOCATION:ZŠ Okružní Zlín\, Okružní 4685 Zlín
SUMMARY:CP-U16Z-V1C: VSC Zlín-VA MUNI Sport Brno
END:VEVENT
BEGIN:VEVENT
UID:63353762-3734-4337-b661-653933353365
DTSTAMP:20260423T042803Z
DESCRIPTION:10/28 VSC Zlín - VK Polanka 0:2 (-26\,-12)
DTSTART;TZID=Europe/Berlin:20250914T130000
DTEND;TZID=Europe/Berlin:20250914T150000
LOCATION:ZŠ Okružní Zlín\, Okružní 4685 Zlín
SUMMARY:CP-U16Z-V1C: VSC Zlín-VK Polanka
END:VEVENT
BEGIN:VEVENT
UID:61393864-3137-4432-b266-343033313839
DTSTAMP:20260423T042803Z
DESCRIPTION:2/5 KP Brno B - VSC Zlín 0:2 (-23\,-17)
DTSTART;TZID=Europe/Berlin:20250913T113000
DTEND;TZID=Europe/Berlin:20250913T133000
LOCATION:Sportovní gymnázium Ludvíka Daňka\, Botanická 63 Brno - Ponava
SUMMARY:CP-U16Z-V1C: KP Brno B-VSC Zlín
END:VEVENT
BEGIN:VEVENT
UID:35393036-3761-4337-a234-313534343366
DTSTAMP:20260423T042803Z
DESCRIPTION:4/12 SVK Nový Jičín - VSC Zlín 0:2 (-10\,-11)
DTSTART;TZID=Europe/Berlin:20250913T143000
DTEND;TZID=Europe/Berlin:20250913T163000
LOCATION:Hala ABC\, Purkyňova 116 Nový Jičín
SUMMARY:CP-U16Z-V1C: SVK Nový Jičín-VSC Zlín
END:VEVENT
BEGIN:VEVENT
UID:35333736-3434-4631-a465-663333653536
DTSTAMP:20260423T042803Z
DESCRIPTION:5/15 VC Kroměříž - VSC Zlín 0:2 (-15\,-18)
DTSTART;TZID=Europe/Berlin:20250913T160000
DTEND;TZID=Europe/Berlin:20250913T180000
LOCATION:ZŠ Zachar\, Albertova 4062 Kroměříž
SUMMARY:CP-U16Z-V1C: VC Kroměříž-VSC Zlín
END:VEVENT
BEGIN:VEVENT
UID:66663837-3735-4537-b166-313161616138
DTSTAMP:20260423T042803Z
DESCRIPTION:7/17 Bílovec - VSC Zlín 2:0 (8\,12)
DTSTART;TZID=Europe/Berlin:20250914T090000
DTEND;TZID=Europe/Berlin:20250914T110000
LOCATION:Hala ZŠ Komenského\, Komenského 701 Bílovec
SUMMARY:CP-U16Z-V1C: Bílovec-VSC Zlín
END:VEVENT
BEGIN:VEVENT
UID:39346438-6539-4261-b137-663930653430
DTSTAMP:20260423T042803Z
DESCRIPTION:1/3 VSC Zlín - VK Olomouc 1:2 (-16\,15\,-12)
DTSTART;TZID=Europe/Berlin:20251018T100000
DTEND;TZID=Europe/Berlin:20251018T120000
LOCATION:ZŠ Okružní Zlín\, Okružní 4685 Zlín
SUMMARY:CP-U16Z-V2B: VSC Zlín-VK Olomouc
END:VEVENT
BEGIN:VEVENT
UID:61356364-3839-4038-b534-313431343730
DTSTAMP:20260423T042803Z
DESCRIPTION:7/18 VSC Zlín - Znojmo 0:2 (-20\,-11)
DTSTART;TZID=Europe/Berlin:20251019T090000
DTEND;TZID=Europe/Berlin:20251019T110000
LOCATION:ZŠ Okružní Zlín\, Okružní 4685 Zlín
SUMMARY:CP-U16Z-V2B: VSC Zlín-Znojmo
END:VEVENT
BEGIN:VEVENT
UID:39653534-3666-4534-a239-616230343432
DTSTAMP:20260423T042803Z
DESCRIPTION:8/20 VSC Zlín - Jihlava 0:2 (-21\,-18)
DTSTART;TZID=Europe/Berlin:20251019T101500
DTEND;TZID=Europe/Berlin:20251019T121500
LOCATION:ZŠ Okružní Zlín\, Okružní 4685 Zlín
SUMMARY:CP-U16Z-V2B: VSC Zlín-Jihlava
END:VEVENT
BEGIN:VEVENT
UID:62663030-3537-4036-b536-323432356335
DTSTAMP:20260423T042803Z
DESCRIPTION:2/6 TJ Sokol Dolní Újezd - VSC Zlín 2:0 (22\,24)
DTSTART;TZID=Europe/Berlin:20251018T113000
DTEND;TZID=Europe/Berlin:20251018T133000
LOCATION:tělocvična Základní školy\,  Dolní Újezd342
SUMMARY:CP-U16Z-V2B: TJ Sokol Dolní Újezd-VSC Zlín
END:VEVENT
BEGIN:VEVENT
UID:32613835-3937-4464-b561-346438396165
DTSTAMP:20260423T042803Z
DESCRIPTION:3/9 TJ Sokol Frýdek - Místek - VSC Zlín 2:1 (-12\,21\,13)
DTSTART;TZID=Europe/Berlin:20251018T130000
DTEND;TZID=Europe/Berlin:20251018T150000
LOCATION:ZŠ Pionýrů 400 Frýdek-Místek\, Pionýrů 400 Frýdek-Místek - Místek
SUMMARY:CP-U16Z-V2B: TJ Sokol Frýdek - Místek-VSC Zlín
END:VEVENT
BEGIN:VEVENT
UID:30343265-3964-4632-a235-626138323034
DTSTAMP:20260423T042803Z
DESCRIPTION:5/13 T.J. Sokol Pardubice I. - VSC Zlín 0:2 (-24\,-24)
DTSTART;TZID=Europe/Berlin:20251018T160000
DTEND;TZID=Europe/Berlin:20251018T180000
LOCATION:Sportovní hala\, Masarykovo nám. 108 Lázně Bohdaneč
SUMMARY:CP-U16Z-V2B: T.J. Sokol Pardubice I.-VSC Zlín
END:VEVENT
BEGIN:VEVENT
UID:39633765-3966-4337-b866-303166646630
DTSTAMP:20260423T042803Z
DESCRIPTION:9/24 Slavia H.Králové - VSC Zlín 2:0 (13\,19)
DTSTART;TZID=Europe/Berlin:20251019T113000
DTEND;TZID=Europe/Berlin:20251019T133000
LOCATION:TJ Slavia Hradec Králové\, Víta Nejedlého 1216 Hradec Králové
SUMMARY:CP-U16Z-V2B: Slavia H.Králové-VSC Zlín
END:VEVENT
BEGIN:VEVENT
UID:30326133-3333-4634-b438-373065663864
DTSTAMP:20260423T042803Z
DESCRIPTION:1/3 VSC Zlín - TJ Sokol Dolní Újezd 2:0 (15\,19)
DTSTART;TZID=Europe/Berlin:20251129T100000
DTEND;TZID=Europe/Berlin:20251129T120000
LOCATION:ZŠ Okružní Zlín\, Okružní 4685 Zlín
SUMMARY:CP-U16Z-V3C: VSC Zlín-TJ Sokol Dolní Újezd
END:VEVENT
BEGIN:VEVENT
UID:37353634-3564-4933-a630-353835316138
DTSTAMP:20260423T042803Z
DESCRIPTION:3/8 VSC Zlín - Sokol Pouchov 2:0 (17\,19)
DTSTART;TZID=Europe/Berlin:20251129T130000
DTEND;TZID=Europe/Berlin:20251129T150000
LOCATION:ZŠ Okružní Zlín\, Okružní 4685 Zlín
SUMMARY:CP-U16Z-V3C: VSC Zlín-Sokol Pouchov
END:VEVENT
BEGIN:VEVENT
UID:62653039-6539-4234-b961-343531363661
DTSTAMP:20260423T042803Z
DESCRIPTION:2/5 KP Brno B - VSC Zlín 0:2 (-24\,-13)
DTSTART;TZID=Europe/Berlin:20251129T113000
DTEND;TZID=Europe/Berlin:20251129T133000
LOCATION:Sportovní gymnázium Ludvíka Daňka\, Botanická 63 Brno - Ponava
SUMMARY:CP-U16Z-V3C: KP Brno B-VSC Zlín
END:VEVENT
BEGIN:VEVENT
UID:38303335-6238-4932-b032-623337313865
DTSTAMP:20260423T042803Z
DESCRIPTION:4/11 Volejbal Přerov - VSC Zlín 0:2 (-15\,-14)
DTSTART;TZID=Europe/Berlin:20251129T143000
DTEND;TZID=Europe/Berlin:20251129T163000
LOCATION:Městská sportovní hala\, Petřivalského 2884 Přerov - Přerov I-Měst
 o
SUMMARY:CP-U16Z-V3C: Volejbal Přerov-VSC Zlín
END:VEVENT
BEGIN:VEVENT
UID:64376131-3238-4538-b038-356233373832
DTSTAMP:20260423T042803Z
DESCRIPTION:8/22 VSK  Staré Město - VSC Zlín 2:0 (20\,24)
DTSTART;TZID=Europe/Berlin:20251130T103000
DTEND;TZID=Europe/Berlin:20251130T123000
LOCATION:Městská sportovní hala Širůch\, Nad Hřištěm 1921 Staré Město
SUMMARY:CP-U16Z-V3C: VSK  Staré Město-VSC Zlín
END:VEVENT
BEGIN:VEVENT
UID:66623265-3862-4164-b935-313733326433
DTSTAMP:20260423T042803Z
DESCRIPTION:9/23 Třebíč - VSC Zlín 2:0 (25\,17)
DTSTART;TZID=Europe/Berlin:20251130T120000
DTEND;TZID=Europe/Berlin:20251130T140000
LOCATION:hala ZŠ TGM\, Komenského nám. 61 Třebíč - Horka-Domky
SUMMARY:CP-U16Z-V3C: Třebíč-VSC Zlín
END:VEVENT
BEGIN:VEVENT
UID:31356533-6338-4564-b261-663562666361
DTSTAMP:20260423T042803Z
DESCRIPTION:10/26 VK Brno - VSC Zlín 1:2 (21\,-26\,-7)
DTSTART;TZID=Europe/Berlin:20251130T133000
DTEND;TZID=Europe/Berlin:20251130T153000
LOCATION:ZŠ Vejrostova\, Vejrostova 1066 Brno - Bystrc
SUMMARY:CP-U16Z-V3C: VK Brno-VSC Zlín
END:VEVENT
BEGIN:VEVENT
UID:31643665-6336-4565-b639-613061616437
DTSTAMP:20260423T042803Z
DESCRIPTION:2/2 VSC Zlín - VK Slavia Plzeň 0:2 (-22\,-15)
DTSTART;TZID=Europe/Berlin:20260117T101500
DTEND;TZID=Europe/Berlin:20260117T121500
LOCATION:ZŠ Okružní Zlín\, Okružní 4685 Zlín
SUMMARY:CP-U16Z4E: VSC Zlín-VK Slavia Plzeň
END:VEVENT
BEGIN:VEVENT
UID:66393933-6164-4935-b836-376532353530
DTSTAMP:20260423T042803Z
DESCRIPTION:3/6 VSC Zlín - SVK Nový Jičín 2:1 (-18\,21\,10)
DTSTART;TZID=Europe/Berlin:20260117T113000
DTEND;TZID=Europe/Berlin:20260117T133000
LOCATION:ZŠ Okružní Zlín\, Okružní 4685 Zlín
SUMMARY:CP-U16Z4E: VSC Zlín-SVK Nový Jičín
END:VEVENT
BEGIN:VEVENT
UID:65623239-3531-4133-b265-373932653132
DTSTAMP:20260423T042803Z
DESCRIPTION:5/11 VSC Zlín - Volejbal Tábor 2:0 (16\,22)
DTSTART;TZID=Europe/Berlin:20260117T143000
DTEND;TZID=Europe/Berlin:20260117T163000
LOCATION:ZŠ Okružní Zlín\, Okružní 4685 Zlín
SUMMARY:CP-U16Z4E: VSC Zlín-Volejbal Tábor
END:VEVENT
BEGIN:VEVENT
UID:62386432-3465-4535-a435-646136303937
DTSTAMP:20260423T042803Z
DESCRIPTION:4/10 VSK Baník Sokolov - VSC Zlín 0:2 (-18\,-15)
DTSTART;TZID=Europe/Berlin:20260117T124500
DTEND;TZID=Europe/Berlin:20260117T144500
LOCATION:Jiskra\, Maxima Gorkého 280 Sokolov
SUMMARY:CP-U16Z4E: VSK Baník Sokolov-VSC Zlín
END:VEVENT
BEGIN:VEVENT
UID:32663338-3533-4436-b062-363737353266
DTSTAMP:20260423T042803Z
DESCRIPTION:7/18 Slavia H.Králové - VSC Zlín 2:1 (17\,-22\,9)
DTSTART;TZID=Europe/Berlin:20260118T090000
DTEND;TZID=Europe/Berlin:20260118T110000
LOCATION:TJ Slavia Hradec Králové\, Víta Nejedlého 1216 Hradec Králové
SUMMARY:CP-U16Z4E: Slavia H.Králové-VSC Zlín
END:VEVENT
BEGIN:VEVENT
UID:35646162-3165-4236-a464-653862313234
DTSTAMP:20260423T042803Z
DESCRIPTION:8/21 TJ Spartak Polička - VSC Zlín 2:1 (19\,-15\,9)
DTSTART;TZID=Europe/Berlin:20260118T101500
DTEND;TZID=Europe/Berlin:20260118T121500
LOCATION:TJ Spartak Polička\, z.s. \, nábř. Svobody 447 Polička - Horní Pře
 dměstí
SUMMARY:CP-U16Z4E: TJ Spartak Polička-VSC Zlín
END:VEVENT
BEGIN:VEVENT
UID:36326231-6535-4035-b731-343339316566
DTSTAMP:20260423T042803Z
DESCRIPTION:10/27 SC Braník - VSC Zlín 0:2 (-16\,-21)
DTSTART;TZID=Europe/Berlin:20260118T124500
DTEND;TZID=Europe/Berlin:20260118T144500
LOCATION:Sokolovna Braník\, Branická 275 Praha - Braník
SUMMARY:CP-U16Z4E: SC Braník-VSC Zlín
END:VEVENT
BEGIN:VEVENT
UID:39316232-3236-4630-b464-333864616430
DTSTAMP:20260423T042803Z
DESCRIPTION:2/3 VSC Zlín - Volejbal Tábor 2:0 (23\,16)
DTSTART;TZID=Europe/Berlin:20260207T101500
DTEND;TZID=Europe/Berlin:20260207T121500
LOCATION:TJ Slavia Hradec Králové\, Víta Nejedlého 1216 Hradec Králové
SUMMARY:CP-U16Z5E: VSC Zlín-Volejbal Tábor
END:VEVENT
BEGIN:VEVENT
UID:39366135-3436-4739-b434-653937363262
DTSTAMP:20260423T042803Z
DESCRIPTION:5/10 VSC Zlín - Třebíč 2:0 (22\,9)
DTSTART;TZID=Europe/Berlin:20260207T140000
DTEND;TZID=Europe/Berlin:20260207T160000
LOCATION:TJ Slavia Hradec Králové\, Víta Nejedlého 1216 Hradec Králové
SUMMARY:CP-U16Z5E: VSC Zlín-Třebíč
END:VEVENT
BEGIN:VEVENT
UID:66343261-3663-4730-b838-663436383430
DTSTAMP:20260423T042803Z
DESCRIPTION:9/17 VSC Zlín - SVK Nový Jičín 2:0 (10\,23)
DTSTART;TZID=Europe/Berlin:20260208T090000
DTEND;TZID=Europe/Berlin:20260208T110000
LOCATION:TJ Slavia Hradec Králové\, Víta Nejedlého 1216 Hradec Králové
SUMMARY:CP-U16Z5E: VSC Zlín-SVK Nový Jičín
END:VEVENT
BEGIN:VEVENT
UID:34376434-6438-4762-a636-383966653062
DTSTAMP:20260423T042803Z
DESCRIPTION:12/24 VSC Zlín - VK Jirkov 2:0 (26\,13)
DTSTART;TZID=Europe/Berlin:20260208T124500
DTEND;TZID=Europe/Berlin:20260208T144500
LOCATION:TJ Slavia Hradec Králové\, Víta Nejedlého 1216 Hradec Králové
SUMMARY:CP-U16Z5E: VSC Zlín-VK Jirkov
END:VEVENT
BEGIN:VEVENT
UID:62373535-3630-4363-b361-623533376233
DTSTAMP:20260423T042803Z
DESCRIPTION:4/7 VK Slavia Plzeň - VSC Zlín 2:1 (19\,-21\,14)
DTSTART;TZID=Europe/Berlin:20260207T124500
DTEND;TZID=Europe/Berlin:20260207T144500
LOCATION:TJ Slavia Hradec Králové\, Víta Nejedlého 1216 Hradec Králové
SUMMARY:CP-U16Z5E: VK Slavia Plzeň-VSC Zlín
END:VEVENT
BEGIN:VEVENT
UID:31623637-3036-4338-b832-323963316634
DTSTAMP:20260423T042803Z
DESCRIPTION:8/16 S V B C - VSC Zlín 1:2 (13\,-19\,-7)
DTSTART;TZID=Europe/Berlin:20260207T174500
DTEND;TZID=Europe/Berlin:20260207T194500
LOCATION:TJ Slavia Hradec Králové\, Víta Nejedlého 1216 Hradec Králové
SUMMARY:CP-U16Z5E: S V B C-VSC Zlín
END:VEVENT
BEGIN:VEVENT
UID:63396637-6532-4630-b864-633136636230
DTSTAMP:20260423T042803Z
DESCRIPTION:13/26 VSK  Staré Město - VSC Zlín 1:2 (10\,-12\,-18)
DTSTART;TZID=Europe/Berlin:20260208T140000
DTEND;TZID=Europe/Berlin:20260208T160000
LOCATION:TJ Slavia Hradec Králové\, Víta Nejedlého 1216 Hradec Králové
SUMMARY:CP-U16Z5E: VSK  Staré Město-VSC Zlín
END:VEVENT
BEGIN:VEVENT
UID:30363132-3332-4462-b634-393533623738
DTSTAMP:20260423T042803Z
DESCRIPTION:1/1 VSC Zlín - TJ Spartak Polička 0:2 (-19\,-24)
DTSTART;TZID=Europe/Berlin:20260328T100000
DTEND;TZID=Europe/Berlin:20260328T120000
LOCATION:ZŠ Okružní Zlín\, Okružní 4685 Zlín
SUMMARY:CP-U16Z6G: VSC Zlín-TJ Spartak Polička
END:VEVENT
BEGIN:VEVENT
UID:61306138-3838-4534-b431-633835373262
DTSTAMP:20260423T042803Z
DESCRIPTION:4/11 VSC Zlín - T.J. Sokol Pardubice I. 2:0 (24\,15)
DTSTART;TZID=Europe/Berlin:20260328T143000
DTEND;TZID=Europe/Berlin:20260328T163000
LOCATION:ZŠ Okružní Zlín\, Okružní 4685 Zlín
SUMMARY:CP-U16Z6G: VSC Zlín-T.J. Sokol Pardubice I.
END:VEVENT
BEGIN:VEVENT
UID:31616665-6231-4662-b566-376263343931
DTSTAMP:20260423T042803Z
DESCRIPTION:8/21 VSC Zlín - TJ Svitavy 2:0 (23\,19)
DTSTART;TZID=Europe/Berlin:20260329T101500
DTEND;TZID=Europe/Berlin:20260329T121500
LOCATION:ZŠ Okružní Zlín\, Okružní 4685 Zlín
SUMMARY:CP-U16Z6G: VSC Zlín-TJ Svitavy
END:VEVENT
BEGIN:VEVENT
UID:35313531-3165-4731-a633-656339363836
DTSTAMP:20260423T042803Z
DESCRIPTION:10/27 VSC Zlín - Volejbal Ústí n. L. 1:2 (-19\,25\,-3)
DTSTART;TZID=Europe/Berlin:20260329T124500
DTEND;TZID=Europe/Berlin:20260329T144500
LOCATION:ZŠ Okružní Zlín\, Okružní 4685 Zlín
SUMMARY:CP-U16Z6G: VSC Zlín-Volejbal Ústí n. L.
END:VEVENT
BEGIN:VEVENT
UID:37303032-3134-4130-b036-646236353237
DTSTAMP:20260423T042803Z
DESCRIPTION:2/4 VK Slavia Plzeň - VSC Zlín 1:2 (26\,-24\,-13)
DTSTART;TZID=Europe/Berlin:20260328T111500
DTEND;TZID=Europe/Berlin:20260328T131500
LOCATION:Tělocvična 15.ZŠ\, Terezie Brzkové 863 Plzeň - Skvrňany
SUMMARY:CP-U16Z6G: VK Slavia Plzeň-VSC Zlín
END:VEVENT
BEGIN:VEVENT
UID:31386463-6437-4162-b363-343532653733
DTSTAMP:20260423T042803Z
DESCRIPTION:5/14 SK Kometa Praha - VSC Zlín 2:0 (24\,18)
DTSTART;TZID=Europe/Berlin:20260328T154500
DTEND;TZID=Europe/Berlin:20260328T174500
LOCATION:Tělocvična ZŠ Na Šutce\, Na Šutce 440 Praha - Troja
SUMMARY:CP-U16Z6G: SK Kometa Praha-VSC Zlín
END:VEVENT
BEGIN:VEVENT
UID:61393365-6636-4564-b361-356362396539
DTSTAMP:20260423T042803Z
DESCRIPTION:9/25 TJ Bižuterie Jablonec n/N - VSC Zlín 0:2 (-22\,-23)
DTSTART;TZID=Europe/Berlin:20260329T113000
DTEND;TZID=Europe/Berlin:20260329T133000
LOCATION:Městská sportovní hala\, U Přehrady 4747 Jablonec nad Nisou
SUMMARY:CP-U16Z6G: TJ Bižuterie Jablonec n/N-VSC Zlín
END:VEVENT
END:VCALENDAR
