BEGIN:VCALENDAR
VERSION:2.0
PRODID:-//Tělovýchovná Jednota Baník Příbram90303//NONSGML kigkonsult.se iCalcreator 2.41.80//
CALSCALE:GREGORIAN
UID:35633534-3731-4766-a332-633463326162
BEGIN:VEVENT
UID:36313034-6262-4730-a665-643263663138
DTSTAMP:20260422T184040Z
DESCRIPTION:1/2 TJ Baník Příbram - VK Slavia Plzeň 2:0 (17\,15)
DTSTART;TZID=Europe/Berlin:20250913T100000
DTEND;TZID=Europe/Berlin:20250913T120000
LOCATION:Tělocvična ZŠ Balbínova\, Balbínova 328 Příbram - Příbram II
SUMMARY:CP-U16Z-Z1F: TJ Baník Příbram-VK Slavia Plzeň
END:VEVENT
BEGIN:VEVENT
UID:62663839-6435-4935-b136-373764656136
DTSTAMP:20260422T184040Z
DESCRIPTION:2/4 TJ Baník Příbram - Madeta Jihostroj ČB 2:0 (16\,14)
DTSTART;TZID=Europe/Berlin:20250913T111500
DTEND;TZID=Europe/Berlin:20250913T131500
LOCATION:Tělocvična ZŠ Balbínova\, Balbínova 328 Příbram - Příbram II
SUMMARY:CP-U16Z-Z1F: TJ Baník Příbram-Madeta Jihostroj ČB
END:VEVENT
BEGIN:VEVENT
UID:33643633-3231-4139-a534-393136386265
DTSTAMP:20260422T184040Z
DESCRIPTION:4/8 TJ Baník Příbram - VSK Český Krumlov 2:0 (8\,19)
DTSTART;TZID=Europe/Berlin:20250913T134500
DTEND;TZID=Europe/Berlin:20250913T154500
LOCATION:Tělocvična ZŠ Balbínova\, Balbínova 328 Příbram - Příbram II
SUMMARY:CP-U16Z-Z1F: TJ Baník Příbram-VSK Český Krumlov
END:VEVENT
BEGIN:VEVENT
UID:65646661-3233-4336-b837-356434643661
DTSTAMP:20260422T184040Z
DESCRIPTION:7/14 TJ Baník Příbram - SC Braník 2:0 (16\,16)
DTSTART;TZID=Europe/Berlin:20250913T173000
DTEND;TZID=Europe/Berlin:20250913T193000
LOCATION:Tělocvična ZŠ Balbínova\, Balbínova 328 Příbram - Příbram II
SUMMARY:CP-U16Z-Z1F: TJ Baník Příbram-SC Braník
END:VEVENT
BEGIN:VEVENT
UID:61383063-6430-4563-b831-393734643434
DTSTAMP:20260422T184040Z
DESCRIPTION:8/16 TJ Baník Příbram - Volejbal Ústí n. L. 2:0 (23\,20)
DTSTART;TZID=Europe/Berlin:20250914T090000
DTEND;TZID=Europe/Berlin:20250914T110000
LOCATION:Tělocvična ZŠ Balbínova\, Balbínova 328 Příbram - Příbram II
SUMMARY:CP-U16Z-Z1F: TJ Baník Příbram-Volejbal Ústí n. L.
END:VEVENT
BEGIN:VEVENT
UID:34323666-3139-4330-b831-643636653263
DTSTAMP:20260422T184040Z
DESCRIPTION:11/21 TJ Baník Příbram - Mikulova B 2:0 (11\,16)
DTSTART;TZID=Europe/Berlin:20250914T130000
DTEND;TZID=Europe/Berlin:20250914T150000
LOCATION:Tělocvična ZŠ Balbínova\, Balbínova 328 Příbram - Příbram II
SUMMARY:CP-U16Z-Z1F: TJ Baník Příbram-Mikulova B
END:VEVENT
BEGIN:VEVENT
UID:63656562-3034-4638-a439-353261323766
DTSTAMP:20260422T184040Z
DESCRIPTION:1/1 TJ Baník Příbram - Mikulova A 2:0 (22\,20)
DTSTART;TZID=Europe/Berlin:20251018T100000
DTEND;TZID=Europe/Berlin:20251018T120000
LOCATION:Tělocvična ZŠ Balbínova\, Balbínova 328 Příbram - Příbram II
SUMMARY:CP-U16Z-Z2A: TJ Baník Příbram-Mikulova A
END:VEVENT
BEGIN:VEVENT
UID:37363461-6433-4935-b438-653062316338
DTSTAMP:20260422T184040Z
DESCRIPTION:2/4 TJ Baník Příbram - PVK Olymp Praha 0:2 (-13\,-12)
DTSTART;TZID=Europe/Berlin:20251018T113000
DTEND;TZID=Europe/Berlin:20251018T133000
LOCATION:Tělocvična ZŠ Balbínova\, Balbínova 328 Příbram - Příbram II
SUMMARY:CP-U16Z-Z2A: TJ Baník Příbram-PVK Olymp Praha
END:VEVENT
BEGIN:VEVENT
UID:64303864-3763-4235-a536-386437343764
DTSTAMP:20260422T184040Z
DESCRIPTION:5/12 TJ Baník Příbram - VK KRALUPY 2:0 (23\,21)
DTSTART;TZID=Europe/Berlin:20251018T160000
DTEND;TZID=Europe/Berlin:20251018T180000
LOCATION:Tělocvična ZŠ Balbínova\, Balbínova 328 Příbram - Příbram II
SUMMARY:CP-U16Z-Z2A: TJ Baník Příbram-VK KRALUPY
END:VEVENT
BEGIN:VEVENT
UID:30636635-3337-4965-b634-393066623231
DTSTAMP:20260422T184040Z
DESCRIPTION:9/24 TJ Baník Příbram - Nymburk 0:2 (-20\,-19)
DTSTART;TZID=Europe/Berlin:20251019T120000
DTEND;TZID=Europe/Berlin:20251019T140000
LOCATION:Tělocvična ZŠ Balbínova\, Balbínova 328 Příbram - Příbram II
SUMMARY:CP-U16Z-Z2A: TJ Baník Příbram-Nymburk
END:VEVENT
BEGIN:VEVENT
UID:32653766-6637-4439-b931-383731316339
DTSTAMP:20260422T184040Z
DESCRIPTION:4/10 Klatovy - TJ Baník Příbram 0:2 (-22\,-19)
DTSTART;TZID=Europe/Berlin:20251018T143000
DTEND;TZID=Europe/Berlin:20251018T163000
LOCATION:Sportovní hala ZŠ Čapkova\, Čapkova 136 Klatovy - Klatovy V
SUMMARY:CP-U16Z-Z2A: Klatovy-TJ Baník Příbram
END:VEVENT
BEGIN:VEVENT
UID:35393930-3163-4636-b034-626537633933
DTSTAMP:20260422T184040Z
DESCRIPTION:8/21 Orion Praha - TJ Baník Příbram 2:0 (17\,24)
DTSTART;TZID=Europe/Berlin:20251019T103000
DTEND;TZID=Europe/Berlin:20251019T123000
LOCATION:ZŠ Dolní Břežany\, Na Vršku 290 Dolní Břežany
SUMMARY:CP-U16Z-Z2A: Orion Praha-TJ Baník Příbram
END:VEVENT
BEGIN:VEVENT
UID:35666338-3032-4736-b338-326537396263
DTSTAMP:20260422T184040Z
DESCRIPTION:10/27 VK Karlovy Vary - TJ Baník Příbram 0:2 (-27\,-11)
DTSTART;TZID=Europe/Berlin:20251019T133000
DTEND;TZID=Europe/Berlin:20251019T153000
LOCATION:Mattoni Arena Hala míčových sportů\, Západní 1812 Karlovy Vary
SUMMARY:CP-U16Z-Z2A: VK Karlovy Vary-TJ Baník Příbram
END:VEVENT
BEGIN:VEVENT
UID:39396466-6635-4563-b666-653463326266
DTSTAMP:20260422T184040Z
DESCRIPTION:3/8 TJ Baník Příbram - PVK Olymp Praha 1:2 (21\,-9\,-7)
DTSTART;TZID=Europe/Berlin:20251129T130000
DTEND;TZID=Europe/Berlin:20251129T150000
LOCATION:Sportovní hala\, Stromovka 1216 České Budějovice - České Budějovic
 e 2
SUMMARY:CP-U16Z-Z3A: TJ Baník Příbram-PVK Olymp Praha
END:VEVENT
BEGIN:VEVENT
UID:65316430-6439-4162-b062-303866386463
DTSTAMP:20260422T184040Z
DESCRIPTION:4/10 TJ Baník Příbram - Madeta Jihostroj ČB 2:0 (20\,17)
DTSTART;TZID=Europe/Berlin:20251129T143000
DTEND;TZID=Europe/Berlin:20251129T163000
LOCATION:Sportovní hala\, Stromovka 1216 České Budějovice - České Budějovic
 e 2
SUMMARY:CP-U16Z-Z3A: TJ Baník Příbram-Madeta Jihostroj ČB
END:VEVENT
BEGIN:VEVENT
UID:33303837-6130-4534-a363-356561666639
DTSTAMP:20260422T184040Z
DESCRIPTION:7/17 TJ Baník Příbram - Mikulova A 2:0 (19\,22)
DTSTART;TZID=Europe/Berlin:20251130T090000
DTEND;TZID=Europe/Berlin:20251130T110000
LOCATION:Sportovní hala\, Stromovka 1216 České Budějovice - České Budějovic
 e 2
SUMMARY:CP-U16Z-Z3A: TJ Baník Příbram-Mikulova A
END:VEVENT
BEGIN:VEVENT
UID:62336364-6464-4837-b530-393632323661
DTSTAMP:20260422T184040Z
DESCRIPTION:1/3 Nymburk - TJ Baník Příbram 2:0 (16\,16)
DTSTART;TZID=Europe/Berlin:20251129T100000
DTEND;TZID=Europe/Berlin:20251129T120000
LOCATION:Sportovní hala\, Stromovka 1216 České Budějovice - České Budějovic
 e 2
SUMMARY:CP-U16Z-Z3A: Nymburk-TJ Baník Příbram
END:VEVENT
BEGIN:VEVENT
UID:36633137-6262-4466-b965-346433343662
DTSTAMP:20260422T184040Z
DESCRIPTION:5/14 Orion Praha - TJ Baník Příbram 2:0 (15\,24)
DTSTART;TZID=Europe/Berlin:20251129T160000
DTEND;TZID=Europe/Berlin:20251129T180000
LOCATION:Sportovní hala\, Stromovka 1216 České Budějovice - České Budějovic
 e 2
SUMMARY:CP-U16Z-Z3A: Orion Praha-TJ Baník Příbram
END:VEVENT
BEGIN:VEVENT
UID:34616232-3733-4161-a234-333630376134
DTSTAMP:20260422T184040Z
DESCRIPTION:8/22 VK KRALUPY - TJ Baník Příbram 0:2 (-20\,-19)
DTSTART;TZID=Europe/Berlin:20251130T103000
DTEND;TZID=Europe/Berlin:20251130T123000
LOCATION:Sportovní hala\, Stromovka 1216 České Budějovice - České Budějovic
 e 2
SUMMARY:CP-U16Z-Z3A: VK KRALUPY-TJ Baník Příbram
END:VEVENT
BEGIN:VEVENT
UID:62313037-3164-4533-a330-316631306330
DTSTAMP:20260422T184040Z
DESCRIPTION:10/27 TJ Loko Plzeň - TJ Baník Příbram 1:2 (-13\,18\,-7)
DTSTART;TZID=Europe/Berlin:20251130T133000
DTEND;TZID=Europe/Berlin:20251130T153000
LOCATION:Sportovní hala\, Stromovka 1216 České Budějovice - České Budějovic
 e 2
SUMMARY:CP-U16Z-Z3A: TJ Loko Plzeň-TJ Baník Příbram
END:VEVENT
BEGIN:VEVENT
UID:32613039-3665-4063-b333-373932613566
DTSTAMP:20260422T184040Z
DESCRIPTION:6/16 TJ Baník Příbram - VK Prostějov 0:2 (-23\,-19)
DTSTART;TZID=Europe/Berlin:20260117T171500
DTEND;TZID=Europe/Berlin:20260117T191500
LOCATION:Tělocvična ZŠ Balbínova\, Balbínova 328 Příbram - Příbram II
SUMMARY:CP-U16Z4A: TJ Baník Příbram-VK Prostějov
END:VEVENT
BEGIN:VEVENT
UID:38373737-3336-4561-b162-346336333837
DTSTAMP:20260422T184040Z
DESCRIPTION:7/18 TJ Baník Příbram - Tělovýchovná jednota Ostrava 0:2 (-17\,
 -19)
DTSTART;TZID=Europe/Berlin:20260118T100000
DTEND;TZID=Europe/Berlin:20260118T120000
LOCATION:Tělocvična ZŠ Balbínova\, Balbínova 328 Příbram - Příbram II
SUMMARY:CP-U16Z4A: TJ Baník Příbram-Tělovýchovná jednota Ostrava
END:VEVENT
BEGIN:VEVENT
UID:36333765-6464-4134-b933-663832633661
DTSTAMP:20260422T184040Z
DESCRIPTION:9/24 TJ Baník Příbram - Nymburk 0:2 (-7\,-20)
DTSTART;TZID=Europe/Berlin:20260118T124500
DTEND;TZID=Europe/Berlin:20260118T144500
LOCATION:Tělocvična ZŠ Balbínova\, Balbínova 328 Příbram - Příbram II
SUMMARY:CP-U16Z4A: TJ Baník Příbram-Nymburk
END:VEVENT
BEGIN:VEVENT
UID:64383338-6238-4162-a438-613430393439
DTSTAMP:20260422T184040Z
DESCRIPTION:10/27 TJ Baník Příbram - PVK Olymp Praha 0:2 (-9\,-5)
DTSTART;TZID=Europe/Berlin:20260118T140000
DTEND;TZID=Europe/Berlin:20260118T160000
LOCATION:Tělocvična ZŠ Balbínova\, Balbínova 328 Příbram - Příbram II
SUMMARY:CP-U16Z4A: TJ Baník Příbram-PVK Olymp Praha
END:VEVENT
BEGIN:VEVENT
UID:64666464-6337-4466-a134-613333383239
DTSTAMP:20260422T184040Z
DESCRIPTION:2/5 Orion Praha - TJ Baník Příbram 2:1 (17\,-23\,9)
DTSTART;TZID=Europe/Berlin:20260117T113000
DTEND;TZID=Europe/Berlin:20260117T133000
LOCATION:ZŠ Dolní Břežany\, Na Vršku 290 Dolní Břežany
SUMMARY:CP-U16Z4A: Orion Praha-TJ Baník Příbram
END:VEVENT
BEGIN:VEVENT
UID:66303366-3538-4865-a630-386661366630
DTSTAMP:20260422T184040Z
DESCRIPTION:3/7 VoCe - TJ Baník Příbram 1:2 (4\,-20\,-13)
DTSTART;TZID=Europe/Berlin:20260117T130000
DTEND;TZID=Europe/Berlin:20260117T150000
LOCATION:Tělocvična ZŠ Černčice\,  Černčice68
SUMMARY:CP-U16Z4A: VoCe-TJ Baník Příbram
END:VEVENT
BEGIN:VEVENT
UID:31386539-3733-4436-b339-623566373132
DTSTAMP:20260422T184040Z
DESCRIPTION:5/14 Mikulova A - TJ Baník Příbram 2:0 (20\,23)
DTSTART;TZID=Europe/Berlin:20260117T160000
DTEND;TZID=Europe/Berlin:20260117T180000
SUMMARY:CP-U16Z4A: Mikulova A-TJ Baník Příbram
END:VEVENT
BEGIN:VEVENT
UID:34353766-3834-4135-b561-326536383838
DTSTAMP:20260422T184040Z
DESCRIPTION:4/8 TJ Baník Příbram - VK KRALUPY 2:1 (21\,-19\,11)
DTSTART;TZID=Europe/Berlin:20260207T124500
DTEND;TZID=Europe/Berlin:20260207T144500
LOCATION:Sportovní hala - SG Plzeň\, Vejprnická 663 Plzeň - Skvrňany
SUMMARY:CP-U16Z5B: TJ Baník Příbram-VK KRALUPY
END:VEVENT
BEGIN:VEVENT
UID:32343330-6263-4238-a164-663163636365
DTSTAMP:20260422T184040Z
DESCRIPTION:7/14 TJ Baník Příbram - VK Prostějov 1:2 (22\,-19\,-7)
DTSTART;TZID=Europe/Berlin:20260207T163000
DTEND;TZID=Europe/Berlin:20260207T183000
LOCATION:Sportovní hala - SG Plzeň\, Vejprnická 663 Plzeň - Skvrňany
SUMMARY:CP-U16Z5B: TJ Baník Příbram-VK Prostějov
END:VEVENT
BEGIN:VEVENT
UID:30633334-6134-4361-a538-653635366164
DTSTAMP:20260422T184040Z
DESCRIPTION:9/17 TJ Baník Příbram - DUKLA Liberec 2:0 (19\,20)
DTSTART;TZID=Europe/Berlin:20260208T090000
DTEND;TZID=Europe/Berlin:20260208T110000
LOCATION:Sportovní hala - SG Plzeň\, Vejprnická 663 Plzeň - Skvrňany
SUMMARY:CP-U16Z5B: TJ Baník Příbram-DUKLA Liberec
END:VEVENT
BEGIN:VEVENT
UID:37363963-3533-4564-a164-356566303731
DTSTAMP:20260422T184040Z
DESCRIPTION:14/28 TJ Baník Příbram - K. Pole 2:0 (23\,21)
DTSTART;TZID=Europe/Berlin:20260208T151500
DTEND;TZID=Europe/Berlin:20260208T171500
LOCATION:Sportovní hala - SG Plzeň\, Vejprnická 663 Plzeň - Skvrňany
SUMMARY:CP-U16Z5B: TJ Baník Příbram-K. Pole
END:VEVENT
BEGIN:VEVENT
UID:32323062-6364-4166-b036-353839373535
DTSTAMP:20260422T184040Z
DESCRIPTION:2/4 TJ Sokol Frýdek - Místek - TJ Baník Příbram 2:0 (6\,22)
DTSTART;TZID=Europe/Berlin:20260207T101500
DTEND;TZID=Europe/Berlin:20260207T121500
LOCATION:Sportovní hala - SG Plzeň\, Vejprnická 663 Plzeň - Skvrňany
SUMMARY:CP-U16Z5B: TJ Sokol Frýdek - Místek-TJ Baník Příbram
END:VEVENT
BEGIN:VEVENT
UID:63656465-3861-4430-a136-623530623833
DTSTAMP:20260422T184040Z
DESCRIPTION:6/11 TJ Loko Plzeň - TJ Baník Příbram 2:0 (17\,12)
DTSTART;TZID=Europe/Berlin:20260207T151500
DTEND;TZID=Europe/Berlin:20260207T171500
LOCATION:Sportovní hala - SG Plzeň\, Vejprnická 663 Plzeň - Skvrňany
SUMMARY:CP-U16Z5B: TJ Loko Plzeň-TJ Baník Příbram
END:VEVENT
BEGIN:VEVENT
UID:36653264-6138-4561-b136-353638313737
DTSTAMP:20260422T184040Z
DESCRIPTION:11/22 VK Polanka - TJ Baník Příbram 2:0 (17\,20)
DTSTART;TZID=Europe/Berlin:20260208T113000
DTEND;TZID=Europe/Berlin:20260208T133000
LOCATION:Sportovní hala - SG Plzeň\, Vejprnická 663 Plzeň - Skvrňany
SUMMARY:CP-U16Z5B: VK Polanka-TJ Baník Příbram
END:VEVENT
BEGIN:VEVENT
UID:66633131-3761-4236-a132-366331313037
DTSTAMP:20260422T184040Z
DESCRIPTION:2/2 TJ Baník Příbram - VK Polanka 0:2 (-19\,-19)
DTSTART;TZID=Europe/Berlin:20260328T103000
DTEND;TZID=Europe/Berlin:20260328T123000
LOCATION:Tělocvična GMK Bílovec\, 17. listopadu 526 Bílovec
SUMMARY:CP-U16Z6D: TJ Baník Příbram-VK Polanka
END:VEVENT
BEGIN:VEVENT
UID:38383737-3938-4637-b239-393832343032
DTSTAMP:20260422T184040Z
DESCRIPTION:4/4 TJ Baník Příbram - Volejbal Vršovice Praha 2:1 (7\,-21\,8)
DTSTART;TZID=Europe/Berlin:20260328T130000
DTEND;TZID=Europe/Berlin:20260328T150000
LOCATION:Tělocvična GMK Bílovec\, 17. listopadu 526 Bílovec
SUMMARY:CP-U16Z6D: TJ Baník Příbram-Volejbal Vršovice Praha
END:VEVENT
BEGIN:VEVENT
UID:30396639-3736-4961-b236-323865356261
DTSTAMP:20260422T184040Z
DESCRIPTION:5/5 VoCe - TJ Baník Příbram 0:2 (-18\,-21)
DTSTART;TZID=Europe/Berlin:20260328T141500
DTEND;TZID=Europe/Berlin:20260328T161500
LOCATION:Tělocvična GMK Bílovec\, 17. listopadu 526 Bílovec
SUMMARY:CP-U16Z6D: VoCe-TJ Baník Příbram
END:VEVENT
BEGIN:VEVENT
UID:64323963-6439-4161-b636-366165653265
DTSTAMP:20260422T184040Z
DESCRIPTION:1/3 VK KRALUPY - TJ Baník Příbram 0:2 (-14\,-18)\nC3-D2
DTSTART;TZID=Europe/Berlin:20260328T164500
DTEND;TZID=Europe/Berlin:20260328T184500
LOCATION:Hala ZŠ Komenského\, Komenského 701 Bílovec
SUMMARY:CP-U16Z6P2: VK KRALUPY-TJ Baník Příbram
END:VEVENT
BEGIN:VEVENT
UID:63363438-3362-4636-b139-333764356139
DTSTAMP:20260422T184040Z
DESCRIPTION:3/7 VK Olomouc - TJ Baník Příbram 2:0 (21\,21)\nsemifinále  V1-
 V3
DTSTART;TZID=Europe/Berlin:20260329T103000
DTEND;TZID=Europe/Berlin:20260329T123000
LOCATION:Hala ZŠ Komenského\, Komenského 701 Bílovec
SUMMARY:CP-U16Z6P2: VK Olomouc-TJ Baník Příbram
END:VEVENT
BEGIN:VEVENT
UID:34303433-6263-4465-b439-353263646363
DTSTAMP:20260422T184040Z
DESCRIPTION:5/11 VK Polanka - TJ Baník Příbram 2:1 (21\,-19\,11)\nfinále  3
 -4
DTSTART;TZID=Europe/Berlin:20260329T115000
DTEND;TZID=Europe/Berlin:20260329T135000
LOCATION:Hala ZŠ Komenského\, Komenského 701 Bílovec
SUMMARY:CP-U16Z6P2: VK Polanka-TJ Baník Příbram
END:VEVENT
END:VCALENDAR
