BEGIN:VCALENDAR
VERSION:2.0
PRODID:-//Sportovní akademie Ostrava90311//NONSGML kigkonsult.se iCalcreator 2.41.80//
CALSCALE:GREGORIAN
UID:36373934-3665-4236-b263-306566366639
BEGIN:VEVENT
UID:66343135-3835-4664-a663-333834613535
DTSTAMP:20260422T052715Z
DESCRIPTION:2/2 TJ Sokol FM B - SA Ostrava 2:0 (7\,6)
DTSTART;TZID=Europe/Berlin:20250921T100000
DTEND;TZID=Europe/Berlin:20250921T120000
LOCATION:ZŠ Janáčkovo náměstí 17\, Janáčkovo náměstí 1970 Krnov - Pod Bezru
 čovým vrchem
SUMMARY:MS-U16Z-KVA1: TJ Sokol FM B-SA Ostrava
END:VEVENT
BEGIN:VEVENT
UID:36373533-6262-4561-b732-303439306134
DTSTAMP:20260422T052715Z
DESCRIPTION:3/3 Ostrava - SA Ostrava 2:0 (6\,10)
DTSTART;TZID=Europe/Berlin:20250921T110000
DTEND;TZID=Europe/Berlin:20250921T130000
LOCATION:ZŠ Janáčkovo náměstí 17\, Janáčkovo náměstí 1970 Krnov - Pod Bezru
 čovým vrchem
SUMMARY:MS-U16Z-KVA1: Ostrava-SA Ostrava
END:VEVENT
BEGIN:VEVENT
UID:61386162-3064-4666-b366-346332306161
DTSTAMP:20260422T052715Z
DESCRIPTION:4/6 VO Sl. Orlice - SA Ostrava 2:0 (19\,18)
DTSTART;TZID=Europe/Berlin:20250921T120000
DTEND;TZID=Europe/Berlin:20250921T140000
LOCATION:ZŠ Janáčkovo náměstí 17\, Janáčkovo náměstí 1970 Krnov - Pod Bezru
 čovým vrchem
SUMMARY:MS-U16Z-KVA1: VO Sl. Orlice-SA Ostrava
END:VEVENT
BEGIN:VEVENT
UID:38323831-3935-4032-b530-356434626233
DTSTAMP:20260422T052715Z
DESCRIPTION:6/2 SA Ostrava - TJ Hlučín 'B' 2:X
DTSTART;TZID=Europe/Berlin:20250921T150000
DTEND;TZID=Europe/Berlin:20250921T170000
LOCATION:ZŠ Janáčkovo náměstí 17\, Janáčkovo náměstí 1970 Krnov - Pod Bezru
 čovým vrchem
SUMMARY:MS-U16Z-KVAU: SA Ostrava-TJ Hlučín 'B'
END:VEVENT
BEGIN:VEVENT
UID:38333336-3837-4361-a538-336435633133
DTSTAMP:20260422T052715Z
DESCRIPTION:2/2 SA Ostrava - SVK Nový Jičín C 0:2 (-22\,-13)
DTSTART;TZID=Europe/Berlin:20251012T103000
DTEND;TZID=Europe/Berlin:20251012T123000
LOCATION:Tělocvična ZŠ Družby\, tř. Družby 1383 Karviná - Nové Město
SUMMARY:MS-U16Z-T1F: SA Ostrava-SVK Nový Jičín C
END:VEVENT
BEGIN:VEVENT
UID:30313831-3632-4531-b861-336430393163
DTSTAMP:20260422T052715Z
DESCRIPTION:3/3 SA Ostrava - VK Karviná 0:2 (-17\,-17)
DTSTART;TZID=Europe/Berlin:20251012T120000
DTEND;TZID=Europe/Berlin:20251012T140000
LOCATION:Tělocvična ZŠ Družby\, tř. Družby 1383 Karviná - Nové Město
SUMMARY:MS-U16Z-T1F: SA Ostrava-VK Karviná
END:VEVENT
BEGIN:VEVENT
UID:66653666-6161-4439-b434-666535383961
DTSTAMP:20260422T052715Z
DESCRIPTION:5/5 SA Ostrava - SVK Nový Jičín B 0:2 (-11\,-21)
DTSTART;TZID=Europe/Berlin:20251012T150000
DTEND;TZID=Europe/Berlin:20251012T170000
LOCATION:Tělocvična ZŠ Družby\, tř. Družby 1383 Karviná - Nové Město
SUMMARY:MS-U16Z-T1F: SA Ostrava-SVK Nový Jičín B
END:VEVENT
BEGIN:VEVENT
UID:33363161-3034-4230-b937-316662373136
DTSTAMP:20260422T052715Z
DESCRIPTION:1/1 SA Ostrava - Volejbalový klub Kylešovice\, z.s. 0:2 (-12\,-
 9)
DTSTART;TZID=Europe/Berlin:20251109T090000
DTEND;TZID=Europe/Berlin:20251109T110000
LOCATION:tělocvična 11.ZŠ Frýdek-Místek\, Jiřího z Poděbrad 3109 Frýdek-Mís
 tek - Frýdek
SUMMARY:MS-U16Z-T2G: SA Ostrava-Volejbalový klub Kylešovice\, z.s.
END:VEVENT
BEGIN:VEVENT
UID:31353030-3464-4463-b235-613432653036
DTSTAMP:20260422T052715Z
DESCRIPTION:2/3 SA Ostrava - TJ Sokol FM C 0:2 (-6\,-13)
DTSTART;TZID=Europe/Berlin:20251109T103000
DTEND;TZID=Europe/Berlin:20251109T123000
LOCATION:tělocvična 11.ZŠ Frýdek-Místek\, Jiřího z Poděbrad 3109 Frýdek-Mís
 tek - Frýdek
SUMMARY:MS-U16Z-T2G: SA Ostrava-TJ Sokol FM C
END:VEVENT
BEGIN:VEVENT
UID:35653739-3061-4933-a166-343038383630
DTSTAMP:20260422T052715Z
DESCRIPTION:3/5 SA Ostrava - TJ Kunčičky 1:2 (22\,-7\,-8)
DTSTART;TZID=Europe/Berlin:20251109T120000
DTEND;TZID=Europe/Berlin:20251109T140000
LOCATION:tělocvična 11.ZŠ Frýdek-Místek\, Jiřího z Poděbrad 3109 Frýdek-Mís
 tek - Frýdek
SUMMARY:MS-U16Z-T2G: SA Ostrava-TJ Kunčičky
END:VEVENT
BEGIN:VEVENT
UID:30343961-6231-4136-b531-656133373732
DTSTAMP:20260422T052715Z
DESCRIPTION:1/1 SA Ostrava - TJ Hlučín 'B' 2:0 (5\,14)
DTSTART;TZID=Europe/Berlin:20251214T090000
DTEND;TZID=Europe/Berlin:20251214T110000
LOCATION:ZŠ Ed. Beneše\, Edvarda Beneše 961 Opava - Kateřinky
SUMMARY:MS-U16Z-T3H: SA Ostrava-TJ Hlučín 'B'
END:VEVENT
BEGIN:VEVENT
UID:34346365-6262-4361-b931-343039363234
DTSTAMP:20260422T052715Z
DESCRIPTION:2/3 SA Ostrava - Happy Sport Opava\,'B' 2:1 (18\,-24\,11)
DTSTART;TZID=Europe/Berlin:20251214T103000
DTEND;TZID=Europe/Berlin:20251214T123000
LOCATION:ZŠ Ed. Beneše\, Edvarda Beneše 961 Opava - Kateřinky
SUMMARY:MS-U16Z-T3H: SA Ostrava-Happy Sport Opava\,'B'
END:VEVENT
BEGIN:VEVENT
UID:38366333-6536-4534-a532-383536373765
DTSTAMP:20260422T052715Z
DESCRIPTION:3/6 SA Ostrava - TJ Ostrava C 1:2 (20\,-22\,-12)
DTSTART;TZID=Europe/Berlin:20251214T120000
DTEND;TZID=Europe/Berlin:20251214T140000
LOCATION:ZŠ Ed. Beneše\, Edvarda Beneše 961 Opava - Kateřinky
SUMMARY:MS-U16Z-T3H: SA Ostrava-TJ Ostrava C
END:VEVENT
BEGIN:VEVENT
UID:33396163-3766-4132-b665-663237343634
DTSTAMP:20260422T052715Z
DESCRIPTION:1/1 VO Sl. Orlice - SA Ostrava 2:0 (19\,18)
DTSTART;TZID=Europe/Berlin:20260111T090000
DTEND;TZID=Europe/Berlin:20260111T110000
LOCATION:tělocvična 11.ZŠ Frýdek-Místek\, Jiřího z Poděbrad 3109 Frýdek-Mís
 tek - Frýdek
SUMMARY:MS-U16Z-T4G: VO Sl. Orlice-SA Ostrava
END:VEVENT
BEGIN:VEVENT
UID:34343161-3765-4333-b666-636566383931
DTSTAMP:20260422T052715Z
DESCRIPTION:2/4 TJ Sokol FM C - SA Ostrava 2:0 (18\,11)
DTSTART;TZID=Europe/Berlin:20260111T103000
DTEND;TZID=Europe/Berlin:20260111T123000
LOCATION:tělocvična 11.ZŠ Frýdek-Místek\, Jiřího z Poděbrad 3109 Frýdek-Mís
 tek - Frýdek
SUMMARY:MS-U16Z-T4G: TJ Sokol FM C-SA Ostrava
END:VEVENT
BEGIN:VEVENT
UID:34386164-3262-4061-b434-333434323439
DTSTAMP:20260422T052715Z
DESCRIPTION:3/5 ŠSK Bílovec B - SA Ostrava 2:1 (-20\,14\,10)
DTSTART;TZID=Europe/Berlin:20260111T120000
DTEND;TZID=Europe/Berlin:20260111T140000
LOCATION:tělocvična 11.ZŠ Frýdek-Místek\, Jiřího z Poděbrad 3109 Frýdek-Mís
 tek - Frýdek
SUMMARY:MS-U16Z-T4G: ŠSK Bílovec B-SA Ostrava
END:VEVENT
BEGIN:VEVENT
UID:30393863-3865-4866-b334-313939643336
DTSTAMP:20260422T052715Z
DESCRIPTION:1/1 SA Ostrava - TJ Hlučín 'B' 2:1 (17\,-19\,14)
DTSTART;TZID=Europe/Berlin:20260215T090000
DTEND;TZID=Europe/Berlin:20260215T110000
LOCATION:Sportovní hala\, Tyršova 1668 Hlučín
SUMMARY:MS-U16Z-T5H: SA Ostrava-TJ Hlučín 'B'
END:VEVENT
BEGIN:VEVENT
UID:62376131-3736-4536-b037-363231366566
DTSTAMP:20260422T052715Z
DESCRIPTION:2/3 SA Ostrava - Happy Sport Opava\,'B' 2:1 (-16\,26\,12)
DTSTART;TZID=Europe/Berlin:20260215T103000
DTEND;TZID=Europe/Berlin:20260215T123000
LOCATION:Sportovní hala\, Tyršova 1668 Hlučín
SUMMARY:MS-U16Z-T5H: SA Ostrava-Happy Sport Opava\,'B'
END:VEVENT
BEGIN:VEVENT
UID:39333563-3232-4264-a533-643263356563
DTSTAMP:20260422T052715Z
DESCRIPTION:3/6 SA Ostrava - TJ Kunčičky 2:1 (-16\,23\,12)
DTSTART;TZID=Europe/Berlin:20260215T120000
DTEND;TZID=Europe/Berlin:20260215T140000
LOCATION:Sportovní hala\, Tyršova 1668 Hlučín
SUMMARY:MS-U16Z-T5H: SA Ostrava-TJ Kunčičky
END:VEVENT
BEGIN:VEVENT
UID:35643638-3537-4333-a637-313539316139
DTSTAMP:20260422T052715Z
DESCRIPTION:1/1 VK Karviná - SA Ostrava 2:0 (23\,9)
DTSTART;TZID=Europe/Berlin:20260315T090000
DTEND;TZID=Europe/Berlin:20260315T110000
LOCATION:ZŠ Jiřího z Poděbrad Frýdek-Místek\, Jiřího z Poděbrad 3109 Frýdek
 -Místek - Frýdek
SUMMARY:MS-U16Z-T6G: VK Karviná-SA Ostrava
END:VEVENT
BEGIN:VEVENT
UID:36323731-3038-4933-a137-353336613437
DTSTAMP:20260422T052715Z
DESCRIPTION:2/4 ŠSK Bílovec B - SA Ostrava 2:1 (15\,-23\,5)
DTSTART;TZID=Europe/Berlin:20260315T103000
DTEND;TZID=Europe/Berlin:20260315T123000
LOCATION:ZŠ Jiřího z Poděbrad Frýdek-Místek\, Jiřího z Poděbrad 3109 Frýdek
 -Místek - Frýdek
SUMMARY:MS-U16Z-T6G: ŠSK Bílovec B-SA Ostrava
END:VEVENT
BEGIN:VEVENT
UID:39616338-3866-4262-a537-323765346364
DTSTAMP:20260422T052715Z
DESCRIPTION:3/5 TJ Sokol FM C - SA Ostrava 2:0 (18\,12)
DTSTART;TZID=Europe/Berlin:20260315T120000
DTEND;TZID=Europe/Berlin:20260315T140000
LOCATION:ZŠ Jiřího z Poděbrad Frýdek-Místek\, Jiřího z Poděbrad 3109 Frýdek
 -Místek - Frýdek
SUMMARY:MS-U16Z-T6G: TJ Sokol FM C-SA Ostrava
END:VEVENT
END:VCALENDAR
