BEGIN:VCALENDAR
VERSION:2.0
PRODID:-//Mikulova B90315//NONSGML kigkonsult.se iCalcreator 2.41.80//
CALSCALE:GREGORIAN
UID:62353139-3932-4236-b435-393037393137
BEGIN:VEVENT
UID:33366463-3432-4239-a662-653634393936
DTSTAMP:20260422T213346Z
DESCRIPTION:1/1 Mikulova B - SC Braník 0:2 (-15\,-10)
DTSTART;TZID=Europe/Berlin:20250913T100000
DTEND;TZID=Europe/Berlin:20250913T120000
LOCATION:tělocvičny ZŠ Mikulova\, Mikulova 1594 Praha - Chodov
SUMMARY:CP-U16Z-Z1F: Mikulova B-SC Braník
END:VEVENT
BEGIN:VEVENT
UID:35393131-6431-4835-b432-343935656237
DTSTAMP:20260422T213346Z
DESCRIPTION:9/17 Mikulova B - VK Slavia Plzeň 1:2 (-19\,19\,-5)
DTSTART;TZID=Europe/Berlin:20250914T101500
DTEND;TZID=Europe/Berlin:20250914T121500
LOCATION:tělocvičny ZŠ Mikulova\, Mikulova 1594 Praha - Chodov
SUMMARY:CP-U16Z-Z1F: Mikulova B-VK Slavia Plzeň
END:VEVENT
BEGIN:VEVENT
UID:37616264-6661-4734-b035-393732333365
DTSTAMP:20260422T213346Z
DESCRIPTION:3/6 Volejbal Ústí n. L. - Mikulova B 2:0 (18\,18)
DTSTART;TZID=Europe/Berlin:20250913T123000
DTEND;TZID=Europe/Berlin:20250913T143000
LOCATION:Tělocvična Gymnázia a Střední odborné školy dr. Václava Šmejkala\,
  Stará 3299 Ústí nad Labem - Severní Terasa
SUMMARY:CP-U16Z-Z1F: Volejbal Ústí n. L.-Mikulova B
END:VEVENT
BEGIN:VEVENT
UID:66366163-6464-4130-a233-643334383035
DTSTAMP:20260422T213346Z
DESCRIPTION:5/10 Madeta Jihostroj ČB - Mikulova B 2:0 (21\,17)
DTSTART;TZID=Europe/Berlin:20250913T150000
DTEND;TZID=Europe/Berlin:20250913T170000
LOCATION:Sportovní hala\, Stromovka 1216 České Budějovice - České Budějovic
 e 2
SUMMARY:CP-U16Z-Z1F: Madeta Jihostroj ČB-Mikulova B
END:VEVENT
BEGIN:VEVENT
UID:30666363-6132-4564-b732-343065623562
DTSTAMP:20260422T213346Z
DESCRIPTION:6/11 VSK Český Krumlov - Mikulova B 0:2 (-14\,-13)
DTSTART;TZID=Europe/Berlin:20250913T161500
DTEND;TZID=Europe/Berlin:20250913T181500
LOCATION:ZŠ Za Nádražím Český Krumlov\, Za Nádražím 222 Český Krumlov - Nád
 ražní Předměstí
SUMMARY:CP-U16Z-Z1F: VSK Český Krumlov-Mikulova B
END:VEVENT
BEGIN:VEVENT
UID:61356336-3766-4166-b934-356231333432
DTSTAMP:20260422T213346Z
DESCRIPTION:11/21 TJ Baník Příbram - Mikulova B 2:0 (11\,16)
DTSTART;TZID=Europe/Berlin:20250914T130000
DTEND;TZID=Europe/Berlin:20250914T150000
LOCATION:Tělocvična ZŠ Balbínova\, Balbínova 328 Příbram - Příbram II
SUMMARY:CP-U16Z-Z1F: TJ Baník Příbram-Mikulova B
END:VEVENT
BEGIN:VEVENT
UID:62363366-3439-4432-b330-326637613430
DTSTAMP:20260422T213346Z
DESCRIPTION:1/2 Mikulova B - Nová Paka 2:0 (23\,17)
DTSTART;TZID=Europe/Berlin:20251018T090000
DTEND;TZID=Europe/Berlin:20251018T110000
LOCATION:tělocvičny ZŠ Mikulova\, Mikulova 1594 Praha - Chodov
SUMMARY:CP-U16Z-Z2E: Mikulova B-Nová Paka
END:VEVENT
BEGIN:VEVENT
UID:39663833-6134-4461-a634-633132336433
DTSTAMP:20260422T213346Z
DESCRIPTION:4/8 Mikulova B - INLAB SK Meteor Praha 2:1 (-23\,19\,14)
DTSTART;TZID=Europe/Berlin:20251018T124500
DTEND;TZID=Europe/Berlin:20251018T144500
LOCATION:tělocvičny ZŠ Mikulova\, Mikulova 1594 Praha - Chodov
SUMMARY:CP-U16Z-Z2E: Mikulova B-INLAB SK Meteor Praha
END:VEVENT
BEGIN:VEVENT
UID:38636163-3836-4035-b032-323636353166
DTSTAMP:20260422T213346Z
DESCRIPTION:7/13 Mikulova B - TJ Kunice 2:0 (19\,23)
DTSTART;TZID=Europe/Berlin:20251018T163000
DTEND;TZID=Europe/Berlin:20251018T183000
LOCATION:tělocvičny ZŠ Mikulova\, Mikulova 1594 Praha - Chodov
SUMMARY:CP-U16Z-Z2E: Mikulova B-TJ Kunice
END:VEVENT
BEGIN:VEVENT
UID:34623966-3335-4931-b137-306633313939
DTSTAMP:20260422T213346Z
DESCRIPTION:8/16 Mikulova B - BV Vratislavice n. N. z.s. 2:0 (18\,10)
DTSTART;TZID=Europe/Berlin:20251019T090000
DTEND;TZID=Europe/Berlin:20251019T110000
LOCATION:tělocvičny ZŠ Mikulova\, Mikulova 1594 Praha - Chodov
SUMMARY:CP-U16Z-Z2E: Mikulova B-BV Vratislavice n. N. z.s.
END:VEVENT
BEGIN:VEVENT
UID:38383330-3130-4839-b266-633633373566
DTSTAMP:20260422T213346Z
DESCRIPTION:5/9 VK Rokycany - Mikulova B 0:2 (-19\,-18)
DTSTART;TZID=Europe/Berlin:20251018T140000
DTEND;TZID=Europe/Berlin:20251018T160000
LOCATION:Hala Gymnázia Rokycany\, Mládežníků 1115 Rokycany - Nové Město
SUMMARY:CP-U16Z-Z2E: VK Rokycany-Mikulova B
END:VEVENT
BEGIN:VEVENT
UID:61313232-6161-4164-a432-616262343033
DTSTAMP:20260422T213346Z
DESCRIPTION:11/21 Kladno A - Mikulova B 0:2 (-17\,-18)
DTSTART;TZID=Europe/Berlin:20251019T124500
DTEND;TZID=Europe/Berlin:20251019T144500
LOCATION:Kladenská sportovní hala\, Sportovců 817 Kladno - Rozdělov
SUMMARY:CP-U16Z-Z2E: Kladno A-Mikulova B
END:VEVENT
BEGIN:VEVENT
UID:31373338-6638-4035-a639-663738303265
DTSTAMP:20260422T213346Z
DESCRIPTION:2/4 Mikulova B - SK Španielka 0:2 (-12\,-24)
DTSTART;TZID=Europe/Berlin:20251129T113000
DTEND;TZID=Europe/Berlin:20251129T133000
LOCATION:tělocvičny ZŠ Mikulova\, Mikulova 1594 Praha - Chodov
SUMMARY:CP-U16Z-Z3D: Mikulova B-SK Španielka
END:VEVENT
BEGIN:VEVENT
UID:34303366-6530-4233-a166-636366616466
DTSTAMP:20260422T213346Z
DESCRIPTION:5/13 Mikulova B - SK Volejbal Kolín 0:2 (-12\,-19)
DTSTART;TZID=Europe/Berlin:20251130T100000
DTEND;TZID=Europe/Berlin:20251130T120000
LOCATION:tělocvičny ZŠ Mikulova\, Mikulova 1594 Praha - Chodov
SUMMARY:CP-U16Z-Z3D: Mikulova B-SK Volejbal Kolín
END:VEVENT
BEGIN:VEVENT
UID:35633165-3738-4439-b837-636435643938
DTSTAMP:20260422T213346Z
DESCRIPTION:1/3 INLAB SK Meteor Praha - Mikulova B 1:2 (-23\,22\,-12)
DTSTART;TZID=Europe/Berlin:20251128T163000
DTEND;TZID=Europe/Berlin:20251128T183000
LOCATION:ZŠ Žernosecká\, Žernosecká 1597 Praha - Kobylisy
SUMMARY:CP-U16Z-Z3D: INLAB SK Meteor Praha-Mikulova B
END:VEVENT
BEGIN:VEVENT
UID:64393834-6663-4938-b166-313438656266
DTSTAMP:20260422T213346Z
DESCRIPTION:3/7 VK Lvi Praha - Mikulova B 1:2 (16\,-20\,-11)
DTSTART;TZID=Europe/Berlin:20251129T130000
DTEND;TZID=Europe/Berlin:20251129T150000
LOCATION:FZŠ Brdičkova\, Brdičkova 1878 Praha - Stodůlky
SUMMARY:CP-U16Z-Z3D: VK Lvi Praha-Mikulova B
END:VEVENT
BEGIN:VEVENT
UID:35626630-6632-4364-b837-643836323531
DTSTAMP:20260422T213346Z
DESCRIPTION:6/18 VK Sever Žatec - Mikulova B 1:2 (16\,-13\,-13)
DTSTART;TZID=Europe/Berlin:20251130T113000
DTEND;TZID=Europe/Berlin:20251130T133000
LOCATION:Sportovní hala TJ Sever Žatec\, Plzeňská 2787 Žatec
SUMMARY:CP-U16Z-Z3D: VK Sever Žatec-Mikulova B
END:VEVENT
BEGIN:VEVENT
UID:37396238-3638-4237-a661-316232663162
DTSTAMP:20260422T213346Z
DESCRIPTION:7/20 BVC Chodov - Mikulova B 0:2 (-18\,-21)
DTSTART;TZID=Europe/Berlin:20251130T130000
DTEND;TZID=Europe/Berlin:20251130T150000
LOCATION:Městská sportovní hala Chodov\, Tyršova 1201 Chodov
SUMMARY:CP-U16Z-Z3D: BVC Chodov-Mikulova B
END:VEVENT
BEGIN:VEVENT
UID:33376661-3262-4632-b033-383865643438
DTSTAMP:20260422T213346Z
DESCRIPTION:1/2 Mikulova B - Volejbal Přerov 2:1 (-26\,21\,12)
DTSTART;TZID=Europe/Berlin:20260117T093000
DTEND;TZID=Europe/Berlin:20260117T113000
LOCATION:Sportovní gymnázium Ludvíka Daňka\, Botanická 63 Brno - Ponava
SUMMARY:CP-U16Z4G: Mikulova B-Volejbal Přerov
END:VEVENT
BEGIN:VEVENT
UID:66656438-3332-4834-b833-666534326334
DTSTAMP:20260422T213346Z
DESCRIPTION:5/10 Mikulova B - TJ Sokol Dolní Újezd 2:0 (20\,20)
DTSTART;TZID=Europe/Berlin:20260117T143000
DTEND;TZID=Europe/Berlin:20260117T163000
LOCATION:Sportovní gymnázium Ludvíka Daňka\, Botanická 63 Brno - Ponava
SUMMARY:CP-U16Z4G: Mikulova B-TJ Sokol Dolní Újezd
END:VEVENT
BEGIN:VEVENT
UID:33356665-6534-4564-b463-373433393230
DTSTAMP:20260422T213346Z
DESCRIPTION:8/16 Mikulova B - VK Sever Žatec 2:0 (15\,16)
DTSTART;TZID=Europe/Berlin:20260117T181500
DTEND;TZID=Europe/Berlin:20260117T201500
LOCATION:Sportovní gymnázium Ludvíka Daňka\, Botanická 63 Brno - Ponava
SUMMARY:CP-U16Z4G: Mikulova B-VK Sever Žatec
END:VEVENT
BEGIN:VEVENT
UID:38396438-6136-4536-b936-386530333737
DTSTAMP:20260422T213346Z
DESCRIPTION:12/23 Mikulova B - TJ Kunice 0:2 (-16\,-12)
DTSTART;TZID=Europe/Berlin:20260118T124500
DTEND;TZID=Europe/Berlin:20260118T144500
LOCATION:Sportovní gymnázium Ludvíka Daňka\, Botanická 63 Brno - Ponava
SUMMARY:CP-U16Z4G: Mikulova B-TJ Kunice
END:VEVENT
BEGIN:VEVENT
UID:61353836-6539-4662-a431-306634383630
DTSTAMP:20260422T213346Z
DESCRIPTION:3/5 KP Brno B - Mikulova B 1:2 (17\,-17\,-9)
DTSTART;TZID=Europe/Berlin:20260117T120000
DTEND;TZID=Europe/Berlin:20260117T140000
LOCATION:Sportovní gymnázium Ludvíka Daňka\, Botanická 63 Brno - Ponava
SUMMARY:CP-U16Z4G: KP Brno B-Mikulova B
END:VEVENT
BEGIN:VEVENT
UID:66633566-6130-4434-b235-613962623330
DTSTAMP:20260422T213346Z
DESCRIPTION:10/19 SK Dansport - Mikulova B 1:2 (21\,-14\,-9)
DTSTART;TZID=Europe/Berlin:20260118T101500
DTEND;TZID=Europe/Berlin:20260118T121500
LOCATION:Sportovní gymnázium Ludvíka Daňka\, Botanická 63 Brno - Ponava
SUMMARY:CP-U16Z4G: SK Dansport-Mikulova B
END:VEVENT
BEGIN:VEVENT
UID:61623035-3764-4338-b633-333739353231
DTSTAMP:20260422T213346Z
DESCRIPTION:14/28 INLAB SK Meteor Praha - Mikulova B 0:2 (-18\,-21)
DTSTART;TZID=Europe/Berlin:20260114T170000
DTEND;TZID=Europe/Berlin:20260114T190000
LOCATION:Sportovní gymnázium Ludvíka Daňka\, Botanická 63 Brno - Ponava
SUMMARY:CP-U16Z4G: INLAB SK Meteor Praha-Mikulova B
END:VEVENT
BEGIN:VEVENT
UID:31373539-6531-4466-b862-626663356138
DTSTAMP:20260422T213346Z
DESCRIPTION:8/14 Mikulova B - SK Dansport 1:2 (10\,-20\,-9)
DTSTART;TZID=Europe/Berlin:20260207T180000
DTEND;TZID=Europe/Berlin:20260207T200000
LOCATION:Sportovní hala TJ Sever Žatec\, Plzeňská 2787 Žatec
SUMMARY:CP-U16Z5G: Mikulova B-SK Dansport
END:VEVENT
BEGIN:VEVENT
UID:38626664-3061-4736-a132-343539326233
DTSTAMP:20260422T213346Z
DESCRIPTION:9/15 Mikulova B - Sokol Pouchov 1:2 (-24\,18\,-8)
DTSTART;TZID=Europe/Berlin:20260208T090000
DTEND;TZID=Europe/Berlin:20260208T110000
LOCATION:Sportovní hala TJ Sever Žatec\, Plzeňská 2787 Žatec
SUMMARY:CP-U16Z5G: Mikulova B-Sokol Pouchov
END:VEVENT
BEGIN:VEVENT
UID:66313237-3736-4033-b262-643538623362
DTSTAMP:20260422T213346Z
DESCRIPTION:2/4 Kladno A - Mikulova B 0:2 (-12\,-23)
DTSTART;TZID=Europe/Berlin:20260207T103000
DTEND;TZID=Europe/Berlin:20260207T123000
LOCATION:Sportovní hala TJ Sever Žatec\, Plzeňská 2787 Žatec
SUMMARY:CP-U16Z5G: Kladno A-Mikulova B
END:VEVENT
BEGIN:VEVENT
UID:31386535-3064-4537-a533-353766643163
DTSTAMP:20260422T213346Z
DESCRIPTION:4/7 VK Sever Žatec - Mikulova B 2:0 (19\,25)
DTSTART;TZID=Europe/Berlin:20260207T130000
DTEND;TZID=Europe/Berlin:20260207T150000
LOCATION:Sportovní hala TJ Sever Žatec\, Plzeňská 2787 Žatec
SUMMARY:CP-U16Z5G: VK Sever Žatec-Mikulova B
END:VEVENT
BEGIN:VEVENT
UID:63323434-3764-4834-b931-393664363232
DTSTAMP:20260422T213346Z
DESCRIPTION:7/12 Volejbal Přerov - Mikulova B 2:0 (19\,22)
DTSTART;TZID=Europe/Berlin:20260207T164500
DTEND;TZID=Europe/Berlin:20260207T184500
LOCATION:Sportovní hala TJ Sever Žatec\, Plzeňská 2787 Žatec
SUMMARY:CP-U16Z5G: Volejbal Přerov-Mikulova B
END:VEVENT
BEGIN:VEVENT
UID:32626336-6137-4161-a132-623032303139
DTSTAMP:20260422T213346Z
DESCRIPTION:11/19 BVC Chodov - Mikulova B 0:2 (-22\,-18)
DTSTART;TZID=Europe/Berlin:20260208T114500
DTEND;TZID=Europe/Berlin:20260208T134500
LOCATION:Sportovní hala TJ Sever Žatec\, Plzeňská 2787 Žatec
SUMMARY:CP-U16Z5G: BVC Chodov-Mikulova B
END:VEVENT
BEGIN:VEVENT
UID:65326562-3563-4635-b731-393433353365
DTSTAMP:20260422T213346Z
DESCRIPTION:8/22 Mikulova B - Nová Paka 0:2 (-16\,-16)
DTSTART;TZID=Europe/Berlin:20260329T094500
DTEND;TZID=Europe/Berlin:20260329T114500
LOCATION:tělocvičny ZŠ Mikulova\, Mikulova 1594 Praha - Chodov
SUMMARY:CP-U16Z6J: Mikulova B-Nová Paka
END:VEVENT
BEGIN:VEVENT
UID:35343462-3136-4831-b764-383330383761
DTSTAMP:20260422T213346Z
DESCRIPTION:1/2 SK Španielka - Mikulova B 1:2 (-15\,24\,-7)
DTSTART;TZID=Europe/Berlin:20260328T093000
DTEND;TZID=Europe/Berlin:20260328T113000
LOCATION:Tělocvična ZŠ\, Španielova 1111 Praha - Řepy
SUMMARY:CP-U16Z6J: SK Španielka-Mikulova B
END:VEVENT
BEGIN:VEVENT
UID:63323862-3564-4162-b862-336638356135
DTSTAMP:20260422T213346Z
DESCRIPTION:3/8 VK Brno - Mikulova B 2:0 (21\,10)
DTSTART;TZID=Europe/Berlin:20260328T120000
DTEND;TZID=Europe/Berlin:20260328T140000
LOCATION:ZŠ Vejrostova\, Vejrostova 1066 Brno - Bystrc
SUMMARY:CP-U16Z6J: VK Brno-Mikulova B
END:VEVENT
BEGIN:VEVENT
UID:32356363-6331-4063-b536-623266653131
DTSTAMP:20260422T213346Z
DESCRIPTION:4/10 SK Dansport - Mikulova B 0:2 (-16\,-18)
DTSTART;TZID=Europe/Berlin:20260328T134500
DTEND;TZID=Europe/Berlin:20260328T154500
LOCATION:Sportovní hala Gymnázia Jana Keplera\, Parléřova 118 Praha - Hradč
 any
SUMMARY:CP-U16Z6J: SK Dansport-Mikulova B
END:VEVENT
BEGIN:VEVENT
UID:31376436-6466-4238-a162-643939343536
DTSTAMP:20260422T213346Z
DESCRIPTION:5/13 Kladno A - Mikulova B 2:0 (15\,21)
DTSTART;TZID=Europe/Berlin:20260328T150000
DTEND;TZID=Europe/Berlin:20260328T170000
LOCATION:Kladenská sportovní hala\, Sportovců 817 Kladno - Rozdělov
SUMMARY:CP-U16Z6J: Kladno A-Mikulova B
END:VEVENT
BEGIN:VEVENT
UID:34323830-3133-4533-b632-343831333038
DTSTAMP:20260422T213346Z
DESCRIPTION:9/25 TJ Sokol Dolní Újezd - Mikulova B 2:0 (20\,19)
DTSTART;TZID=Europe/Berlin:20260329T110000
DTEND;TZID=Europe/Berlin:20260329T130000
LOCATION:tělocvična Základní školy\,  Dolní Újezd342
SUMMARY:CP-U16Z6J: TJ Sokol Dolní Újezd-Mikulova B
END:VEVENT
BEGIN:VEVENT
UID:37336261-3936-4061-a233-636537663630
DTSTAMP:20260422T213346Z
DESCRIPTION:10/26 Volejbal Přerov - Mikulova B 1:2 (21\,-18\,-10)
DTSTART;TZID=Europe/Berlin:20260329T121500
DTEND;TZID=Europe/Berlin:20260329T141500
LOCATION:Městská sportovní hala\, Petřivalského 2884 Přerov - Přerov I-Měst
 o
SUMMARY:CP-U16Z6J: Volejbal Přerov-Mikulova B
END:VEVENT
END:VCALENDAR
