BEGIN:VCALENDAR
VERSION:2.0
PRODID:-//Volejbal Králův Dvůr90330//NONSGML kigkonsult.se iCalcreator 2.41.80//
CALSCALE:GREGORIAN
UID:65316537-3763-4266-b535-333566313162
BEGIN:VEVENT
UID:66376638-3031-4663-b864-626633346431
DTSTAMP:20260422T154754Z
DESCRIPTION:1/1 Králův Dvůr - S V B C 2:0 (11\,11)\nPořadatel: Volejbal Krá
 lův Dvůr
DTSTART;TZID=Europe/Berlin:20251005T100000
DTEND;TZID=Europe/Berlin:20251005T120000
LOCATION:Sportovní hala Chýně\, Bolzanova 800 Chýně
SUMMARY:ST-U14Z-C: Králův Dvůr-S V B C
END:VEVENT
BEGIN:VEVENT
UID:34646464-6137-4637-b931-633833386330
DTSTAMP:20260422T154754Z
DESCRIPTION:1/4 Králův Dvůr - Kunice 2:0 (12\,25)
DTSTART;TZID=Europe/Berlin:20251005T100000
DTEND;TZID=Europe/Berlin:20251005T120000
LOCATION:Sportovní hala Chýně\, Bolzanova 800 Chýně
SUMMARY:ST-U14Z-C: Králův Dvůr-Kunice
END:VEVENT
BEGIN:VEVENT
UID:31343633-6333-4638-b638-343066363962
DTSTAMP:20260422T154754Z
DESCRIPTION:2/16 Králův Dvůr - Hořovice 2:1 (19\,-20\,11)\nPořadatel: Volej
 bal Králův Dvůr
DTSTART;TZID=Europe/Berlin:20251019T100000
DTEND;TZID=Europe/Berlin:20251019T120000
LOCATION:Sportovní hala Chýně\, Bolzanova 800 Chýně
SUMMARY:ST-U14Z-C: Králův Dvůr-Hořovice
END:VEVENT
BEGIN:VEVENT
UID:37336334-6663-4663-b034-616436616263
DTSTAMP:20260422T154754Z
DESCRIPTION:3/26 Králův Dvůr - Příbram A 2:0 (12\,16)
DTSTART;TZID=Europe/Berlin:20251109T150000
DTEND;TZID=Europe/Berlin:20251109T170000
LOCATION:Sportovní hala Chýně\, Bolzanova 800 Chýně
SUMMARY:ST-U14Z-C: Králův Dvůr-Příbram A
END:VEVENT
BEGIN:VEVENT
UID:30643863-6534-4731-a664-383539666333
DTSTAMP:20260422T154754Z
DESCRIPTION:4/28 Králův Dvůr - Roztoky u Prahy 2:0 (17\,22)\nPořadatel: Vol
 ejbal Králův Dvůr
DTSTART;TZID=Europe/Berlin:20251207T100000
DTEND;TZID=Europe/Berlin:20251207T120000
LOCATION:Sportovní hala Chýně\, Bolzanova 800 Chýně
SUMMARY:ST-U14Z-C: Králův Dvůr-Roztoky u Prahy
END:VEVENT
BEGIN:VEVENT
UID:33623764-6362-4866-b064-626338383661
DTSTAMP:20260422T154754Z
DESCRIPTION:4/31 Králův Dvůr - Příbram B 2:0 (16\,15)
DTSTART;TZID=Europe/Berlin:20251207T100000
DTEND;TZID=Europe/Berlin:20251207T120000
LOCATION:Sportovní hala Chýně\, Bolzanova 800 Chýně
SUMMARY:ST-U14Z-C: Králův Dvůr-Příbram B
END:VEVENT
BEGIN:VEVENT
UID:62303062-3434-4533-a434-316266623230
DTSTAMP:20260422T154754Z
DESCRIPTION:5/39 Králův Dvůr - Roztoky u Prahy 2:0 (13\,16)
DTSTART;TZID=Europe/Berlin:20260118T100000
DTEND;TZID=Europe/Berlin:20260118T120000
LOCATION:Sportovní hala Chýně\, Bolzanova 800 Chýně
SUMMARY:ST-U14Z-C: Králův Dvůr-Roztoky u Prahy
END:VEVENT
BEGIN:VEVENT
UID:35643137-3765-4135-b035-616132643866
DTSTAMP:20260422T154754Z
DESCRIPTION:6/47 Králův Dvůr - Hořovice 2:0 (18\,20)
DTSTART;TZID=Europe/Berlin:20260228T100000
DTEND;TZID=Europe/Berlin:20260228T120000
LOCATION:Sportovní hala Chýně\, Bolzanova 800 Chýně
SUMMARY:ST-U14Z-C: Králův Dvůr-Hořovice
END:VEVENT
BEGIN:VEVENT
UID:34633462-6338-4938-b862-623065316332
DTSTAMP:20260422T154754Z
DESCRIPTION:6/50 Králův Dvůr - Příbram A 2:1 (-11\,16\,6)
DTSTART;TZID=Europe/Berlin:20260228T100000
DTEND;TZID=Europe/Berlin:20260228T120000
LOCATION:Sportovní hala Chýně\, Bolzanova 800 Chýně
SUMMARY:ST-U14Z-C: Králův Dvůr-Příbram A
END:VEVENT
BEGIN:VEVENT
UID:30306331-3632-4963-b062-373762613833
DTSTAMP:20260422T154754Z
DESCRIPTION:7/63 Králův Dvůr - Kunice 2:0 (21\,19)
DTSTART;TZID=Europe/Berlin:20260314T100000
DTEND;TZID=Europe/Berlin:20260314T120000
LOCATION:Sportovní hala Chýně\, Bolzanova 800 Chýně
SUMMARY:ST-U14Z-C: Králův Dvůr-Kunice
END:VEVENT
BEGIN:VEVENT
UID:36623230-6365-4233-b137-376533656565
DTSTAMP:20260422T154754Z
DESCRIPTION:1/6 Příbram A - Králův Dvůr 0:2 (-19\,-10)
DTSTART;TZID=Europe/Berlin:20251005T100000
DTEND;TZID=Europe/Berlin:20251005T120000
LOCATION:Tělocvična ZŠ Balbínova\, Balbínova 328 Příbram - Příbram II
SUMMARY:ST-U14Z-C: Příbram A-Králův Dvůr
END:VEVENT
BEGIN:VEVENT
UID:39336335-3530-4233-b333-333534633565
DTSTAMP:20260422T154754Z
DESCRIPTION:2/18 S V B C - Králův Dvůr 0:2 (-18\,-17)
DTSTART;TZID=Europe/Berlin:20251019T100000
DTEND;TZID=Europe/Berlin:20251019T120000
LOCATION:Sportovní hala Řevnice \, Školní 600 Řevnice
SUMMARY:ST-U14Z-C: S V B C-Králův Dvůr
END:VEVENT
BEGIN:VEVENT
UID:39353465-6462-4466-b866-393363373164
DTSTAMP:20260422T154754Z
DESCRIPTION:3/25 Roztoky u Prahy - Králův Dvůr 0:2 (-8\,-17)\nPořadatel: TJ
  Baník Příbram - SPŠ
DTSTART;TZID=Europe/Berlin:20251109T140000
DTEND;TZID=Europe/Berlin:20251109T160000
LOCATION:Tělocvična ZŠ Roztoky\, Školní nám. 470 Roztoky
SUMMARY:ST-U14Z-C: Roztoky u Prahy-Králův Dvůr
END:VEVENT
BEGIN:VEVENT
UID:30663733-3161-4566-b463-393239346232
DTSTAMP:20260422T154754Z
DESCRIPTION:4/33 S V B C - Králův Dvůr 0:2 (-9\,-20)
DTSTART;TZID=Europe/Berlin:20251207T100000
DTEND;TZID=Europe/Berlin:20251207T120000
LOCATION:Sportovní hala Řevnice \, Školní 600 Řevnice
SUMMARY:ST-U14Z-C: S V B C-Králův Dvůr
END:VEVENT
BEGIN:VEVENT
UID:39653132-3964-4063-b935-666133356233
DTSTAMP:20260422T154754Z
DESCRIPTION:5/37 Hořovice - Králův Dvůr 2:1 (-12\,18\,9)\nPořadatel: TJ Spa
 rtak Hořovice
DTSTART;TZID=Europe/Berlin:20260118T100000
DTEND;TZID=Europe/Berlin:20260118T120000
LOCATION:Sportovní hala\, Ke Stadionu 1385 Hořovice
SUMMARY:ST-U14Z-C: Hořovice-Králův Dvůr
END:VEVENT
BEGIN:VEVENT
UID:34633761-6439-4263-b939-363433396431
DTSTAMP:20260422T154754Z
DESCRIPTION:5/41 Kunice - Králův Dvůr 2:0 (19\,22)
DTSTART;TZID=Europe/Berlin:20260118T100000
DTEND;TZID=Europe/Berlin:20260118T120000
LOCATION:ZŠ Strančice\, Revoluční 170 Strančice
SUMMARY:ST-U14Z-C: Kunice-Králův Dvůr
END:VEVENT
BEGIN:VEVENT
UID:63306464-6265-4764-b932-353466306236
DTSTAMP:20260422T154754Z
DESCRIPTION:6/49 Příbram B - Králův Dvůr 0:2 (-21\,-12)
DTSTART;TZID=Europe/Berlin:20260228T100000
DTEND;TZID=Europe/Berlin:20260228T120000
LOCATION:dvě tělocvičny\, Školní 75 Příbram - Příbram VIII
SUMMARY:ST-U14Z-C: Příbram B-Králův Dvůr
END:VEVENT
BEGIN:VEVENT
UID:38373334-3965-4137-b830-363964643539
DTSTAMP:20260422T154754Z
DESCRIPTION:7/62 Příbram B - Králův Dvůr 0:2 (-14\,-14)
DTSTART;TZID=Europe/Berlin:20260314T100000
DTEND;TZID=Europe/Berlin:20260314T120000
LOCATION:dvě tělocvičny\, Školní 75 Příbram - Příbram VIII
SUMMARY:ST-U14Z-C: Příbram B-Králův Dvůr
END:VEVENT
BEGIN:VEVENT
UID:61623734-6461-4638-b965-316664633263
DTSTAMP:20260422T154754Z
DESCRIPTION:1/2 Králův Dvůr - Kladno A 1:2 (-18\,21\,-5)\nPořadatel: VK Kra
 lupy
DTSTART;TZID=Europe/Berlin:20260412T100000
DTEND;TZID=Europe/Berlin:20260412T120000
LOCATION:Sportovní hala Chýně\, Bolzanova 800 Chýně
SUMMARY:ST-U14Z-J1B: Králův Dvůr-Kladno A
END:VEVENT
BEGIN:VEVENT
UID:35373837-6230-4665-b930-323235366132
DTSTAMP:20260422T154754Z
DESCRIPTION:1/6 Kolín - Králův Dvůr 0:2 (-16\,-10)
DTSTART;TZID=Europe/Berlin:20260412T100000
DTEND;TZID=Europe/Berlin:20260412T120000
LOCATION:hala STAV\, SOŠ Kolín\, Brankovická 1417 Kolín - Kolín V
SUMMARY:ST-U14Z-J1B: Kolín-Králův Dvůr
END:VEVENT
BEGIN:VEVENT
UID:38313563-3933-4663-b862-626237343634
DTSTAMP:20260422T154754Z
DESCRIPTION:1/8 Králův Dvůr - FC Malibu 2:0 (15\,7)
DTSTART;TZID=Europe/Berlin:20260412T100000
DTEND;TZID=Europe/Berlin:20260412T120000
LOCATION:Sportovní hala Chýně\, Bolzanova 800 Chýně
SUMMARY:ST-U14Z-J1: Králův Dvůr-FC Malibu
END:VEVENT
BEGIN:VEVENT
UID:31323731-3239-4839-b266-633836666336
DTSTAMP:20260422T154754Z
DESCRIPTION:1/2 Králův Dvůr - Neratovice\nPořadatel: 2 hřiště
DTSTART;TZID=Europe/Berlin:20260426T100000
DTEND;TZID=Europe/Berlin:20260426T120000
LOCATION:Sportovní hala Chýně\, Bolzanova 800 Chýně
SUMMARY:ST-U14Z-F1: Králův Dvůr-Neratovice
END:VEVENT
BEGIN:VEVENT
UID:32326535-6631-4332-b439-393233346639
DTSTAMP:20260422T154754Z
DESCRIPTION:1/5 Králův Dvůr - Kralupy A.
DTSTART;TZID=Europe/Berlin:20260426T100000
DTEND;TZID=Europe/Berlin:20260426T120000
LOCATION:Sportovní hala Chýně\, Bolzanova 800 Chýně
SUMMARY:ST-U14Z-F1: Králův Dvůr-Kralupy A.
END:VEVENT
BEGIN:VEVENT
UID:32616132-6438-4561-b363-646436666665
DTSTAMP:20260422T154754Z
DESCRIPTION:1/9 Králův Dvůr - Kunice
DTSTART;TZID=Europe/Berlin:20260426T100000
DTEND;TZID=Europe/Berlin:20260426T120000
LOCATION:Sportovní hala Chýně\, Bolzanova 800 Chýně
SUMMARY:ST-U14Z-F1: Králův Dvůr-Kunice
END:VEVENT
BEGIN:VEVENT
UID:62343533-6164-4339-b632-646632353464
DTSTAMP:20260422T154754Z
DESCRIPTION:1/7 Kladno A - Králův Dvůr
DTSTART;TZID=Europe/Berlin:20260426T100000
DTEND;TZID=Europe/Berlin:20260426T120000
LOCATION:Kladenská sportovní hala\, Sportovců 817 Kladno - Rozdělov
SUMMARY:ST-U14Z-F1: Kladno A-Králův Dvůr
END:VEVENT
END:VCALENDAR
