BEGIN:VCALENDAR
VERSION:2.0
PRODID:-//VK Sever Žatec90372//NONSGML kigkonsult.se iCalcreator 2.41.80//
CALSCALE:GREGORIAN
UID:34353261-3536-4435-b361-333238626231
BEGIN:VEVENT
UID:34306362-3061-4638-a463-323637363264
DTSTAMP:20260422T014832Z
DESCRIPTION:8/15 VK Sever Žatec - BVC Chodov 2:0 (10\,11)
DTSTART;TZID=Europe/Berlin:20250927T160000
DTEND;TZID=Europe/Berlin:20250927T180000
LOCATION:Sportovní hala TJ Sever Žatec\, Plzeňská 2787 Žatec
SUMMARY:KV-U18Z-S1: VK Sever Žatec-BVC Chodov
END:VEVENT
BEGIN:VEVENT
UID:31343936-3065-4630-b566-636237633464
DTSTAMP:20260422T014832Z
DESCRIPTION:11/21 VK Sever Žatec - Volejbalový klub Karlovy Vary z.s. 2:0 (
 10\,18)
DTSTART;TZID=Europe/Berlin:20250928T100000
DTEND;TZID=Europe/Berlin:20250928T120000
LOCATION:Sportovní hala TJ Sever Žatec\, Plzeňská 2787 Žatec
SUMMARY:KV-U18Z-S1: VK Sever Žatec-Volejbalový klub Karlovy Vary z.s.
END:VEVENT
BEGIN:VEVENT
UID:30396531-3864-4430-a365-393161616131
DTSTAMP:20260422T014832Z
DESCRIPTION:13/25 VK Sever Žatec - Volejbalový sportovní klub Baník Sokolov
 \, z.s. 2:0 (4\,15)
DTSTART;TZID=Europe/Berlin:20250928T120000
DTEND;TZID=Europe/Berlin:20250928T140000
LOCATION:Sportovní hala TJ Sever Žatec\, Plzeňská 2787 Žatec
SUMMARY:KV-U18Z-S1: VK Sever Žatec-Volejbalový sportovní klub Baník Sokolov
 \, z.s.
END:VEVENT
BEGIN:VEVENT
UID:32346337-3266-4761-a537-633935613166
DTSTAMP:20260422T014832Z
DESCRIPTION:1/2 SKVD Ústí - VK Sever Žatec 1:2 (-20\,22\,-14)
DTSTART;TZID=Europe/Berlin:20250927T090000
DTEND;TZID=Europe/Berlin:20250927T110000
LOCATION:Základní škola Stříbrnická\, Stříbrnická 3031 Ústí nad Labem - Sev
 erní Terasa
SUMMARY:KV-U18Z-S1: SKVD Ústí-VK Sever Žatec
END:VEVENT
BEGIN:VEVENT
UID:31643030-3163-4432-b835-383561363361
DTSTAMP:20260422T014832Z
DESCRIPTION:3/6 TJ Orion Praha\, z.s. - VK Sever Žatec 2:1 (-26\,21\,14)
DTSTART;TZID=Europe/Berlin:20250927T110000
DTEND;TZID=Europe/Berlin:20250927T130000
LOCATION:ZŠ Dolní Břežany\, Na Vršku 290 Dolní Břežany
SUMMARY:KV-U18Z-S1: TJ Orion Praha\, z.s.-VK Sever Žatec
END:VEVENT
BEGIN:VEVENT
UID:61353164-6137-4634-b530-613163663637
DTSTAMP:20260422T014832Z
DESCRIPTION:5/9 VK Šanov Teplice\, z.s. - VK Sever Žatec 0:2 (-17\,-13)
DTSTART;TZID=Europe/Berlin:20250927T130000
DTEND;TZID=Europe/Berlin:20250927T150000
LOCATION:ZŠ Edisonova Teplice\, Edisonova 1732 Teplice - Trnovany
SUMMARY:KV-U18Z-S1: VK Šanov Teplice\, z.s.-VK Sever Žatec
END:VEVENT
BEGIN:VEVENT
UID:33386638-6434-4233-b937-626163376565
DTSTAMP:20260422T014832Z
DESCRIPTION:10/19 TJ Lokomotiva Plzeň z.s. - VK Sever Žatec 2:1 (-21\,8\,12
 )
DTSTART;TZID=Europe/Berlin:20250928T090000
DTEND;TZID=Europe/Berlin:20250928T110000
LOCATION:Městská sportovní hala  -  hala 2\, Úslavská 2357 Plzeň - Východní
  Předměstí
SUMMARY:KV-U18Z-S1: TJ Lokomotiva Plzeň z.s.-VK Sever Žatec
END:VEVENT
BEGIN:VEVENT
UID:35623837-6463-4431-a565-356338333637
DTSTAMP:20260422T014832Z
DESCRIPTION:2/6 VK Sever Žatec - VK Šanov Teplice\, z.s. 2:0 (11\,17)
DTSTART;TZID=Europe/Berlin:20251011T103000
DTEND;TZID=Europe/Berlin:20251011T123000
LOCATION:Sportovní hala TJ Sever Žatec\, Plzeňská 2787 Žatec
SUMMARY:KV-U18Z-S2: VK Sever Žatec-VK Šanov Teplice\, z.s.
END:VEVENT
BEGIN:VEVENT
UID:34333561-6637-4135-b366-343762396665
DTSTAMP:20260422T014832Z
DESCRIPTION:4/11 VK Sever Žatec - Volejbalový sportovní klub Baník Sokolov\
 , z.s. 2:0 (7\,8)
DTSTART;TZID=Europe/Berlin:20251011T133000
DTEND;TZID=Europe/Berlin:20251011T153000
LOCATION:Sportovní hala TJ Sever Žatec\, Plzeňská 2787 Žatec
SUMMARY:KV-U18Z-S2: VK Sever Žatec-Volejbalový sportovní klub Baník Sokolov
 \, z.s.
END:VEVENT
BEGIN:VEVENT
UID:64626333-6438-4435-b465-346631656138
DTSTAMP:20260422T014832Z
DESCRIPTION:6/18 VK Sever Žatec - TJ Orion Praha\, z.s. 2:1 (-17\,20\,12)
DTSTART;TZID=Europe/Berlin:20251011T163000
DTEND;TZID=Europe/Berlin:20251011T183000
LOCATION:Sportovní hala TJ Sever Žatec\, Plzeňská 2787 Žatec
SUMMARY:KV-U18Z-S2: VK Sever Žatec-TJ Orion Praha\, z.s.
END:VEVENT
BEGIN:VEVENT
UID:36646331-3661-4534-a466-306136653363
DTSTAMP:20260422T014832Z
DESCRIPTION:7/21 VK Sever Žatec - SKVD Ústí 2:0 (17\,12)
DTSTART;TZID=Europe/Berlin:20251012T090000
DTEND;TZID=Europe/Berlin:20251012T110000
LOCATION:Sportovní hala TJ Sever Žatec\, Plzeňská 2787 Žatec
SUMMARY:KV-U18Z-S2: VK Sever Žatec-SKVD Ústí
END:VEVENT
BEGIN:VEVENT
UID:36643635-6466-4638-b230-313063626461
DTSTAMP:20260422T014832Z
DESCRIPTION:1/2 Volejbalový klub Karlovy Vary z.s. - VK Sever Žatec 0:2 (-7
 \,-8)
DTSTART;TZID=Europe/Berlin:20251011T090000
DTEND;TZID=Europe/Berlin:20251011T110000
LOCATION:Mattoni Arena Hala míčových sportů\, Západní 1812 Karlovy Vary
SUMMARY:KV-U18Z-S2: Volejbalový klub Karlovy Vary z.s.-VK Sever Žatec
END:VEVENT
BEGIN:VEVENT
UID:66316330-6434-4762-b132-626664393066
DTSTAMP:20260422T014832Z
DESCRIPTION:8/22 TJ Lokomotiva Plzeň z.s. - VK Sever Žatec 0:2 (-9\,-22)
DTSTART;TZID=Europe/Berlin:20251012T103000
DTEND;TZID=Europe/Berlin:20251012T123000
LOCATION:Městská sportovní hala  -  hala 2\, Úslavská 2357 Plzeň - Východní
  Předměstí
SUMMARY:KV-U18Z-S2: TJ Lokomotiva Plzeň z.s.-VK Sever Žatec
END:VEVENT
BEGIN:VEVENT
UID:62633630-3230-4737-a136-306439623565
DTSTAMP:20260422T014832Z
DESCRIPTION:9/25 BVC Chodov - VK Sever Žatec 0:2 (-9\,-10)
DTSTART;TZID=Europe/Berlin:20251012T120000
DTEND;TZID=Europe/Berlin:20251012T140000
LOCATION:Městská sportovní hala Chodov\, Tyršova 1201 Chodov
SUMMARY:KV-U18Z-S2: BVC Chodov-VK Sever Žatec
END:VEVENT
BEGIN:VEVENT
UID:30623466-3161-4631-b661-336637333832
DTSTAMP:20260422T014832Z
DESCRIPTION:10/20 VK Sever Žatec - TJ Lokomotiva Plzeň z.s. 0:2 (-8\,-13)
DTSTART;TZID=Europe/Berlin:20251109T100000
DTEND;TZID=Europe/Berlin:20251109T120000
LOCATION:Sportovní hala TJ Sever Žatec\, Plzeňská 2787 Žatec
SUMMARY:KV-U18Z-S3: VK Sever Žatec-TJ Lokomotiva Plzeň z.s.
END:VEVENT
BEGIN:VEVENT
UID:65333066-6666-4363-a234-333664333964
DTSTAMP:20260422T014832Z
DESCRIPTION:12/24 VK Sever Žatec - BVC Chodov 2:0 (7\,12)
DTSTART;TZID=Europe/Berlin:20251109T123000
DTEND;TZID=Europe/Berlin:20251109T143000
LOCATION:Sportovní hala TJ Sever Žatec\, Plzeňská 2787 Žatec
SUMMARY:KV-U18Z-S3: VK Sever Žatec-BVC Chodov
END:VEVENT
BEGIN:VEVENT
UID:31373135-3936-4263-b564-396138616664
DTSTAMP:20260422T014832Z
DESCRIPTION:14/28 VK Sever Žatec - TJ Orion Praha\, z.s. 0:2 (-14\,-15)
DTSTART;TZID=Europe/Berlin:20251109T150000
DTEND;TZID=Europe/Berlin:20251109T170000
LOCATION:Sportovní hala TJ Sever Žatec\, Plzeňská 2787 Žatec
SUMMARY:KV-U18Z-S3: VK Sever Žatec-TJ Orion Praha\, z.s.
END:VEVENT
BEGIN:VEVENT
UID:63336163-3831-4831-b533-303333633066
DTSTAMP:20260422T014832Z
DESCRIPTION:1/1 SKVD Ústí - VK Sever Žatec 0:2 (-13\,-16)
DTSTART;TZID=Europe/Berlin:20251108T090000
DTEND;TZID=Europe/Berlin:20251108T110000
LOCATION:Základní škola Stříbrnická\, Stříbrnická 3031 Ústí nad Labem - Sev
 erní Terasa
SUMMARY:KV-U18Z-S3: SKVD Ústí-VK Sever Žatec
END:VEVENT
BEGIN:VEVENT
UID:66393738-3261-4434-b631-386638366331
DTSTAMP:20260422T014832Z
DESCRIPTION:4/8 Volejbalový klub Karlovy Vary z.s. - VK Sever Žatec 0:2 (-6
 \,-4)
DTSTART;TZID=Europe/Berlin:20251108T130000
DTEND;TZID=Europe/Berlin:20251108T150000
LOCATION:Mattoni Arena Hala míčových sportů\, Západní 1812 Karlovy Vary
SUMMARY:KV-U18Z-S3: Volejbalový klub Karlovy Vary z.s.-VK Sever Žatec
END:VEVENT
BEGIN:VEVENT
UID:34323461-6434-4338-b638-643939636137
DTSTAMP:20260422T014832Z
DESCRIPTION:5/10 VK Šanov Teplice\, z.s. - VK Sever Žatec 0:2 (-15\,-15)
DTSTART;TZID=Europe/Berlin:20251108T141500
DTEND;TZID=Europe/Berlin:20251108T161500
LOCATION:ZŠ Edisonova Teplice\, Edisonova 1732 Teplice - Trnovany
SUMMARY:KV-U18Z-S3: VK Šanov Teplice\, z.s.-VK Sever Žatec
END:VEVENT
BEGIN:VEVENT
UID:63346238-6236-4134-a233-396366383331
DTSTAMP:20260422T014832Z
DESCRIPTION:7/14 Volejbalový sportovní klub Baník Sokolov\, z.s. - VK Sever
  Žatec 0:2 (-7\,-14)
DTSTART;TZID=Europe/Berlin:20251108T170000
DTEND;TZID=Europe/Berlin:20251108T190000
LOCATION:Jiskra\, Maxima Gorkého 280 Sokolov
SUMMARY:KV-U18Z-S3: Volejbalový sportovní klub Baník Sokolov\, z.s.-VK Seve
 r Žatec
END:VEVENT
BEGIN:VEVENT
UID:65386335-3833-4665-b863-356635313433
DTSTAMP:20260422T014832Z
DESCRIPTION:1/1 VK Sever Žatec - SKVD Ústí 2:0 (14\,21)
DTSTART;TZID=Europe/Berlin:20251206T090000
DTEND;TZID=Europe/Berlin:20251206T110000
LOCATION:Sportovní hala TJ Sever Žatec\, Plzeňská 2787 Žatec
SUMMARY:KV-U18Z-S4: VK Sever Žatec-SKVD Ústí
END:VEVENT
BEGIN:VEVENT
UID:31333338-6232-4661-b234-376462656162
DTSTAMP:20260422T014832Z
DESCRIPTION:3/5 VK Sever Žatec - TJ Orion Praha\, z.s. 2:0 (19\,20)
DTSTART;TZID=Europe/Berlin:20251206T114500
DTEND;TZID=Europe/Berlin:20251206T134500
LOCATION:Sportovní hala TJ Sever Žatec\, Plzeňská 2787 Žatec
SUMMARY:KV-U18Z-S4: VK Sever Žatec-TJ Orion Praha\, z.s.
END:VEVENT
BEGIN:VEVENT
UID:66386661-3565-4134-b136-613262396433
DTSTAMP:20260422T014832Z
DESCRIPTION:5/9 VK Sever Žatec - TJ Lokomotiva Plzeň z.s. 2:0 (21\,10)
DTSTART;TZID=Europe/Berlin:20251206T141500
DTEND;TZID=Europe/Berlin:20251206T161500
LOCATION:Sportovní hala TJ Sever Žatec\, Plzeňská 2787 Žatec
SUMMARY:KV-U18Z-S4: VK Sever Žatec-TJ Lokomotiva Plzeň z.s.
END:VEVENT
BEGIN:VEVENT
UID:63353038-3732-4434-a264-393438386464
DTSTAMP:20260422T014832Z
DESCRIPTION:7/13 VK Sever Žatec - Volejbalový sportovní klub Baník Sokolov\
 , z.s. 2:0 (5\,19)
DTSTART;TZID=Europe/Berlin:20251206T164500
DTEND;TZID=Europe/Berlin:20251206T184500
LOCATION:Sportovní hala TJ Sever Žatec\, Plzeňská 2787 Žatec
SUMMARY:KV-U18Z-S4: VK Sever Žatec-Volejbalový sportovní klub Baník Sokolov
 \, z.s.
END:VEVENT
BEGIN:VEVENT
UID:34363136-3365-4461-b961-346165393534
DTSTAMP:20260422T014832Z
DESCRIPTION:10/19 VK Sever Žatec - BVC Chodov 2:0 (10\,7)
DTSTART;TZID=Europe/Berlin:20251207T101500
DTEND;TZID=Europe/Berlin:20251207T121500
LOCATION:Sportovní hala TJ Sever Žatec\, Plzeňská 2787 Žatec
SUMMARY:KV-U18Z-S4: VK Sever Žatec-BVC Chodov
END:VEVENT
BEGIN:VEVENT
UID:30323865-3134-4965-a434-346633353233
DTSTAMP:20260422T014832Z
DESCRIPTION:12/23 VK Sever Žatec - Volejbalový klub Karlovy Vary z.s. 2:0 (
 9\,9)
DTSTART;TZID=Europe/Berlin:20251207T124500
DTEND;TZID=Europe/Berlin:20251207T144500
LOCATION:Sportovní hala TJ Sever Žatec\, Plzeňská 2787 Žatec
SUMMARY:KV-U18Z-S4: VK Sever Žatec-Volejbalový klub Karlovy Vary z.s.
END:VEVENT
BEGIN:VEVENT
UID:62623262-3863-4631-a537-623364376136
DTSTAMP:20260422T014832Z
DESCRIPTION:14/27 VK Sever Žatec - VK Šanov Teplice\, z.s. 2:0 (15\,16)
DTSTART;TZID=Europe/Berlin:20251207T151500
DTEND;TZID=Europe/Berlin:20251207T171500
LOCATION:Sportovní hala TJ Sever Žatec\, Plzeňská 2787 Žatec
SUMMARY:KV-U18Z-S4: VK Sever Žatec-VK Šanov Teplice\, z.s.
END:VEVENT
BEGIN:VEVENT
UID:31663536-6563-4561-a539-363939303166
DTSTAMP:20260422T014832Z
DESCRIPTION:1/1 VK Sever Žatec - TJ Lokomotiva Plzeň z.s. 2:1 (-12\,23\,6)
DTSTART;TZID=Europe/Berlin:20260110T093000
DTEND;TZID=Europe/Berlin:20260110T113000
LOCATION:Sportovní hala TJ Sever Žatec\, Plzeňská 2787 Žatec
SUMMARY:KV-U18Z-S5: VK Sever Žatec-TJ Lokomotiva Plzeň z.s.
END:VEVENT
BEGIN:VEVENT
UID:36653335-3931-4437-b566-376534303636
DTSTAMP:20260422T014832Z
DESCRIPTION:3/10 VK Sever Žatec - BVC Chodov 2:0 (5\,5)
DTSTART;TZID=Europe/Berlin:20260110T130000
DTEND;TZID=Europe/Berlin:20260110T150000
LOCATION:Sportovní hala TJ Sever Žatec\, Plzeňská 2787 Žatec
SUMMARY:KV-U18Z-S5: VK Sever Žatec-BVC Chodov
END:VEVENT
BEGIN:VEVENT
UID:38326261-3039-4261-b565-613130346433
DTSTAMP:20260422T014832Z
DESCRIPTION:5/17 VK Sever Žatec - SKVD Ústí 2:0 (0\,0)
DTSTART;TZID=Europe/Berlin:20260111T093000
DTEND;TZID=Europe/Berlin:20260111T113000
LOCATION:Sportovní hala TJ Sever Žatec\, Plzeňská 2787 Žatec
SUMMARY:KV-U18Z-S5: VK Sever Žatec-SKVD Ústí
END:VEVENT
BEGIN:VEVENT
UID:32613439-6366-4861-b364-396536323430
DTSTAMP:20260422T014832Z
DESCRIPTION:7/25 VK Sever Žatec - Volejbalový sportovní klub Baník Sokolov\
 , z.s. 2:0 (12\,6)
DTSTART;TZID=Europe/Berlin:20260111T120000
DTEND;TZID=Europe/Berlin:20260111T140000
LOCATION:Sportovní hala TJ Sever Žatec\, Plzeňská 2787 Žatec
SUMMARY:KV-U18Z-S5: VK Sever Žatec-Volejbalový sportovní klub Baník Sokolov
 \, z.s.
END:VEVENT
BEGIN:VEVENT
UID:38326164-3136-4733-a565-306464663065
DTSTAMP:20260422T014832Z
DESCRIPTION:2/8 VK Šanov Teplice\, z.s. - VK Sever Žatec 0:2 (-0\,-0)
DTSTART;TZID=Europe/Berlin:20260110T110000
DTEND;TZID=Europe/Berlin:20260110T130000
LOCATION:ZŠ Edisonova Teplice\, Edisonova 1732 Teplice - Trnovany
SUMMARY:KV-U18Z-S5: VK Šanov Teplice\, z.s.-VK Sever Žatec
END:VEVENT
BEGIN:VEVENT
UID:31633436-6334-4134-a261-323932383736
DTSTAMP:20260422T014832Z
DESCRIPTION:4/15 Volejbalový klub Karlovy Vary z.s. - VK Sever Žatec 0:2 (-
 6\,-18)
DTSTART;TZID=Europe/Berlin:20260110T143000
DTEND;TZID=Europe/Berlin:20260110T163000
LOCATION:Mattoni Arena Hala míčových sportů\, Západní 1812 Karlovy Vary
SUMMARY:KV-U18Z-S5: Volejbalový klub Karlovy Vary z.s.-VK Sever Žatec
END:VEVENT
BEGIN:VEVENT
UID:30323737-3364-4163-b131-636161393861
DTSTAMP:20260422T014832Z
DESCRIPTION:6/21 TJ Orion Praha\, z.s. - VK Sever Žatec 2:0 (16\,12)
DTSTART;TZID=Europe/Berlin:20260111T110000
DTEND;TZID=Europe/Berlin:20260111T130000
LOCATION:ZŠ Dolní Břežany\, Na Vršku 290 Dolní Břežany
SUMMARY:KV-U18Z-S5: TJ Orion Praha\, z.s.-VK Sever Žatec
END:VEVENT
BEGIN:VEVENT
UID:66383965-6161-4562-b732-636536376432
DTSTAMP:20260422T014832Z
DESCRIPTION:2/4 VK Sever Žatec - Volejbalový sportovní klub Baník Sokolov\,
  z.s. 2:0 (12\,3)
DTSTART;TZID=Europe/Berlin:20260214T100000
DTEND;TZID=Europe/Berlin:20260214T120000
LOCATION:Sportovní hala TJ Sever Žatec\, Plzeňská 2787 Žatec
SUMMARY:KV-U18Z-S6: VK Sever Žatec-Volejbalový sportovní klub Baník Sokolov
 \, z.s.
END:VEVENT
BEGIN:VEVENT
UID:64393936-3737-4130-b338-386565393132
DTSTAMP:20260422T014832Z
DESCRIPTION:5/13 VK Sever Žatec - VK Šanov Teplice\, z.s. 2:0 (22\,14)
DTSTART;TZID=Europe/Berlin:20260214T130000
DTEND;TZID=Europe/Berlin:20260214T150000
LOCATION:Sportovní hala TJ Sever Žatec\, Plzeňská 2787 Žatec
SUMMARY:KV-U18Z-S6: VK Sever Žatec-VK Šanov Teplice\, z.s.
END:VEVENT
BEGIN:VEVENT
UID:66623538-3566-4639-b232-643761343766
DTSTAMP:20260422T014832Z
DESCRIPTION:8/21 VK Sever Žatec - TJ Lokomotiva Plzeň z.s. 2:1 (19\,-21\,10
 )
DTSTART;TZID=Europe/Berlin:20260215T090000
DTEND;TZID=Europe/Berlin:20260215T110000
LOCATION:Sportovní hala TJ Sever Žatec\, Plzeňská 2787 Žatec
SUMMARY:KV-U18Z-S6: VK Sever Žatec-TJ Lokomotiva Plzeň z.s.
END:VEVENT
BEGIN:VEVENT
UID:39623535-6538-4137-b037-336363306631
DTSTAMP:20260422T014832Z
DESCRIPTION:1/3 BVC Chodov - VK Sever Žatec 0:2 (-11\,-18)
DTSTART;TZID=Europe/Berlin:20260214T090000
DTEND;TZID=Europe/Berlin:20260214T110000
LOCATION:Městská sportovní hala Chodov\, Tyršova 1201 Chodov
SUMMARY:KV-U18Z-S6: BVC Chodov-VK Sever Žatec
END:VEVENT
BEGIN:VEVENT
UID:32393365-6263-4436-a166-376138633937
DTSTAMP:20260422T014832Z
DESCRIPTION:3/9 Volejbalový klub Karlovy Vary z.s. - VK Sever Žatec 0:2 (-1
 4\,-24)
DTSTART;TZID=Europe/Berlin:20260214T110000
DTEND;TZID=Europe/Berlin:20260214T130000
LOCATION:Mattoni Arena Hala míčových sportů\, Západní 1812 Karlovy Vary
SUMMARY:KV-U18Z-S6: Volejbalový klub Karlovy Vary z.s.-VK Sever Žatec
END:VEVENT
BEGIN:VEVENT
UID:39643732-3761-4835-b233-326631363732
DTSTAMP:20260422T014832Z
DESCRIPTION:6/17 SKVD Ústí - VK Sever Žatec 0:2 (-13\,-16)
DTSTART;TZID=Europe/Berlin:20260214T140000
DTEND;TZID=Europe/Berlin:20260214T160000
LOCATION:Základní škola Stříbrnická\, Stříbrnická 3031 Ústí nad Labem - Sev
 erní Terasa
SUMMARY:KV-U18Z-S6: SKVD Ústí-VK Sever Žatec
END:VEVENT
BEGIN:VEVENT
UID:39333632-3861-4131-a339-633562613063
DTSTAMP:20260422T014832Z
DESCRIPTION:10/25 TJ Orion Praha\, z.s. - VK Sever Žatec 0:2 (-17\,-19)
DTSTART;TZID=Europe/Berlin:20260215T110000
DTEND;TZID=Europe/Berlin:20260215T130000
LOCATION:ZŠ Dolní Břežany\, Na Vršku 290 Dolní Břežany
SUMMARY:KV-U18Z-S6: TJ Orion Praha\, z.s.-VK Sever Žatec
END:VEVENT
BEGIN:VEVENT
UID:63656330-3265-4665-b364-326637366161
DTSTAMP:20260422T014832Z
DESCRIPTION:12/23 VK Sever Žatec - VK Šanov Teplice\, z.s. 2:0 (12\,21)
DTSTART;TZID=Europe/Berlin:20260315T124500
DTEND;TZID=Europe/Berlin:20260315T144500
LOCATION:Sportovní hala TJ Sever Žatec\, Plzeňská 2787 Žatec
SUMMARY:KV-U18Z-S7: VK Sever Žatec-VK Šanov Teplice\, z.s.
END:VEVENT
BEGIN:VEVENT
UID:64366266-6363-4535-a361-656230343138
DTSTAMP:20260422T014832Z
DESCRIPTION:13/26 VK Sever Žatec - Volejbalový klub Karlovy Vary z.s. 2:0 (
 18\,9)
DTSTART;TZID=Europe/Berlin:20260315T140000
DTEND;TZID=Europe/Berlin:20260315T160000
LOCATION:Sportovní hala TJ Sever Žatec\, Plzeňská 2787 Žatec
SUMMARY:KV-U18Z-S7: VK Sever Žatec-Volejbalový klub Karlovy Vary z.s.
END:VEVENT
BEGIN:VEVENT
UID:38373937-3766-4530-b334-653632656165
DTSTAMP:20260422T014832Z
DESCRIPTION:1/2 TJ Orion Praha\, z.s. - VK Sever Žatec 2:1 (12\,-9\,7)
DTSTART;TZID=Europe/Berlin:20260314T090000
DTEND;TZID=Europe/Berlin:20260314T110000
LOCATION:ZŠ Dolní Břežany\, Na Vršku 290 Dolní Břežany
SUMMARY:KV-U18Z-S7: TJ Orion Praha\, z.s.-VK Sever Žatec
END:VEVENT
BEGIN:VEVENT
UID:64356136-3133-4235-b433-316330316336
DTSTAMP:20260422T014832Z
DESCRIPTION:3/5 TJ Lokomotiva Plzeň z.s. - VK Sever Žatec 2:0 (17\,13)
DTSTART;TZID=Europe/Berlin:20260314T113000
DTEND;TZID=Europe/Berlin:20260314T133000
LOCATION:Městská sportovní hala  -  hala 2\, Úslavská 2357 Plzeň - Východní
  Předměstí
SUMMARY:KV-U18Z-S7: TJ Lokomotiva Plzeň z.s.-VK Sever Žatec
END:VEVENT
BEGIN:VEVENT
UID:35623532-3964-4538-b437-326437386661
DTSTAMP:20260422T014832Z
DESCRIPTION:5/9 SKVD Ústí - VK Sever Žatec 0:2 (-17\,-20)
DTSTART;TZID=Europe/Berlin:20260314T140000
DTEND;TZID=Europe/Berlin:20260314T160000
LOCATION:Základní škola Stříbrnická\, Stříbrnická 3031 Ústí nad Labem - Sev
 erní Terasa
SUMMARY:KV-U18Z-S7: SKVD Ústí-VK Sever Žatec
END:VEVENT
BEGIN:VEVENT
UID:33323536-3063-4233-b666-353461343130
DTSTAMP:20260422T014832Z
DESCRIPTION:6/12 BVC Chodov - VK Sever Žatec 0:2 (-8\,-10)
DTSTART;TZID=Europe/Berlin:20260314T151500
DTEND;TZID=Europe/Berlin:20260314T171500
LOCATION:Městská sportovní hala Chodov\, Tyršova 1201 Chodov
SUMMARY:KV-U18Z-S7: BVC Chodov-VK Sever Žatec
END:VEVENT
BEGIN:VEVENT
UID:37616338-3238-4938-b261-623866313465
DTSTAMP:20260422T014832Z
DESCRIPTION:10/20 Volejbalový sportovní klub Baník Sokolov\, z.s. - VK Seve
 r Žatec 0:2 (-11\,-16)
DTSTART;TZID=Europe/Berlin:20260315T101500
DTEND;TZID=Europe/Berlin:20260315T121500
LOCATION:Jiskra\, Maxima Gorkého 280 Sokolov
SUMMARY:KV-U18Z-S7: Volejbalový sportovní klub Baník Sokolov\, z.s.-VK Seve
 r Žatec
END:VEVENT
BEGIN:VEVENT
UID:38616331-3765-4462-b531-346366663161
DTSTAMP:20260422T014832Z
DESCRIPTION:3/7 VK Sever Žatec - TJ Orion Praha\, z.s. 0:2 (-23\,-20)
DTSTART;TZID=Europe/Berlin:20260411T120000
DTEND;TZID=Europe/Berlin:20260411T140000
LOCATION:Sportovní hala TJ Sever Žatec\, Plzeňská 2787 Žatec
SUMMARY:KV-U18Z-S8: VK Sever Žatec-TJ Orion Praha\, z.s.
END:VEVENT
BEGIN:VEVENT
UID:65323631-3331-4039-b031-326539393364
DTSTAMP:20260422T014832Z
DESCRIPTION:6/17 VK Sever Žatec - Volejbalový klub Karlovy Vary z.s. 2:0 (2
 2\,7)
DTSTART;TZID=Europe/Berlin:20260411T163000
DTEND;TZID=Europe/Berlin:20260411T183000
LOCATION:Sportovní hala TJ Sever Žatec\, Plzeňská 2787 Žatec
SUMMARY:KV-U18Z-S8: VK Sever Žatec-Volejbalový klub Karlovy Vary z.s.
END:VEVENT
BEGIN:VEVENT
UID:66623730-3763-4130-a334-623262633364
DTSTAMP:20260422T014832Z
DESCRIPTION:9/27 VK Sever Žatec - VK Šanov Teplice\, z.s. 2:0 (13\,18)
DTSTART;TZID=Europe/Berlin:20260412T120000
DTEND;TZID=Europe/Berlin:20260412T140000
LOCATION:Sportovní hala TJ Sever Žatec\, Plzeňská 2787 Žatec
SUMMARY:KV-U18Z-S8: VK Sever Žatec-VK Šanov Teplice\, z.s.
END:VEVENT
BEGIN:VEVENT
UID:37633931-6133-4434-a136-663639386135
DTSTAMP:20260422T014832Z
DESCRIPTION:1/1 Volejbalový sportovní klub Baník Sokolov\, z.s. - VK Sever 
 Žatec 0:2 (-14\,-6)
DTSTART;TZID=Europe/Berlin:20260411T090000
DTEND;TZID=Europe/Berlin:20260411T110000
LOCATION:Jiskra\, Maxima Gorkého 280 Sokolov
SUMMARY:KV-U18Z-S8: Volejbalový sportovní klub Baník Sokolov\, z.s.-VK Seve
 r Žatec
END:VEVENT
BEGIN:VEVENT
UID:61393566-3264-4062-a639-383436366565
DTSTAMP:20260422T014832Z
DESCRIPTION:5/14 TJ Lokomotiva Plzeň z.s. - VK Sever Žatec 2:1 (21\,-15\,12
 )
DTSTART;TZID=Europe/Berlin:20260411T150000
DTEND;TZID=Europe/Berlin:20260411T170000
LOCATION:Městská sportovní hala  -  hala 2\, Úslavská 2357 Plzeň - Východní
  Předměstí
SUMMARY:KV-U18Z-S8: TJ Lokomotiva Plzeň z.s.-VK Sever Žatec
END:VEVENT
BEGIN:VEVENT
UID:36386439-3531-4539-b936-636166316166
DTSTAMP:20260422T014832Z
DESCRIPTION:7/20 BVC Chodov - VK Sever Žatec 0:2 (-6\,-13)
DTSTART;TZID=Europe/Berlin:20260412T090000
DTEND;TZID=Europe/Berlin:20260412T110000
LOCATION:Městská sportovní hala Chodov\, Tyršova 1201 Chodov
SUMMARY:KV-U18Z-S8: BVC Chodov-VK Sever Žatec
END:VEVENT
BEGIN:VEVENT
UID:31396130-6662-4232-b737-313265363361
DTSTAMP:20260422T014832Z
DESCRIPTION:8/23 SKVD Ústí - VK Sever Žatec 2:1 (21\,-8\,10)
DTSTART;TZID=Europe/Berlin:20260412T103000
DTEND;TZID=Europe/Berlin:20260412T123000
LOCATION:Základní škola Stříbrnická\, Stříbrnická 3031 Ústí nad Labem - Sev
 erní Terasa
SUMMARY:KV-U18Z-S8: SKVD Ústí-VK Sever Žatec
END:VEVENT
END:VCALENDAR
