BEGIN:VCALENDAR
VERSION:2.0
PRODID:-//Volejbalová akademie MUNI SPORT Brno D90388//NONSGML kigkonsult.se iCalcreator 2.41.80//
CALSCALE:GREGORIAN
UID:31353838-3131-4132-a264-616164613738
BEGIN:VEVENT
UID:32653164-6336-4631-b635-306662356537
DTSTAMP:20260422T075524Z
DESCRIPTION:1/1 Prostějov A - VA MUNI SPORT D 2:0 (6\,1)\nkurt A
DTSTART;TZID=Europe/Berlin:20250920T090000
DTEND;TZID=Europe/Berlin:20250920T110000
LOCATION:3. ZŠ Šumperk\, 8. května 870 Šumperk
SUMMARY:OLK-U14Z-KA: Prostějov A-VA MUNI SPORT D
END:VEVENT
BEGIN:VEVENT
UID:36316639-6431-4034-b636-333231303038
DTSTAMP:20260422T075524Z
DESCRIPTION:4/4 VAM Olomouc B - VA MUNI SPORT D 2:0 (12\,20)\nkurt A
DTSTART;TZID=Europe/Berlin:20250920T100000
DTEND;TZID=Europe/Berlin:20250920T120000
LOCATION:3. ZŠ Šumperk\, 8. května 870 Šumperk
SUMMARY:OLK-U14Z-KA: VAM Olomouc B-VA MUNI SPORT D
END:VEVENT
BEGIN:VEVENT
UID:32663561-3365-4138-b433-393461343664
DTSTAMP:20260422T075524Z
DESCRIPTION:6/6 TJ Šumperk - VA MUNI SPORT D 2:0 (11\,19)\nkurt B
DTSTART;TZID=Europe/Berlin:20250920T110000
DTEND;TZID=Europe/Berlin:20250920T130000
LOCATION:3. ZŠ Šumperk\, 8. května 870 Šumperk
SUMMARY:OLK-U14Z-KA: TJ Šumperk-VA MUNI SPORT D
END:VEVENT
BEGIN:VEVENT
UID:32306237-6337-4261-b237-336630623566
DTSTAMP:20260422T075524Z
DESCRIPTION:1/1 VA MUNI SPORT D - Volejbal Přerov B 0:2 (-23\,-13)\nkurt B
DTSTART;TZID=Europe/Berlin:20251004T090000
DTEND;TZID=Europe/Berlin:20251004T110000
LOCATION:Farmak\, U Hradiska 157 Olomouc - Klášterní Hradisko
SUMMARY:OLK-U14Z-1D: VA MUNI SPORT D-Volejbal Přerov B
END:VEVENT
BEGIN:VEVENT
UID:39306530-3363-4633-b933-323134373737
DTSTAMP:20260422T075524Z
DESCRIPTION:3/3 VA MUNI SPORT D - VK Olomouc C 2:1 (-19\,19\,14)\nkurt B
DTSTART;TZID=Europe/Berlin:20251004T100000
DTEND;TZID=Europe/Berlin:20251004T120000
LOCATION:Farmak\, U Hradiska 157 Olomouc - Klášterní Hradisko
SUMMARY:OLK-U14Z-1D: VA MUNI SPORT D-VK Olomouc C
END:VEVENT
BEGIN:VEVENT
UID:62623138-3862-4439-b837-303434613939
DTSTAMP:20260422T075524Z
DESCRIPTION:5/5 VA MUNI SPORT D - VK Olomouc B 0:2 (-15\,-20)\nkurt A
DTSTART;TZID=Europe/Berlin:20251004T110000
DTEND;TZID=Europe/Berlin:20251004T130000
LOCATION:Farmak\, U Hradiska 157 Olomouc - Klášterní Hradisko
SUMMARY:OLK-U14Z-1D: VA MUNI SPORT D-VK Olomouc B
END:VEVENT
BEGIN:VEVENT
UID:34656438-3339-4439-b231-383437613630
DTSTAMP:20260422T075524Z
DESCRIPTION:2/2 VK Olomouc C - VA MUNI SPORT D 2:0 (22\,12)\nkurt C
DTSTART;TZID=Europe/Berlin:20251018T100000
DTEND;TZID=Europe/Berlin:20251018T120000
LOCATION:Městská sportovní hala\, Petřivalského 2884 Přerov - Přerov I-Měst
 o
SUMMARY:OLK-U14Z-2D: VK Olomouc C-VA MUNI SPORT D
END:VEVENT
BEGIN:VEVENT
UID:31393432-6363-4466-b430-373966343561
DTSTAMP:20260422T075524Z
DESCRIPTION:4/4 Volejbal Přerov B - VA MUNI SPORT D 1:2 (-20\,16\,-10)\nkur
 t C
DTSTART;TZID=Europe/Berlin:20251018T120000
DTEND;TZID=Europe/Berlin:20251018T140000
LOCATION:Městská sportovní hala\, Petřivalského 2884 Přerov - Přerov I-Měst
 o
SUMMARY:OLK-U14Z-2D: Volejbal Přerov B-VA MUNI SPORT D
END:VEVENT
BEGIN:VEVENT
UID:63643430-3936-4264-a133-336330663734
DTSTAMP:20260422T075524Z
DESCRIPTION:5/5 VAM Olomouc B - VA MUNI SPORT D 2:0 (25\,10)\nkurt C
DTSTART;TZID=Europe/Berlin:20251018T130000
DTEND;TZID=Europe/Berlin:20251018T150000
LOCATION:Městská sportovní hala\, Petřivalského 2884 Přerov - Přerov I-Měst
 o
SUMMARY:OLK-U14Z-2D: VAM Olomouc B-VA MUNI SPORT D
END:VEVENT
BEGIN:VEVENT
UID:37316364-3437-4238-a230-613762363763
DTSTAMP:20260422T075524Z
DESCRIPTION:2/2 Volejbal Přerov B - VA MUNI SPORT D 2:1 (12\,-19\,14)\nkurt
  B
DTSTART;TZID=Europe/Berlin:20251101T090000
DTEND;TZID=Europe/Berlin:20251101T110000
LOCATION:Farmak\, U Hradiska 157 Olomouc - Klášterní Hradisko
SUMMARY:OLK-U14Z-3D: Volejbal Přerov B-VA MUNI SPORT D
END:VEVENT
BEGIN:VEVENT
UID:61643730-6438-4433-b435-346334356464
DTSTAMP:20260422T075524Z
DESCRIPTION:4/4 VK Olomouc C - VA MUNI SPORT D 2:0 (14\,18)\nkurt A
DTSTART;TZID=Europe/Berlin:20251101T100000
DTEND;TZID=Europe/Berlin:20251101T120000
LOCATION:Farmak\, U Hradiska 157 Olomouc - Klášterní Hradisko
SUMMARY:OLK-U14Z-3D: VK Olomouc C-VA MUNI SPORT D
END:VEVENT
BEGIN:VEVENT
UID:34643637-3633-4265-a130-336335326537
DTSTAMP:20260422T075524Z
DESCRIPTION:5/5 TJ Šumperk - VA MUNI SPORT D 2:1 (12\,-23\,9)\nkurt B
DTSTART;TZID=Europe/Berlin:20251101T110000
DTEND;TZID=Europe/Berlin:20251101T130000
LOCATION:Farmak\, U Hradiska 157 Olomouc - Klášterní Hradisko
SUMMARY:OLK-U14Z-3D: TJ Šumperk-VA MUNI SPORT D
END:VEVENT
BEGIN:VEVENT
UID:34373964-6561-4137-a661-616632333532
DTSTAMP:20260422T075524Z
DESCRIPTION:2/2 VK Olomouc C - VA MUNI SPORT D 0:2 (-19\,-23)
DTSTART;TZID=Europe/Berlin:20251129T100000
DTEND;TZID=Europe/Berlin:20251129T120000
LOCATION:Sportovní hala\, Kouřílkova 1028 Přerov - Přerov I-Město
SUMMARY:OLK-U14Z-4D: VK Olomouc C-VA MUNI SPORT D
END:VEVENT
BEGIN:VEVENT
UID:36303736-6464-4234-b936-616663616661
DTSTAMP:20260422T075524Z
DESCRIPTION:4/4 Volejbal Přerov B - VA MUNI SPORT D 0:2 (-23\,-21)
DTSTART;TZID=Europe/Berlin:20251129T120000
DTEND;TZID=Europe/Berlin:20251129T140000
LOCATION:Sportovní hala\, Kouřílkova 1028 Přerov - Přerov I-Město
SUMMARY:OLK-U14Z-4D: Volejbal Přerov B-VA MUNI SPORT D
END:VEVENT
BEGIN:VEVENT
UID:66326561-6636-4735-a265-306566366537
DTSTAMP:20260422T075524Z
DESCRIPTION:5/5 Prostějov C - VA MUNI SPORT D 2:0 (12\,11)
DTSTART;TZID=Europe/Berlin:20251129T130000
DTEND;TZID=Europe/Berlin:20251129T150000
LOCATION:Sportovní hala\, Kouřílkova 1028 Přerov - Přerov I-Město
SUMMARY:OLK-U14Z-4D: Prostějov C-VA MUNI SPORT D
END:VEVENT
BEGIN:VEVENT
UID:61656565-6164-4337-b962-356363633730
DTSTAMP:20260422T075524Z
DESCRIPTION:1/1 VA MUNI SPORT D - VK Olomouc C 1:2 (-14\,14\,-7)\nkurt A
DTSTART;TZID=Europe/Berlin:20251214T090000
DTEND;TZID=Europe/Berlin:20251214T110000
LOCATION:Sportovní hala Němčice nad Hanou\, Tyršova 651 Němčice nad Hanou
SUMMARY:OLK-U14Z-5D: VA MUNI SPORT D-VK Olomouc C
END:VEVENT
BEGIN:VEVENT
UID:39653061-3139-4930-a133-633863326665
DTSTAMP:20260422T075524Z
DESCRIPTION:4/4 VA MUNI SPORT D - Volejbal Přerov B 2:0 (21\,16)\nkurt A
DTSTART;TZID=Europe/Berlin:20251214T100000
DTEND;TZID=Europe/Berlin:20251214T120000
LOCATION:Sportovní hala Němčice nad Hanou\, Tyršova 651 Němčice nad Hanou
SUMMARY:OLK-U14Z-5D: VA MUNI SPORT D-Volejbal Přerov B
END:VEVENT
BEGIN:VEVENT
UID:33636461-6463-4337-b335-343130613531
DTSTAMP:20260422T075524Z
DESCRIPTION:5/5 TJ Šumperk - VA MUNI SPORT D 2:0 (22\,17)\nkurt A
DTSTART;TZID=Europe/Berlin:20251214T110000
DTEND;TZID=Europe/Berlin:20251214T130000
LOCATION:Sportovní hala Němčice nad Hanou\, Tyršova 651 Němčice nad Hanou
SUMMARY:OLK-U14Z-5D: TJ Šumperk-VA MUNI SPORT D
END:VEVENT
BEGIN:VEVENT
UID:36323763-3830-4364-a366-663139343163
DTSTAMP:20260422T075524Z
DESCRIPTION:2/2 VA MUNI SPORT D - Volejbal Přerov B 1:2 (15\,-15\,-13)\nkur
 t B
DTSTART;TZID=Europe/Berlin:20260117T090000
DTEND;TZID=Europe/Berlin:20260117T110000
LOCATION:Farmak\, U Hradiska 157 Olomouc - Klášterní Hradisko
SUMMARY:OLK-U14Z-6D: VA MUNI SPORT D-Volejbal Přerov B
END:VEVENT
BEGIN:VEVENT
UID:30623461-6266-4433-a461-303130353131
DTSTAMP:20260422T075524Z
DESCRIPTION:3/3 VK Olomouc B - VA MUNI SPORT D 2:0 (13\,13)\nkurt A
DTSTART;TZID=Europe/Berlin:20260117T100000
DTEND;TZID=Europe/Berlin:20260117T120000
LOCATION:Farmak\, U Hradiska 157 Olomouc - Klášterní Hradisko
SUMMARY:OLK-U14Z-6D: VK Olomouc B-VA MUNI SPORT D
END:VEVENT
BEGIN:VEVENT
UID:63383037-3065-4263-a362-613938363937
DTSTAMP:20260422T075524Z
DESCRIPTION:6/6 VK Olomouc C - VA MUNI SPORT D 2:0 (8\,19)\nkurt B
DTSTART;TZID=Europe/Berlin:20260117T110000
DTEND;TZID=Europe/Berlin:20260117T130000
LOCATION:Farmak\, U Hradiska 157 Olomouc - Klášterní Hradisko
SUMMARY:OLK-U14Z-6D: VK Olomouc C-VA MUNI SPORT D
END:VEVENT
BEGIN:VEVENT
UID:33333537-3635-4531-b133-363933393366
DTSTAMP:20260422T075524Z
DESCRIPTION:2/2 Volejbal Přerov B - VA MUNI SPORT D 0:2 (-13\,-15)
DTSTART;TZID=Europe/Berlin:20260124T100000
DTEND;TZID=Europe/Berlin:20260124T120000
LOCATION:Letní tělocvična\, Za velodromem 4205 Prostějov
SUMMARY:OLK-U14Z-7D: Volejbal Přerov B-VA MUNI SPORT D
END:VEVENT
BEGIN:VEVENT
UID:31303936-3133-4537-b764-343362663265
DTSTAMP:20260422T075524Z
DESCRIPTION:4/4 Prostějov C - VA MUNI SPORT D 2:0 (15\,23)
DTSTART;TZID=Europe/Berlin:20260124T120000
DTEND;TZID=Europe/Berlin:20260124T140000
LOCATION:Letní tělocvična\, Za velodromem 4205 Prostějov
SUMMARY:OLK-U14Z-7D: Prostějov C-VA MUNI SPORT D
END:VEVENT
BEGIN:VEVENT
UID:66303066-3139-4135-b463-666235303134
DTSTAMP:20260422T075524Z
DESCRIPTION:5/5 VK Olomouc C - VA MUNI SPORT D 2:1 (24\,-21\,7)
DTSTART;TZID=Europe/Berlin:20260124T130000
DTEND;TZID=Europe/Berlin:20260124T150000
LOCATION:Letní tělocvična\, Za velodromem 4205 Prostějov
SUMMARY:OLK-U14Z-7D: VK Olomouc C-VA MUNI SPORT D
END:VEVENT
BEGIN:VEVENT
UID:66383336-3563-4339-a332-326136316633
DTSTAMP:20260422T075524Z
DESCRIPTION:2/2 VA MUNI SPORT D - Volejbal Přerov B 2:1 (-22\,4\,11)\nkurt 
 B
DTSTART;TZID=Europe/Berlin:20260307T090000
DTEND;TZID=Europe/Berlin:20260307T110000
LOCATION:Farmak\, U Hradiska 157 Olomouc - Klášterní Hradisko
SUMMARY:OLK-U14Z-8D: VA MUNI SPORT D-Volejbal Přerov B
END:VEVENT
BEGIN:VEVENT
UID:36613761-3136-4036-b764-646133303135
DTSTAMP:20260422T075524Z
DESCRIPTION:3/3 VK Olomouc C - VA MUNI SPORT D 0:2 (-23\,-21)\nkurt A
DTSTART;TZID=Europe/Berlin:20260307T100000
DTEND;TZID=Europe/Berlin:20260307T120000
LOCATION:Farmak\, U Hradiska 157 Olomouc - Klášterní Hradisko
SUMMARY:OLK-U14Z-8D: VK Olomouc C-VA MUNI SPORT D
END:VEVENT
BEGIN:VEVENT
UID:61333531-6631-4036-b034-373235333662
DTSTAMP:20260422T075524Z
DESCRIPTION:6/6 KRS Uničov - VA MUNI SPORT D 2:1 (5\,-21\,7)\nkurt B
DTSTART;TZID=Europe/Berlin:20260307T110000
DTEND;TZID=Europe/Berlin:20260307T130000
LOCATION:Farmak\, U Hradiska 157 Olomouc - Klášterní Hradisko
SUMMARY:OLK-U14Z-8D: KRS Uničov-VA MUNI SPORT D
END:VEVENT
BEGIN:VEVENT
UID:31363338-3763-4934-b333-346438386462
DTSTAMP:20260422T075524Z
DESCRIPTION:1/1 VA MUNI SPORT D - VK Olomouc C 0:2 (-20\,-20)\nkurt B
DTSTART;TZID=Europe/Berlin:20260314T090000
DTEND;TZID=Europe/Berlin:20260314T110000
LOCATION:Sportovní hala Němčice nad Hanou\, Tyršova 651 Němčice nad Hanou
SUMMARY:OLK-U14Z-9D: VA MUNI SPORT D-VK Olomouc C
END:VEVENT
BEGIN:VEVENT
UID:31633235-3563-4939-a462-346264353435
DTSTAMP:20260422T075524Z
DESCRIPTION:6/6 VA MUNI SPORT D - Volejbal Přerov B 2:0 (17\,13)\nkurt B
DTSTART;TZID=Europe/Berlin:20260314T140000
DTEND;TZID=Europe/Berlin:20260314T160000
LOCATION:Sportovní hala Němčice nad Hanou\, Tyršova 651 Němčice nad Hanou
SUMMARY:OLK-U14Z-9D: VA MUNI SPORT D-Volejbal Přerov B
END:VEVENT
BEGIN:VEVENT
UID:62336537-3937-4866-a239-373433333937
DTSTAMP:20260422T075524Z
DESCRIPTION:3/3 TJ Šumperk - VA MUNI SPORT D 2:0 (22\,24)\nkurt B
DTSTART;TZID=Europe/Berlin:20260314T110000
DTEND;TZID=Europe/Berlin:20260314T130000
LOCATION:Sportovní hala Němčice nad Hanou\, Tyršova 651 Němčice nad Hanou
SUMMARY:OLK-U14Z-9D: TJ Šumperk-VA MUNI SPORT D
END:VEVENT
BEGIN:VEVENT
UID:31373737-3338-4239-b434-393665323836
DTSTAMP:20260422T075524Z
DESCRIPTION:4/4 VA MUNI SPORT D - Volejbal Přerov B 2:1 (-18\,16\,12)\nkurt
  A
DTSTART;TZID=Europe/Berlin:20260411T100000
DTEND;TZID=Europe/Berlin:20260411T120000
LOCATION:Městská sportovní hala\, Petřivalského 2884 Přerov - Přerov I-Měst
 o
SUMMARY:OLK-U14Z-10D: VA MUNI SPORT D-Volejbal Přerov B
END:VEVENT
BEGIN:VEVENT
UID:62666162-3366-4234-b935-303765386332
DTSTAMP:20260422T075524Z
DESCRIPTION:1/1 VK Olomouc C - VA MUNI SPORT D 0:2 (-22\,-25)\nkurt B
DTSTART;TZID=Europe/Berlin:20260411T090000
DTEND;TZID=Europe/Berlin:20260411T110000
LOCATION:Městská sportovní hala\, Petřivalského 2884 Přerov - Přerov I-Měst
 o
SUMMARY:OLK-U14Z-10D: VK Olomouc C-VA MUNI SPORT D
END:VEVENT
BEGIN:VEVENT
UID:36363763-3230-4564-b066-663038626665
DTSTAMP:20260422T075524Z
DESCRIPTION:5/5 KRS Uničov - VA MUNI SPORT D 2:0 (24\,11)\nkurt B
DTSTART;TZID=Europe/Berlin:20260411T110000
DTEND;TZID=Europe/Berlin:20260411T130000
LOCATION:Městská sportovní hala\, Petřivalského 2884 Přerov - Přerov I-Měst
 o
SUMMARY:OLK-U14Z-10D: KRS Uničov-VA MUNI SPORT D
END:VEVENT
END:VCALENDAR
