BEGIN:VCALENDAR
VERSION:2.0
PRODID:-//INLAB SK Meteor Praha90393//NONSGML kigkonsult.se iCalcreator 2.41.80//
CALSCALE:GREGORIAN
UID:66633865-3663-4130-b965-616163643632
BEGIN:VEVENT
UID:64363235-3364-4138-b038-323664373839
DTSTAMP:20260423T022357Z
DESCRIPTION:2/2 VK Lvi Praha B - INLAB SK Meteor Praha 2:1 (24\,-20\,11)
DTSTART;TZID=Europe/Berlin:20250927T123000
DTEND;TZID=Europe/Berlin:20250927T143000
LOCATION:TJ Slavia Hradec Králové\, Víta Nejedlého 1216 Hradec Králové
SUMMARY:CP-U16M-Z1F: VK Lvi Praha B-INLAB SK Meteor Praha
END:VEVENT
BEGIN:VEVENT
UID:30313531-6338-4465-b931-316363303066
DTSTAMP:20260423T022357Z
DESCRIPTION:3/3 VK Jirkov - INLAB SK Meteor Praha 2:0 (12\,19)
DTSTART;TZID=Europe/Berlin:20250927T133000
DTEND;TZID=Europe/Berlin:20250927T153000
LOCATION:TJ Slavia Hradec Králové\, Víta Nejedlého 1216 Hradec Králové
SUMMARY:CP-U16M-Z1F: VK Jirkov-INLAB SK Meteor Praha
END:VEVENT
BEGIN:VEVENT
UID:34616465-3339-4131-b163-336133613631
DTSTAMP:20260423T022357Z
DESCRIPTION:5/5 TJ Slavia HK - INLAB SK Meteor Praha 2:0 (20\,20)
DTSTART;TZID=Europe/Berlin:20250927T153000
DTEND;TZID=Europe/Berlin:20250927T173000
LOCATION:TJ Slavia Hradec Králové\, Víta Nejedlého 1216 Hradec Králové
SUMMARY:CP-U16M-Z1F: TJ Slavia HK-INLAB SK Meteor Praha
END:VEVENT
BEGIN:VEVENT
UID:30383461-3534-4566-b665-346138363261
DTSTAMP:20260423T022357Z
DESCRIPTION:3/3 INLAB SK Meteor Praha - Jihostroj ČB B 2:0 (11\,14)
DTSTART;TZID=Europe/Berlin:20250928T120000
DTEND;TZID=Europe/Berlin:20250928T140000
LOCATION:TJ Slavia Hradec Králové\, Víta Nejedlého 1216 Hradec Králové
SUMMARY:CP-U16M-Z1O: INLAB SK Meteor Praha-Jihostroj ČB B
END:VEVENT
BEGIN:VEVENT
UID:39326261-6362-4630-b465-636135343066
DTSTAMP:20260423T022357Z
DESCRIPTION:1/1 Tělocvičná jednota Sokol Česká Třebová - INLAB SK Meteor Pr
 aha 2:0 (22\,14)
DTSTART;TZID=Europe/Berlin:20250928T100000
DTEND;TZID=Europe/Berlin:20250928T120000
LOCATION:TJ Slavia Hradec Králové\, Víta Nejedlého 1216 Hradec Králové
SUMMARY:CP-U16M-Z1O: Tělocvičná jednota Sokol Česká Třebová-INLAB SK Meteor
  Praha
END:VEVENT
BEGIN:VEVENT
UID:31626332-6264-4134-b038-393436393630
DTSTAMP:20260423T022357Z
DESCRIPTION:11/11 TJ Lokomotiva Česká Lípa\, z.s. - INLAB SK Meteor Praha 0
 :2 (-21\,-6)\nN2-O2 21.-22. místo
DTSTART;TZID=Europe/Berlin:20250928T140000
DTEND;TZID=Europe/Berlin:20250928T160000
LOCATION:ZŠ Lada\, Šluknovská 2904 Česká Lípa
SUMMARY:CP-U16M-Z1UMIS: TJ Lokomotiva Česká Lípa\, z.s.-INLAB SK Meteor Pra
 ha
END:VEVENT
BEGIN:VEVENT
UID:39353164-6361-4232-b430-373363313163
DTSTAMP:20260423T022357Z
DESCRIPTION:1/2 INLAB SK Meteor Praha - Č. Krumlov A 0:2 (-17\,-17)
DTSTART;TZID=Europe/Berlin:20251025T093000
DTEND;TZID=Europe/Berlin:20251025T113000
LOCATION:ZŠ Oskara Nedbala České Budějovice\, O. Nedbala 882 České Budějovi
 ce - České Budějovice 2
SUMMARY:CP-U16M-Z2C: INLAB SK Meteor Praha-Č. Krumlov A
END:VEVENT
BEGIN:VEVENT
UID:64626636-3866-4666-b566-613939386566
DTSTAMP:20260423T022357Z
DESCRIPTION:8/15 INLAB SK Meteor Praha - VK Lvi Praha B 2:1 (-20\,12\,10)
DTSTART;TZID=Europe/Berlin:20251025T163000
DTEND;TZID=Europe/Berlin:20251025T183000
LOCATION:ZŠ Oskara Nedbala České Budějovice\, O. Nedbala 882 České Budějovi
 ce - České Budějovice 2
SUMMARY:CP-U16M-Z2C: INLAB SK Meteor Praha-VK Lvi Praha B
END:VEVENT
BEGIN:VEVENT
UID:64356631-3065-4763-b139-663032653963
DTSTAMP:20260423T022357Z
DESCRIPTION:12/24 INLAB SK Meteor Praha - PODĚS 2:0 (14\,19)
DTSTART;TZID=Europe/Berlin:20251026T120000
DTEND;TZID=Europe/Berlin:20251026T140000
LOCATION:ZŠ Oskara Nedbala České Budějovice\, O. Nedbala 882 České Budějovi
 ce - České Budějovice 2
SUMMARY:CP-U16M-Z2C: INLAB SK Meteor Praha-PODĚS
END:VEVENT
BEGIN:VEVENT
UID:31366133-3134-4862-b133-373161653731
DTSTAMP:20260423T022357Z
DESCRIPTION:2/4 Jihostroj ČB B - INLAB SK Meteor Praha 1:2 (-25\,17\,-9)
DTSTART;TZID=Europe/Berlin:20251025T103000
DTEND;TZID=Europe/Berlin:20251025T123000
LOCATION:ZŠ Oskara Nedbala České Budějovice\, O. Nedbala 882 České Budějovi
 ce - České Budějovice 2
SUMMARY:CP-U16M-Z2C: Jihostroj ČB B-INLAB SK Meteor Praha
END:VEVENT
BEGIN:VEVENT
UID:65623231-6534-4261-b266-653463393637
DTSTAMP:20260423T022357Z
DESCRIPTION:6/11 TJ Lokomotiva Česká Lípa\, z.s. - INLAB SK Meteor Praha 1:
 2 (-7\,22\,-12)
DTSTART;TZID=Europe/Berlin:20251025T143000
DTEND;TZID=Europe/Berlin:20251025T163000
LOCATION:ZŠ Oskara Nedbala České Budějovice\, O. Nedbala 882 České Budějovi
 ce - České Budějovice 2
SUMMARY:CP-U16M-Z2C: TJ Lokomotiva Česká Lípa\, z.s.-INLAB SK Meteor Praha
END:VEVENT
BEGIN:VEVENT
UID:61333434-6161-4537-b334-656366333562
DTSTAMP:20260423T022357Z
DESCRIPTION:10/20 TJ ABC Braník\, z.s. - INLAB SK Meteor Praha 2:0 (11\,11)
DTSTART;TZID=Europe/Berlin:20251026T100000
DTEND;TZID=Europe/Berlin:20251026T120000
LOCATION:ZŠ Oskara Nedbala České Budějovice\, O. Nedbala 882 České Budějovi
 ce - České Budějovice 2
SUMMARY:CP-U16M-Z2C: TJ ABC Braník\, z.s.-INLAB SK Meteor Praha
END:VEVENT
BEGIN:VEVENT
UID:39376361-3164-4930-b237-666633396462
DTSTAMP:20260423T022357Z
DESCRIPTION:13/25 Tělocvičná jednota Sokol Česká Třebová - INLAB SK Meteor 
 Praha 0:2 (-19\,-23)
DTSTART;TZID=Europe/Berlin:20251026T130000
DTEND;TZID=Europe/Berlin:20251026T150000
LOCATION:ZŠ Oskara Nedbala České Budějovice\, O. Nedbala 882 České Budějovi
 ce - České Budějovice 2
SUMMARY:CP-U16M-Z2C: Tělocvičná jednota Sokol Česká Třebová-INLAB SK Meteor
  Praha
END:VEVENT
BEGIN:VEVENT
UID:39356431-3333-4335-b031-663061373962
DTSTAMP:20260423T022357Z
DESCRIPTION:1/1 INLAB SK Meteor Praha - PODĚS 2:1 (-24\,13\,12)\nSpor.hala 
 Skalka 1692
DTSTART;TZID=Europe/Berlin:20251129T093000
DTEND;TZID=Europe/Berlin:20251129T113000
LOCATION:Hala VDA Skalka\, Skalka 1162 Česká Třebová
SUMMARY:CP-U16M-Z3C: INLAB SK Meteor Praha-PODĚS
END:VEVENT
BEGIN:VEVENT
UID:34323337-3032-4132-a362-393334663439
DTSTAMP:20260423T022357Z
DESCRIPTION:5/9 INLAB SK Meteor Praha - VK Lvi Praha B 2:0 (26\,20)
DTSTART;TZID=Europe/Berlin:20251129T133000
DTEND;TZID=Europe/Berlin:20251129T153000
LOCATION:Hala VDA Skalka\, Skalka 1162 Česká Třebová
SUMMARY:CP-U16M-Z3C: INLAB SK Meteor Praha-VK Lvi Praha B
END:VEVENT
BEGIN:VEVENT
UID:35363235-3830-4064-a339-623831306137
DTSTAMP:20260423T022357Z
DESCRIPTION:8/15 INLAB SK Meteor Praha - Jihostroj ČB B 2:1 (-20\,16\,10)
DTSTART;TZID=Europe/Berlin:20251129T163000
DTEND;TZID=Europe/Berlin:20251129T183000
LOCATION:Hala VDA Skalka\, Skalka 1162 Česká Třebová
SUMMARY:CP-U16M-Z3C: INLAB SK Meteor Praha-Jihostroj ČB B
END:VEVENT
BEGIN:VEVENT
UID:30383232-3933-4565-b533-343366323564
DTSTAMP:20260423T022357Z
DESCRIPTION:9/17 INLAB SK Meteor Praha - TJ Lokomotiva Česká Lípa\, z.s. 2:
 0 (25\,18)\nZŠ Nádražní 200
DTSTART;TZID=Europe/Berlin:20251130T090000
DTEND;TZID=Europe/Berlin:20251130T110000
LOCATION:Hala VDA Skalka\, Skalka 1162 Česká Třebová
SUMMARY:CP-U16M-Z3C: INLAB SK Meteor Praha-TJ Lokomotiva Česká Lípa\, z.s.
END:VEVENT
BEGIN:VEVENT
UID:31643032-6231-4037-b363-623465623733
DTSTAMP:20260423T022357Z
DESCRIPTION:4/8 SK Volejbal Klatovy\, z.s. - INLAB SK Meteor Praha 2:0 (22\
 ,19)
DTSTART;TZID=Europe/Berlin:20251129T123000
DTEND;TZID=Europe/Berlin:20251129T143000
LOCATION:Hala VDA Skalka\, Skalka 1162 Česká Třebová
SUMMARY:CP-U16M-Z3C: SK Volejbal Klatovy\, z.s.-INLAB SK Meteor Praha
END:VEVENT
BEGIN:VEVENT
UID:65646234-3163-4931-b531-373931376533
DTSTAMP:20260423T022357Z
DESCRIPTION:12/23 SK PROSEK B - INLAB SK Meteor Praha 2:0 (25\,19)
DTSTART;TZID=Europe/Berlin:20251130T120000
DTEND;TZID=Europe/Berlin:20251130T140000
LOCATION:Hala VDA Skalka\, Skalka 1162 Česká Třebová
SUMMARY:CP-U16M-Z3C: SK PROSEK B-INLAB SK Meteor Praha
END:VEVENT
BEGIN:VEVENT
UID:39393630-3562-4830-a163-313330376434
DTSTAMP:20260423T022357Z
DESCRIPTION:14/28 Tělocvičná jednota Sokol Česká Třebová - INLAB SK Meteor 
 Praha 0:2 (-18\,-23)
DTSTART;TZID=Europe/Berlin:20251130T140000
DTEND;TZID=Europe/Berlin:20251130T160000
LOCATION:Hala VDA Skalka\, Skalka 1162 Česká Třebová
SUMMARY:CP-U16M-Z3C: Tělocvičná jednota Sokol Česká Třebová-INLAB SK Meteor
  Praha
END:VEVENT
BEGIN:VEVENT
UID:33653937-3262-4561-b235-356139316634
DTSTAMP:20260423T022357Z
DESCRIPTION:3/7 INLAB SK Meteor Praha - SK PROSEK B 0:2 (-22\,-22)
DTSTART;TZID=Europe/Berlin:20251220T160000
DTEND;TZID=Europe/Berlin:20251220T180000
LOCATION:Hala ABC\, Purkyňova 116 Nový Jičín
SUMMARY:CP-U16M-4D: INLAB SK Meteor Praha-SK PROSEK B
END:VEVENT
BEGIN:VEVENT
UID:64313634-6635-4563-b466-386237376565
DTSTAMP:20260423T022357Z
DESCRIPTION:6/13 INLAB SK Meteor Praha - TJ ABC Braník\, z.s. 0:2 (-18\,-14
 )
DTSTART;TZID=Europe/Berlin:20251221T090000
DTEND;TZID=Europe/Berlin:20251221T110000
LOCATION:Hala ABC\, Purkyňova 116 Nový Jičín
SUMMARY:CP-U16M-4D: INLAB SK Meteor Praha-TJ ABC Braník\, z.s.
END:VEVENT
BEGIN:VEVENT
UID:66353137-3434-4330-b765-326438376237
DTSTAMP:20260423T022357Z
DESCRIPTION:8/20 INLAB SK Meteor Praha - VK Lvi Praha B 2:0 (19\,13)
DTSTART;TZID=Europe/Berlin:20251221T110000
DTEND;TZID=Europe/Berlin:20251221T130000
LOCATION:Hala ABC\, Purkyňova 116 Nový Jičín
SUMMARY:CP-U16M-4D: INLAB SK Meteor Praha-VK Lvi Praha B
END:VEVENT
BEGIN:VEVENT
UID:30646433-3134-4133-a564-373165623662
DTSTAMP:20260423T022357Z
DESCRIPTION:2/4 Č. Krumlov A - INLAB SK Meteor Praha 2:0 (17\,19)
DTSTART;TZID=Europe/Berlin:20251220T150000
DTEND;TZID=Europe/Berlin:20251220T170000
LOCATION:Hala ABC\, Purkyňova 116 Nový Jičín
SUMMARY:CP-U16M-4D: Č. Krumlov A-INLAB SK Meteor Praha
END:VEVENT
BEGIN:VEVENT
UID:39353665-6363-4465-a566-383032303763
DTSTAMP:20260423T022357Z
DESCRIPTION:4/9 SK Volejbal Klatovy\, z.s. - INLAB SK Meteor Praha 2:0 (19\
 ,23)
DTSTART;TZID=Europe/Berlin:20251220T170000
DTEND;TZID=Europe/Berlin:20251220T190000
LOCATION:Hala ABC\, Purkyňova 116 Nový Jičín
SUMMARY:CP-U16M-4D: SK Volejbal Klatovy\, z.s.-INLAB SK Meteor Praha
END:VEVENT
BEGIN:VEVENT
UID:33333065-3433-4832-a636-326235383935
DTSTAMP:20260423T022357Z
DESCRIPTION:7/16 Vlci Nový Jičín - INLAB SK Meteor Praha 2:1 (-25\,20\,15)
DTSTART;TZID=Europe/Berlin:20251221T100000
DTEND;TZID=Europe/Berlin:20251221T120000
LOCATION:Hala ABC\, Purkyňova 116 Nový Jičín
SUMMARY:CP-U16M-4D: Vlci Nový Jičín-INLAB SK Meteor Praha
END:VEVENT
BEGIN:VEVENT
UID:61636639-3565-4465-a533-666139633461
DTSTAMP:20260423T022357Z
DESCRIPTION:2/3 INLAB SK Meteor Praha - PODĚS 2:0 (21\,13)
DTSTART;TZID=Europe/Berlin:20260207T104500
DTEND;TZID=Europe/Berlin:20260207T124500
LOCATION:ZŠ Nádražní\, Nádražní 200 Česká Třebová
SUMMARY:CP-U16M-5E: INLAB SK Meteor Praha-PODĚS
END:VEVENT
BEGIN:VEVENT
UID:39623531-3435-4936-b533-366437653363
DTSTAMP:20260423T022357Z
DESCRIPTION:7/14 INLAB SK Meteor Praha - TJ Jiskra Havlíčkův Brod 2:0 (16\,
 19)
DTSTART;TZID=Europe/Berlin:20260207T171500
DTEND;TZID=Europe/Berlin:20260207T191500
LOCATION:ZŠ Nádražní\, Nádražní 200 Česká Třebová
SUMMARY:CP-U16M-5E: INLAB SK Meteor Praha-TJ Jiskra Havlíčkův Brod
END:VEVENT
BEGIN:VEVENT
UID:61626333-6661-4738-a661-663538303730
DTSTAMP:20260423T022357Z
DESCRIPTION:10/20 INLAB SK Meteor Praha - VK Lvi Praha B 2:0 (20\,19)
DTSTART;TZID=Europe/Berlin:20260208T113000
DTEND;TZID=Europe/Berlin:20260208T133000
LOCATION:ZŠ Nádražní\, Nádražní 200 Česká Třebová
SUMMARY:CP-U16M-5E: INLAB SK Meteor Praha-VK Lvi Praha B
END:VEVENT
BEGIN:VEVENT
UID:34623061-3536-4737-a461-623835333864
DTSTAMP:20260423T022357Z
DESCRIPTION:4/8 Volejbal Ostrava - INLAB SK Meteor Praha 2:1 (-13\,14\,14)
DTSTART;TZID=Europe/Berlin:20260207T131500
DTEND;TZID=Europe/Berlin:20260207T151500
LOCATION:ZŠ Nádražní\, Nádražní 200 Česká Třebová
SUMMARY:CP-U16M-5E: Volejbal Ostrava-INLAB SK Meteor Praha
END:VEVENT
BEGIN:VEVENT
UID:34613564-3330-4033-b566-303763396534
DTSTAMP:20260423T022357Z
DESCRIPTION:6/12 TJ Lokomotiva Česká Lípa\, z.s. - INLAB SK Meteor Praha 2:
 1 (15\,-11\,13)
DTSTART;TZID=Europe/Berlin:20260207T160000
DTEND;TZID=Europe/Berlin:20260207T180000
LOCATION:ZŠ Nádražní\, Nádražní 200 Česká Třebová
SUMMARY:CP-U16M-5E: TJ Lokomotiva Česká Lípa\, z.s.-INLAB SK Meteor Praha
END:VEVENT
BEGIN:VEVENT
UID:62393739-6632-4235-b933-343961383934
DTSTAMP:20260423T022357Z
DESCRIPTION:9/18 Tělocvičná jednota Sokol Česká Třebová - INLAB SK Meteor P
 raha 0:2 (-18\,-15)
DTSTART;TZID=Europe/Berlin:20260208T101500
DTEND;TZID=Europe/Berlin:20260208T121500
LOCATION:ZŠ Nádražní\, Nádražní 200 Česká Třebová
SUMMARY:CP-U16M-5E: Tělocvičná jednota Sokol Česká Třebová-INLAB SK Meteor 
 Praha
END:VEVENT
BEGIN:VEVENT
UID:34626439-3532-4132-a163-623632306238
DTSTAMP:20260423T022357Z
DESCRIPTION:1/2 INLAB SK Meteor Praha - SK PROSEK B 0:2 (-31\,-22)
DTSTART;TZID=Europe/Berlin:20260321T130000
DTEND;TZID=Europe/Berlin:20260321T150000
LOCATION:Hala ABC\, Purkyňova 116 Nový Jičín
SUMMARY:CP-U16M-6G: INLAB SK Meteor Praha-SK PROSEK B
END:VEVENT
BEGIN:VEVENT
UID:33656166-3139-4562-b362-626436356430
DTSTAMP:20260423T022357Z
DESCRIPTION:2/5 INLAB SK Meteor Praha - TJ Lokomotiva Česká Lípa\, z.s. 2:0
  (11\,10)
DTSTART;TZID=Europe/Berlin:20260321T140000
DTEND;TZID=Europe/Berlin:20260321T160000
LOCATION:Hala ABC\, Purkyňova 116 Nový Jičín
SUMMARY:CP-U16M-6G: INLAB SK Meteor Praha-TJ Lokomotiva Česká Lípa\, z.s.
END:VEVENT
BEGIN:VEVENT
UID:37663862-6665-4363-a464-313137383938
DTSTAMP:20260423T022357Z
DESCRIPTION:3/7 INLAB SK Meteor Praha - Č. Krumlov A 2:1 (-24\,9\,8)
DTSTART;TZID=Europe/Berlin:20260321T150000
DTEND;TZID=Europe/Berlin:20260321T170000
LOCATION:Hala ABC\, Purkyňova 116 Nový Jičín
SUMMARY:CP-U16M-6G: INLAB SK Meteor Praha-Č. Krumlov A
END:VEVENT
BEGIN:VEVENT
UID:38666632-3664-4530-b362-366335353036
DTSTAMP:20260423T022357Z
DESCRIPTION:4/11 INLAB SK Meteor Praha - VK Karlovarsko\, z.s. 0:2 (-17\,-1
 9)
DTSTART;TZID=Europe/Berlin:20260321T170000
DTEND;TZID=Europe/Berlin:20260321T190000
LOCATION:Hala ABC\, Purkyňova 116 Nový Jičín
SUMMARY:CP-U16M-6G: INLAB SK Meteor Praha-VK Karlovarsko\, z.s.
END:VEVENT
BEGIN:VEVENT
UID:66303136-6533-4839-b538-373233663766
DTSTAMP:20260423T022357Z
DESCRIPTION:8/20 SK Kojetín 2016\, z.s. - INLAB SK Meteor Praha 1:2 (19\,-2
 4\,-14)
DTSTART;TZID=Europe/Berlin:20260322T110000
DTEND;TZID=Europe/Berlin:20260322T130000
LOCATION:Hala ABC\, Purkyňova 116 Nový Jičín
SUMMARY:CP-U16M-6G: SK Kojetín 2016\, z.s.-INLAB SK Meteor Praha
END:VEVENT
BEGIN:VEVENT
UID:34613139-3330-4032-b066-613836313134
DTSTAMP:20260423T022357Z
DESCRIPTION:9/21 Vlci Nový Jičín - INLAB SK Meteor Praha 0:2 (-14\,-19)
DTSTART;TZID=Europe/Berlin:20260322T120000
DTEND;TZID=Europe/Berlin:20260322T140000
LOCATION:Hala ABC\, Purkyňova 116 Nový Jičín
SUMMARY:CP-U16M-6G: Vlci Nový Jičín-INLAB SK Meteor Praha
END:VEVENT
END:VCALENDAR
