BEGIN:VCALENDAR
VERSION:2.0
PRODID:-//TJ TATRAN LITOVEL90423//NONSGML kigkonsult.se iCalcreator 2.41.80//
CALSCALE:GREGORIAN
UID:66366535-3463-4330-b161-303037303334
BEGIN:VEVENT
UID:32613332-6330-4932-a166-336437353438
DTSTAMP:20260421T134938Z
DESCRIPTION:1/3 TATRAN LITOVEL - Slavoj Loštice 1:3 (22\,-14\,-17\,-24)
DTSTART;TZID=Europe/Berlin:20251018T090000
DTEND;TZID=Europe/Berlin:20251018T110000
LOCATION:Hala ZŠ Vítězná Litovel\, Vítězná 1250 Litovel
SUMMARY:OLK-Z: TATRAN LITOVEL-Slavoj Loštice
END:VEVENT
BEGIN:VEVENT
UID:38353964-3565-4565-b139-633664313162
DTSTAMP:20260421T134938Z
DESCRIPTION:2/6 TATRAN LITOVEL - Slavoj Loštice 1:3 (-16\,25\,-24\,-22)
DTSTART;TZID=Europe/Berlin:20251018T130000
DTEND;TZID=Europe/Berlin:20251018T150000
LOCATION:Hala ZŠ Vítězná Litovel\, Vítězná 1250 Litovel
SUMMARY:OLK-Z: TATRAN LITOVEL-Slavoj Loštice
END:VEVENT
BEGIN:VEVENT
UID:61313535-6565-4634-b366-383837386333
DTSTAMP:20260421T134938Z
DESCRIPTION:5/14 TATRAN LITOVEL - VAM Olomouc 1:3 (21\,-21\,-17\,-22)
DTSTART;TZID=Europe/Berlin:20260125T100000
DTEND;TZID=Europe/Berlin:20260125T120000
LOCATION:Hala ZŠ Vítězná Litovel\, Vítězná 1250 Litovel
SUMMARY:OLK-Z: TATRAN LITOVEL-VAM Olomouc
END:VEVENT
BEGIN:VEVENT
UID:39623438-6361-4663-b232-313262666139
DTSTAMP:20260421T134938Z
DESCRIPTION:6/17 TATRAN LITOVEL - VAM Olomouc 2:3 (15\,-10\,18\,-15\,-6)
DTSTART;TZID=Europe/Berlin:20260125T140000
DTEND;TZID=Europe/Berlin:20260125T160000
LOCATION:Hala ZŠ Vítězná Litovel\, Vítězná 1250 Litovel
SUMMARY:OLK-Z: TATRAN LITOVEL-VAM Olomouc
END:VEVENT
BEGIN:VEVENT
UID:61373831-3636-4338-b236-366630373632
DTSTAMP:20260421T134938Z
DESCRIPTION:9/25 TATRAN LITOVEL - TJ Šumperk 0:3 (-16\,-18\,-17)
DTSTART;TZID=Europe/Berlin:20260321T143000
DTEND;TZID=Europe/Berlin:20260321T163000
LOCATION:Hala ZŠ Vítězná Litovel\, Vítězná 1250 Litovel
SUMMARY:OLK-Z: TATRAN LITOVEL-TJ Šumperk
END:VEVENT
BEGIN:VEVENT
UID:30366332-3764-4832-a662-326336663636
DTSTAMP:20260421T134938Z
DESCRIPTION:10/28 TATRAN LITOVEL - TJ Šumperk 3:2 (19\,-17\,-23\,21\,7)
DTSTART;TZID=Europe/Berlin:20260321T173000
DTEND;TZID=Europe/Berlin:20260321T193000
LOCATION:Hala ZŠ Vítězná Litovel\, Vítězná 1250 Litovel
SUMMARY:OLK-Z: TATRAN LITOVEL-TJ Šumperk
END:VEVENT
BEGIN:VEVENT
UID:34663363-6432-4164-b363-663434653364
DTSTAMP:20260421T134938Z
DESCRIPTION:13/38 TATRAN LITOVEL - VK Prostějov C 3:2 (26\,-23\,22\,-24\,11
 )
DTSTART;TZID=Europe/Berlin:20260215T163000
DTEND;TZID=Europe/Berlin:20260215T183000
LOCATION:Hala ZŠ Vítězná Litovel\, Vítězná 1250 Litovel
SUMMARY:OLK-Z: TATRAN LITOVEL-VK Prostějov C
END:VEVENT
BEGIN:VEVENT
UID:38613732-6266-4233-b961-363330323531
DTSTAMP:20260421T134938Z
DESCRIPTION:14/41 TATRAN LITOVEL - VK Prostějov C 3:2 (-20\,11\,-22\,21\,7)
DTSTART;TZID=Europe/Berlin:20260215T183000
DTEND;TZID=Europe/Berlin:20260215T203000
LOCATION:Hala ZŠ Vítězná Litovel\, Vítězná 1250 Litovel
SUMMARY:OLK-Z: TATRAN LITOVEL-VK Prostějov C
END:VEVENT
BEGIN:VEVENT
UID:62323764-3164-4536-a134-633336663437
DTSTAMP:20260421T134938Z
DESCRIPTION:17/51 TATRAN LITOVEL - Olomouc UP 3:2 (14\,-27\,19\,-13\,11)
DTSTART;TZID=Europe/Berlin:20251101T100000
DTEND;TZID=Europe/Berlin:20251101T120000
LOCATION:Hala ZŠ Vítězná Litovel\, Vítězná 1250 Litovel
SUMMARY:OLK-Z: TATRAN LITOVEL-Olomouc UP
END:VEVENT
BEGIN:VEVENT
UID:61333464-3531-4634-b836-313630366135
DTSTAMP:20260421T134938Z
DESCRIPTION:18/54 TATRAN LITOVEL - Olomouc UP 3:0 (19\,22\,13)
DTSTART;TZID=Europe/Berlin:20251101T140000
DTEND;TZID=Europe/Berlin:20251101T160000
LOCATION:Hala ZŠ Vítězná Litovel\, Vítězná 1250 Litovel
SUMMARY:OLK-Z: TATRAN LITOVEL-Olomouc UP
END:VEVENT
BEGIN:VEVENT
UID:62363561-3939-4337-b733-353061353762
DTSTAMP:20260421T134938Z
DESCRIPTION:3/8 VK Prostějov C - TATRAN LITOVEL 1:3 (-21\,-17\,21\,-17)
DTSTART;TZID=Europe/Berlin:20251207T100000
DTEND;TZID=Europe/Berlin:20251207T120000
LOCATION:Letní tělocvična\, Za velodromem 4205 Prostějov
SUMMARY:OLK-Z: VK Prostějov C-TATRAN LITOVEL
END:VEVENT
BEGIN:VEVENT
UID:39326138-3434-4632-b237-356565356661
DTSTAMP:20260421T134938Z
DESCRIPTION:4/11 VK Prostějov C - TATRAN LITOVEL 0:3 (-19\,-14\,-20)
DTSTART;TZID=Europe/Berlin:20251207T140000
DTEND;TZID=Europe/Berlin:20251207T160000
LOCATION:Letní tělocvična\, Za velodromem 4205 Prostějov
SUMMARY:OLK-Z: VK Prostějov C-TATRAN LITOVEL
END:VEVENT
BEGIN:VEVENT
UID:63376638-3230-4437-b937-343333653536
DTSTAMP:20260421T134938Z
DESCRIPTION:7/21 Olomouc UP - TATRAN LITOVEL 1:3 (-8\,23\,-15\,-19)
DTSTART;TZID=Europe/Berlin:20251108T090000
DTEND;TZID=Europe/Berlin:20251108T110000
LOCATION:Střední škola zemědělská a zahradnická  \, U Hradiska 7 Olomouc - 
 Klášterní Hradisko
SUMMARY:OLK-Z: Olomouc UP-TATRAN LITOVEL
END:VEVENT
BEGIN:VEVENT
UID:65306237-3136-4661-b238-666466343438
DTSTAMP:20260421T134938Z
DESCRIPTION:8/24 Olomouc UP - TATRAN LITOVEL 1:3 (-9\,13\,-19\,-19)
DTSTART;TZID=Europe/Berlin:20251108T130000
DTEND;TZID=Europe/Berlin:20251108T150000
LOCATION:Střední škola zemědělská a zahradnická  \, U Hradiska 7 Olomouc - 
 Klášterní Hradisko
SUMMARY:OLK-Z: Olomouc UP-TATRAN LITOVEL
END:VEVENT
BEGIN:VEVENT
UID:37643461-3063-4239-b539-616235373965
DTSTAMP:20260421T134938Z
DESCRIPTION:11/33 Slavoj Loštice - TATRAN LITOVEL 0:3 (-21\,-14\,-19)
DTSTART;TZID=Europe/Berlin:20260103T100000
DTEND;TZID=Europe/Berlin:20260103T120000
LOCATION:Hala ZŠ Loštice\, Komenského 17 Loštice
SUMMARY:OLK-Z: Slavoj Loštice-TATRAN LITOVEL
END:VEVENT
BEGIN:VEVENT
UID:33343463-3830-4163-b438-356365396565
DTSTAMP:20260421T134938Z
DESCRIPTION:12/36 Slavoj Loštice - TATRAN LITOVEL 2:3 (21\,14\,-19\,-24\,-1
 3)
DTSTART;TZID=Europe/Berlin:20260103T140000
DTEND;TZID=Europe/Berlin:20260103T160000
LOCATION:Hala ZŠ Loštice\, Komenského 17 Loštice
SUMMARY:OLK-Z: Slavoj Loštice-TATRAN LITOVEL
END:VEVENT
BEGIN:VEVENT
UID:37653565-6337-4638-b662-373961643761
DTSTAMP:20260421T134938Z
DESCRIPTION:15/44 VAM Olomouc - TATRAN LITOVEL 3:1 (8\,12\,-18\,11)
DTSTART;TZID=Europe/Berlin:20260207T100000
DTEND;TZID=Europe/Berlin:20260207T120000
LOCATION:VOŠ a SPŠE Olomouc\, Božetěchova 755 Olomouc - Hodolany
SUMMARY:OLK-Z: VAM Olomouc-TATRAN LITOVEL
END:VEVENT
BEGIN:VEVENT
UID:34646362-6165-4366-b464-616230613433
DTSTAMP:20260421T134938Z
DESCRIPTION:16/47 VAM Olomouc - TATRAN LITOVEL 3:0 (22\,20\,15)
DTSTART;TZID=Europe/Berlin:20260207T140000
DTEND;TZID=Europe/Berlin:20260207T160000
LOCATION:VOŠ a SPŠE Olomouc\, Božetěchova 755 Olomouc - Hodolany
SUMMARY:OLK-Z: VAM Olomouc-TATRAN LITOVEL
END:VEVENT
BEGIN:VEVENT
UID:36336563-3633-4466-b464-306338353937
DTSTAMP:20260421T134938Z
DESCRIPTION:19/55 TJ Šumperk - TATRAN LITOVEL 3:0 (16\,13\,18)
DTSTART;TZID=Europe/Berlin:20260314T100000
DTEND;TZID=Europe/Berlin:20260314T120000
LOCATION:3. ZŠ Šumperk\, 8. května 870 Šumperk
SUMMARY:OLK-Z: TJ Šumperk-TATRAN LITOVEL
END:VEVENT
BEGIN:VEVENT
UID:62633538-3565-4739-b061-386432303539
DTSTAMP:20260421T134938Z
DESCRIPTION:20/58 TJ Šumperk - TATRAN LITOVEL 3:1 (-13\,19\,17\,24)
DTSTART;TZID=Europe/Berlin:20260314T140000
DTEND;TZID=Europe/Berlin:20260314T160000
LOCATION:3. ZŠ Šumperk\, 8. května 870 Šumperk
SUMMARY:OLK-Z: TJ Šumperk-TATRAN LITOVEL
END:VEVENT
END:VCALENDAR
