BEGIN:VCALENDAR
VERSION:2.0
PRODID:-//Volejbalové sdružení Drásov "B"90503//NONSGML kigkonsult.se iCalcreator 2.41.80//
CALSCALE:GREGORIAN
UID:33653634-3263-4335-a566-626438363065
BEGIN:VEVENT
UID:66336161-6661-4739-b363-396630343430
DTSTAMP:20260422T154810Z
DESCRIPTION:3/3 VS Drásov 'B' - K. Pole 0:2 (-6\,-5)
DTSTART;TZID=Europe/Berlin:20250920T114500
DTEND;TZID=Europe/Berlin:20250920T134500
LOCATION:STAREZ ARÉNA VODOVA (Malá hala)\, Vodova 336 Brno - Královo Pole
SUMMARY:JM-U16Z-KVA: VS Drásov 'B'-K. Pole
END:VEVENT
BEGIN:VEVENT
UID:32373434-6164-4265-b435-386435383962
DTSTAMP:20260422T154810Z
DESCRIPTION:2/2 Sokol Šlapanice B - VS Drásov 'B' 2:0 (25\,17)
DTSTART;TZID=Europe/Berlin:20250920T103000
DTEND;TZID=Europe/Berlin:20250920T123000
LOCATION:STAREZ ARÉNA VODOVA (Malá hala)\, Vodova 336 Brno - Královo Pole
SUMMARY:JM-U16Z-KVA: Sokol Šlapanice B-VS Drásov 'B'
END:VEVENT
BEGIN:VEVENT
UID:32373835-3965-4665-b234-306439396135
DTSTAMP:20260422T154810Z
DESCRIPTION:1/1 VS Drásov 'B' - VK Brno\, B 0:2 (-15\,-14)\nA3 vs B3
DTSTART;TZID=Europe/Berlin:20250920T130000
DTEND;TZID=Europe/Berlin:20250920T150000
LOCATION:STAREZ ARÉNA VODOVA (Malá hala)\, Vodova 336 Brno - Královo Pole
SUMMARY:JM-U16Z-KVABCIII: VS Drásov 'B'-VK Brno\, B
END:VEVENT
BEGIN:VEVENT
UID:30306262-3132-4363-b966-393330643563
DTSTAMP:20260422T154810Z
DESCRIPTION:3/3 HIPPO Kuřim - VS Drásov 'B' 0:2 (-10\,-22)\nC3 vs A3
DTSTART;TZID=Europe/Berlin:20250920T153000
DTEND;TZID=Europe/Berlin:20250920T173000
LOCATION:STAREZ ARÉNA VODOVA (Malá hala)\, Vodova 336 Brno - Královo Pole
SUMMARY:JM-U16Z-KVABCIII: HIPPO Kuřim-VS Drásov 'B'
END:VEVENT
BEGIN:VEVENT
UID:31326263-3133-4630-b564-343030326534
DTSTAMP:20260422T154810Z
DESCRIPTION:2/2 VS Drásov 'B' - VOLEJBAL VYŠKOV B 0:2 (-11\,-6)
DTSTART;TZID=Europe/Berlin:20251011T103000
DTEND;TZID=Europe/Berlin:20251011T123000
LOCATION:Sportovní hala Hrušovany u Brna\, Jízdárenská 698 Hrušovany u Brna
SUMMARY:JM-U16Z-IH: VS Drásov 'B'-VOLEJBAL VYŠKOV B
END:VEVENT
BEGIN:VEVENT
UID:37373132-3163-4434-b436-303863353131
DTSTAMP:20260422T154810Z
DESCRIPTION:5/5 VS Drásov 'B' - TJ JUNIOR Brno 0:2 (-7\,-23)
DTSTART;TZID=Europe/Berlin:20251011T141500
DTEND;TZID=Europe/Berlin:20251011T161500
LOCATION:Sportovní hala Hrušovany u Brna\, Jízdárenská 698 Hrušovany u Brna
SUMMARY:JM-U16Z-IH: VS Drásov 'B'-TJ JUNIOR Brno
END:VEVENT
BEGIN:VEVENT
UID:61333134-3863-4661-b035-343539326639
DTSTAMP:20260422T154810Z
DESCRIPTION:4/4 TJ Sokol Hrušovany u Brna - VS Drásov 'B' 2:0 (11\,17)
DTSTART;TZID=Europe/Berlin:20251011T130000
DTEND;TZID=Europe/Berlin:20251011T150000
LOCATION:Sportovní hala Hrušovany u Brna\, Jízdárenská 698 Hrušovany u Brna
SUMMARY:JM-U16Z-IH: TJ Sokol Hrušovany u Brna-VS Drásov 'B'
END:VEVENT
BEGIN:VEVENT
UID:66323639-3263-4630-a131-313135343564
DTSTAMP:20260422T154810Z
DESCRIPTION:2/2 VS Drásov 'B' - Sportovní klub SKUNK Unkovice\, z. s. 1:2 (
 18\,-24\,-8)
DTSTART;TZID=Europe/Berlin:20251025T103000
DTEND;TZID=Europe/Berlin:20251025T123000
LOCATION:ZŠ Jungmannova Kuřim\, Jungmannova 813 Kuřim
SUMMARY:JM-U16Z-IICH: VS Drásov 'B'-Sportovní klub SKUNK Unkovice\, z. s.
END:VEVENT
BEGIN:VEVENT
UID:38346663-3537-4837-b030-313663323261
DTSTAMP:20260422T154810Z
DESCRIPTION:1/1 HIPPO Kuřim - VS Drásov 'B' 0:2 (-14\,-15)
DTSTART;TZID=Europe/Berlin:20251025T090000
DTEND;TZID=Europe/Berlin:20251025T110000
LOCATION:ZŠ Jungmannova Kuřim\, Jungmannova 813 Kuřim
SUMMARY:JM-U16Z-IICH: HIPPO Kuřim-VS Drásov 'B'
END:VEVENT
BEGIN:VEVENT
UID:31646335-3137-4465-b265-376337353564
DTSTAMP:20260422T154810Z
DESCRIPTION:3/3 VS Drásov 'B' - VK Brno\, B 0:2 (-18\,-11)
DTSTART;TZID=Europe/Berlin:20251108T114500
DTEND;TZID=Europe/Berlin:20251108T134500
LOCATION:ZŠ Vejrostova\, Vejrostova 1066 Brno - Bystrc
SUMMARY:JM-U16Z-IIICH: VS Drásov 'B'-VK Brno\, B
END:VEVENT
BEGIN:VEVENT
UID:37646666-3835-4533-a632-613432386462
DTSTAMP:20260422T154810Z
DESCRIPTION:2/2 HIPPO Kuřim - VS Drásov 'B' 0:2 (-12\,-9)
DTSTART;TZID=Europe/Berlin:20251108T103000
DTEND;TZID=Europe/Berlin:20251108T123000
LOCATION:ZŠ Vejrostova\, Vejrostova 1066 Brno - Bystrc
SUMMARY:JM-U16Z-IIICH: HIPPO Kuřim-VS Drásov 'B'
END:VEVENT
BEGIN:VEVENT
UID:37363337-3364-4361-a339-343135653233
DTSTAMP:20260422T154810Z
DESCRIPTION:2/2 VS Drásov 'B' - Sokol Šlapanice B 2:0 (24\,18)
DTSTART;TZID=Europe/Berlin:20251122T103000
DTEND;TZID=Europe/Berlin:20251122T123000
LOCATION:ZŠ Jungmannova - nová\, Jungmannova 813 Kuřim
SUMMARY:JM-U16Z-IVCH: VS Drásov 'B'-Sokol Šlapanice B
END:VEVENT
BEGIN:VEVENT
UID:33616135-3463-4035-b136-323437623765
DTSTAMP:20260422T154810Z
DESCRIPTION:1/1 HIPPO Kuřim - VS Drásov 'B' 0:2 (-18\,-22)
DTSTART;TZID=Europe/Berlin:20251122T090000
DTEND;TZID=Europe/Berlin:20251122T110000
LOCATION:ZŠ Jungmannova - nová\, Jungmannova 813 Kuřim
SUMMARY:JM-U16Z-IVCH: HIPPO Kuřim-VS Drásov 'B'
END:VEVENT
BEGIN:VEVENT
UID:39373333-3739-4734-a336-636166346431
DTSTAMP:20260422T154810Z
DESCRIPTION:6/6 VS Drásov 'B' - TJ Sokol Jehnice 0:2 (-15\,-19)
DTSTART;TZID=Europe/Berlin:20251213T153000
DTEND;TZID=Europe/Berlin:20251213T173000
LOCATION:TJ Sokol Jehnice\, Blanenská 1 Brno - Jehnice
SUMMARY:JM-U16Z-VH: VS Drásov 'B'-TJ Sokol Jehnice
END:VEVENT
BEGIN:VEVENT
UID:65373861-3732-4239-b637-613866363832
DTSTAMP:20260422T154810Z
DESCRIPTION:2/2 TJ Slovan Ivančice\, z.s. - VS Drásov 'B' 2:0 (9\,9)
DTSTART;TZID=Europe/Berlin:20251213T103000
DTEND;TZID=Europe/Berlin:20251213T123000
LOCATION:TJ Sokol Jehnice\, Blanenská 1 Brno - Jehnice
SUMMARY:JM-U16Z-VH: TJ Slovan Ivančice\, z.s.-VS Drásov 'B'
END:VEVENT
BEGIN:VEVENT
UID:33393532-3661-4135-b330-393262646265
DTSTAMP:20260422T154810Z
DESCRIPTION:3/3 KP Brno D - VS Drásov 'B' 2:0 (9\,12)
DTSTART;TZID=Europe/Berlin:20251213T114500
DTEND;TZID=Europe/Berlin:20251213T134500
LOCATION:TJ Sokol Jehnice\, Blanenská 1 Brno - Jehnice
SUMMARY:JM-U16Z-VH: KP Brno D-VS Drásov 'B'
END:VEVENT
BEGIN:VEVENT
UID:34366335-3662-4361-b535-323331666566
DTSTAMP:20260422T154810Z
DESCRIPTION:3/3 VS Drásov 'B' - Sportovní klub SKUNK Unkovice\, z. s. 2:0 (
 24\,20)
DTSTART;TZID=Europe/Berlin:20260110T114500
DTEND;TZID=Europe/Berlin:20260110T134500
LOCATION:Kulturní dům Unkovice\,  Unkovice38
SUMMARY:JM-U16Z-VICH: VS Drásov 'B'-Sportovní klub SKUNK Unkovice\, z. s.
END:VEVENT
BEGIN:VEVENT
UID:33396535-3531-4562-b463-613931393063
DTSTAMP:20260422T154810Z
DESCRIPTION:2/2 HIPPO Kuřim - VS Drásov 'B' 2:1 (23\,-23\,10)
DTSTART;TZID=Europe/Berlin:20260110T103000
DTEND;TZID=Europe/Berlin:20260110T123000
LOCATION:Kulturní dům Unkovice\,  Unkovice38
SUMMARY:JM-U16Z-VICH: HIPPO Kuřim-VS Drásov 'B'
END:VEVENT
BEGIN:VEVENT
UID:35386339-3237-4166-a239-376630643666
DTSTAMP:20260422T154810Z
DESCRIPTION:2/2 VS Drásov 'B' - TJ JUNIOR Brno 0:2 (-23\,-21)
DTSTART;TZID=Europe/Berlin:20260131T103000
DTEND;TZID=Europe/Berlin:20260131T123000
LOCATION:TJ Sokol Jehnice\, Blanenská 1 Brno - Jehnice
SUMMARY:JM-U16Z-VIIH: VS Drásov 'B'-TJ JUNIOR Brno
END:VEVENT
BEGIN:VEVENT
UID:30373738-3365-4538-a430-633366643736
DTSTAMP:20260422T154810Z
DESCRIPTION:5/5 VS Drásov 'B' - KP Brno D 0:2 (-12\,-10)
DTSTART;TZID=Europe/Berlin:20260131T141500
DTEND;TZID=Europe/Berlin:20260131T161500
LOCATION:TJ Sokol Jehnice\, Blanenská 1 Brno - Jehnice
SUMMARY:JM-U16Z-VIIH: VS Drásov 'B'-KP Brno D
END:VEVENT
BEGIN:VEVENT
UID:38626462-3835-4138-a465-643462316538
DTSTAMP:20260422T154810Z
DESCRIPTION:4/4 TJ Sokol Jehnice - VS Drásov 'B' 2:0 (21\,12)
DTSTART;TZID=Europe/Berlin:20260131T130000
DTEND;TZID=Europe/Berlin:20260131T150000
LOCATION:TJ Sokol Jehnice\, Blanenská 1 Brno - Jehnice
SUMMARY:JM-U16Z-VIIH: TJ Sokol Jehnice-VS Drásov 'B'
END:VEVENT
BEGIN:VEVENT
UID:30346535-3639-4233-a634-343035663163
DTSTAMP:20260422T154810Z
DESCRIPTION:2/2 VS Drásov 'B' - HIPPO Kuřim 2:0 (17\,4)
DTSTART;TZID=Europe/Berlin:20260307T103000
DTEND;TZID=Europe/Berlin:20260307T123000
LOCATION:Kulturní dům Unkovice\,  Unkovice38
SUMMARY:JM-U16Z-VIIICH: VS Drásov 'B'-HIPPO Kuřim
END:VEVENT
BEGIN:VEVENT
UID:64663761-3636-4935-b663-623964633134
DTSTAMP:20260422T154810Z
DESCRIPTION:1/1 Sportovní klub SKUNK Unkovice\, z. s. - VS Drásov 'B' 1:2 (
 -16\,19\,-9)
DTSTART;TZID=Europe/Berlin:20260307T090000
DTEND;TZID=Europe/Berlin:20260307T110000
LOCATION:Kulturní dům Unkovice\,  Unkovice38
SUMMARY:JM-U16Z-VIIICH: Sportovní klub SKUNK Unkovice\, z. s.-VS Drásov 'B'
END:VEVENT
END:VCALENDAR
