BEGIN:VCALENDAR
VERSION:2.0
PRODID:-//VK Louka Lužánky - SVČ90505//NONSGML kigkonsult.se iCalcreator 2.41.80//
CALSCALE:GREGORIAN
UID:39343862-3438-4163-b133-323061343063
BEGIN:VEVENT
UID:63376131-3232-4566-b635-646233396539
DTSTAMP:20260422T221321Z
DESCRIPTION:3/3 VK Lužánky - Tělocvičná jednota Sokol Bučovice 0:2 (-13\,-1
 4)
DTSTART;TZID=Europe/Berlin:20250920T110000
DTEND;TZID=Europe/Berlin:20250920T130000
LOCATION:tělocvičny ZŠ Novolíšeňská\, Brno\, Novolíšeňská 2411 Brno - Líšeň
SUMMARY:JM-U16Z-KVJ: VK Lužánky-Tělocvičná jednota Sokol Bučovice
END:VEVENT
BEGIN:VEVENT
UID:34643764-3332-4762-b137-356331376537
DTSTAMP:20260422T221321Z
DESCRIPTION:1/1 TJ JUNIOR Brno - VK Lužánky 0:2 (-18\,-14)
DTSTART;TZID=Europe/Berlin:20250920T090000
DTEND;TZID=Europe/Berlin:20250920T110000
LOCATION:tělocvičny ZŠ Novolíšeňská\, Brno\, Novolíšeňská 2411 Brno - Líšeň
SUMMARY:JM-U16Z-KVJ: TJ JUNIOR Brno-VK Lužánky
END:VEVENT
BEGIN:VEVENT
UID:32373933-3862-4836-b237-376665626261
DTSTAMP:20260422T221321Z
DESCRIPTION:5/5 KP Brno D - VK Lužánky 0:2 (-23\,-10)
DTSTART;TZID=Europe/Berlin:20250920T130000
DTEND;TZID=Europe/Berlin:20250920T150000
LOCATION:tělocvičny ZŠ Novolíšeňská\, Brno\, Novolíšeňská 2411 Brno - Líšeň
SUMMARY:JM-U16Z-KVJ: KP Brno D-VK Lužánky
END:VEVENT
BEGIN:VEVENT
UID:31663736-3362-4565-b935-313962356233
DTSTAMP:20260422T221321Z
DESCRIPTION:2/2 VK Lužánky - KP Milénova Brno A 0:2 (-23\,-17)\n2J vs 2K
DTSTART;TZID=Europe/Berlin:20250920T150000
DTEND;TZID=Europe/Berlin:20250920T170000
LOCATION:ZŠ Čejkovická\, Čejkovická 4339 Brno - Židenice
SUMMARY:JM-U16Z-KVJK: VK Lužánky-KP Milénova Brno A
END:VEVENT
BEGIN:VEVENT
UID:34323261-3531-4932-b530-363165316436
DTSTAMP:20260422T221321Z
DESCRIPTION:3/3 VK Lužánky - Orel Křenovice 0:2 (-18\,-21)
DTSTART;TZID=Europe/Berlin:20251011T114500
DTEND;TZID=Europe/Berlin:20251011T134500
LOCATION:Tělocvična PSK Znojmo\, Pražská 2486 Znojmo
SUMMARY:JM-U16Z-ID: VK Lužánky-Orel Křenovice
END:VEVENT
BEGIN:VEVENT
UID:36346333-6561-4138-b461-353434653563
DTSTAMP:20260422T221321Z
DESCRIPTION:1/1 VK Znojmo - Přímětice - VK Lužánky 1:2 (-12\,23\,-10)
DTSTART;TZID=Europe/Berlin:20251011T090000
DTEND;TZID=Europe/Berlin:20251011T110000
LOCATION:Tělocvična PSK Znojmo\, Pražská 2486 Znojmo
SUMMARY:JM-U16Z-ID: VK Znojmo - Přímětice-VK Lužánky
END:VEVENT
BEGIN:VEVENT
UID:38383163-3335-4466-b063-343331653936
DTSTAMP:20260422T221321Z
DESCRIPTION:5/5 Sokol Šlapanice A - VK Lužánky 2:1 (-21\,19\,14)
DTSTART;TZID=Europe/Berlin:20251011T141500
DTEND;TZID=Europe/Berlin:20251011T161500
LOCATION:Tělocvična PSK Znojmo\, Pražská 2486 Znojmo
SUMMARY:JM-U16Z-ID: Sokol Šlapanice A-VK Lužánky
END:VEVENT
BEGIN:VEVENT
UID:30323430-6636-4163-b730-613265326365
DTSTAMP:20260422T221321Z
DESCRIPTION:1/1 VK Lužánky - VK Brno\, D 0:2 (-19\,-12)
DTSTART;TZID=Europe/Berlin:20251025T090000
DTEND;TZID=Europe/Berlin:20251025T110000
LOCATION:Hala SPŠ Stavební\, Kudelova 1855 Brno - Černá Pole
SUMMARY:JM-U16Z-IID: VK Lužánky-VK Brno\, D
END:VEVENT
BEGIN:VEVENT
UID:37383230-6230-4361-b636-333932373933
DTSTAMP:20260422T221321Z
DESCRIPTION:4/4 VK Lužánky - VK Znojmo - Přímětice 1:2 (21\,-19\,-11)
DTSTART;TZID=Europe/Berlin:20251025T130000
DTEND;TZID=Europe/Berlin:20251025T150000
LOCATION:Hala SPŠ Stavební\, Kudelova 1855 Brno - Černá Pole
SUMMARY:JM-U16Z-IID: VK Lužánky-VK Znojmo - Přímětice
END:VEVENT
BEGIN:VEVENT
UID:38323038-3065-4836-b837-376163656133
DTSTAMP:20260422T221321Z
DESCRIPTION:6/6 VOLEJBAL VYŠKOV A - VK Lužánky 0:2 (-21\,-11)
DTSTART;TZID=Europe/Berlin:20251025T153000
DTEND;TZID=Europe/Berlin:20251025T173000
LOCATION:Hala SPŠ Stavební\, Kudelova 1855 Brno - Černá Pole
SUMMARY:JM-U16Z-IID: VOLEJBAL VYŠKOV A-VK Lužánky
END:VEVENT
BEGIN:VEVENT
UID:39316465-6462-4331-b938-356531366530
DTSTAMP:20260422T221321Z
DESCRIPTION:1/1 VK Lužánky - KP Milénova Brno B 0:2 (-17\,-8)
DTSTART;TZID=Europe/Berlin:20251108T090000
DTEND;TZID=Europe/Berlin:20251108T110000
LOCATION:Hala SPŠ Stavební\, Kudelova 1855 Brno - Černá Pole
SUMMARY:JM-U16Z-IIID: VK Lužánky-KP Milénova Brno B
END:VEVENT
BEGIN:VEVENT
UID:65666662-6162-4966-a135-396536633330
DTSTAMP:20260422T221321Z
DESCRIPTION:4/4 VK Lužánky - VK Znojmo - Přímětice 0:2 (-23\,-21)
DTSTART;TZID=Europe/Berlin:20251108T130000
DTEND;TZID=Europe/Berlin:20251108T150000
LOCATION:Hala SPŠ Stavební\, Kudelova 1855 Brno - Černá Pole
SUMMARY:JM-U16Z-IIID: VK Lužánky-VK Znojmo - Přímětice
END:VEVENT
BEGIN:VEVENT
UID:32643633-3962-4037-b262-316639303563
DTSTAMP:20260422T221321Z
DESCRIPTION:6/6 Orel Křenovice - VK Lužánky 2:0 (15\,24)
DTSTART;TZID=Europe/Berlin:20251108T153000
DTEND;TZID=Europe/Berlin:20251108T173000
LOCATION:Hala SPŠ Stavební\, Kudelova 1855 Brno - Černá Pole
SUMMARY:JM-U16Z-IIID: Orel Křenovice-VK Lužánky
END:VEVENT
BEGIN:VEVENT
UID:32626639-3731-4434-b430-323963363861
DTSTAMP:20260422T221321Z
DESCRIPTION:6/6 VK Lužánky - VOLEJBAL VYŠKOV A 2:0 (19\,21)
DTSTART;TZID=Europe/Berlin:20251122T153000
DTEND;TZID=Europe/Berlin:20251122T173000
LOCATION:ZŠ Čejkovická\, Čejkovická 4339 Brno - Židenice
SUMMARY:JM-U16Z-IVE: VK Lužánky-VOLEJBAL VYŠKOV A
END:VEVENT
BEGIN:VEVENT
UID:30333536-3036-4533-a630-306438313331
DTSTAMP:20260422T221321Z
DESCRIPTION:2/2 VK Znojmo - Přímětice - VK Lužánky 2:0 (12\,18)
DTSTART;TZID=Europe/Berlin:20251122T103000
DTEND;TZID=Europe/Berlin:20251122T123000
LOCATION:Tělocvična ZŠ Prokopa Diviše a MŠ\, Ke Škole 569 Znojmo - Přímětic
 e
SUMMARY:JM-U16Z-IVE: VK Znojmo - Přímětice-VK Lužánky
END:VEVENT
BEGIN:VEVENT
UID:36363665-6539-4237-a436-633463383132
DTSTAMP:20260422T221321Z
DESCRIPTION:3/3 Sokol Šlapanice A - VK Lužánky 2:0 (15\,9)
DTSTART;TZID=Europe/Berlin:20251122T114500
DTEND;TZID=Europe/Berlin:20251122T134500
LOCATION:Tělocvična ZŠ Šlapanice\, Masarykovo náměstí 1594 Šlapanice
SUMMARY:JM-U16Z-IVE: Sokol Šlapanice A-VK Lužánky
END:VEVENT
BEGIN:VEVENT
UID:62643833-6665-4236-b762-663131633864
DTSTAMP:20260422T221321Z
DESCRIPTION:3/6 VK Lužánky - TJ SOKOL LETOVICE\, z.s. 0:2 (-18\,-21)
DTSTART;TZID=Europe/Berlin:20251213T114500
DTEND;TZID=Europe/Berlin:20251213T134500
LOCATION:ZŠ Komenského Letovice\, Komenského 902 Letovice
SUMMARY:JM-U16Z-VF: VK Lužánky-TJ SOKOL LETOVICE\, z.s.
END:VEVENT
BEGIN:VEVENT
UID:31653930-6635-4365-b563-393433623261
DTSTAMP:20260422T221321Z
DESCRIPTION:1/2 TJ Agrotec Hustopeče - VK Lužánky 2:1 (23\,-16\,12)
DTSTART;TZID=Europe/Berlin:20251213T090000
DTEND;TZID=Europe/Berlin:20251213T110000
LOCATION:ZŠ Komenského Letovice\, Komenského 902 Letovice
SUMMARY:JM-U16Z-VF: TJ Agrotec Hustopeče-VK Lužánky
END:VEVENT
BEGIN:VEVENT
UID:32323463-3062-4337-a131-643639356339
DTSTAMP:20260422T221321Z
DESCRIPTION:2/3 VS Drásov 'A' - VK Lužánky 2:0 (23\,13)
DTSTART;TZID=Europe/Berlin:20251213T103000
DTEND;TZID=Europe/Berlin:20251213T123000
LOCATION:ZŠ Komenského Letovice\, Komenského 902 Letovice
SUMMARY:JM-U16Z-VF: VS Drásov 'A'-VK Lužánky
END:VEVENT
BEGIN:VEVENT
UID:32326535-6661-4437-a431-633466323965
DTSTAMP:20260422T221321Z
DESCRIPTION:1/2 VK Lužánky - TJ Slovan Ivančice\, z.s. 2:1 (11\,-26\,9)
DTSTART;TZID=Europe/Berlin:20260110T090000
DTEND;TZID=Europe/Berlin:20260110T110000
LOCATION:tělocvičny ZŠ Novolíšeňská\, Brno\, Novolíšeňská 2411 Brno - Líšeň
SUMMARY:JM-U16Z-VIG: VK Lužánky-TJ Slovan Ivančice\, z.s.
END:VEVENT
BEGIN:VEVENT
UID:39363538-3330-4038-b462-353839313033
DTSTAMP:20260422T221321Z
DESCRIPTION:3/5 VK Lužánky - TJ Sokol Újezd u Brna 2:1 (20\,-23\,13)
DTSTART;TZID=Europe/Berlin:20260110T114500
DTEND;TZID=Europe/Berlin:20260110T134500
LOCATION:tělocvičny ZŠ Novolíšeňská\, Brno\, Novolíšeňská 2411 Brno - Líšeň
SUMMARY:JM-U16Z-VIG: VK Lužánky-TJ Sokol Újezd u Brna
END:VEVENT
BEGIN:VEVENT
UID:66326232-3434-4131-b435-393364363834
DTSTAMP:20260422T221321Z
DESCRIPTION:2/4 TJ JUNIOR Brno - VK Lužánky 0:2 (-18\,-21)
DTSTART;TZID=Europe/Berlin:20260110T103000
DTEND;TZID=Europe/Berlin:20260110T123000
LOCATION:tělocvičny ZŠ Novolíšeňská\, Brno\, Novolíšeňská 2411 Brno - Líšeň
SUMMARY:JM-U16Z-VIG: TJ JUNIOR Brno-VK Lužánky
END:VEVENT
BEGIN:VEVENT
UID:31636534-3732-4333-a161-353333613161
DTSTAMP:20260422T221321Z
DESCRIPTION:1/2 VK Lužánky - TJ Sokol Hrušovany u Brna 0:2 (-22\,-25)
DTSTART;TZID=Europe/Berlin:20260131T090000
DTEND;TZID=Europe/Berlin:20260131T110000
LOCATION:Městská sportovní hala\, Šafaříkova 1016 Hustopeče
SUMMARY:JM-U16Z-VIIF: VK Lužánky-TJ Sokol Hrušovany u Brna
END:VEVENT
BEGIN:VEVENT
UID:31353765-6234-4963-b865-333463656337
DTSTAMP:20260422T221321Z
DESCRIPTION:3/5 VK Lužánky - VK Znojmo - Přímětice 2:1 (-17\,17\,15)
DTSTART;TZID=Europe/Berlin:20260131T114500
DTEND;TZID=Europe/Berlin:20260131T134500
LOCATION:Městská sportovní hala\, Šafaříkova 1016 Hustopeče
SUMMARY:JM-U16Z-VIIF: VK Lužánky-VK Znojmo - Přímětice
END:VEVENT
BEGIN:VEVENT
UID:38376161-3062-4638-a438-666362336162
DTSTAMP:20260422T221321Z
DESCRIPTION:2/4 TJ Agrotec Hustopeče - VK Lužánky 2:0 (12\,19)
DTSTART;TZID=Europe/Berlin:20260131T103000
DTEND;TZID=Europe/Berlin:20260131T123000
LOCATION:Městská sportovní hala\, Šafaříkova 1016 Hustopeče
SUMMARY:JM-U16Z-VIIF: TJ Agrotec Hustopeče-VK Lužánky
END:VEVENT
BEGIN:VEVENT
UID:38393463-3133-4364-b332-663936303965
DTSTAMP:20260422T221321Z
DESCRIPTION:6/6 VK Lužánky - VOLEJBAL VYŠKOV A 2:0 (23\,7)
DTSTART;TZID=Europe/Berlin:20260307T153000
DTEND;TZID=Europe/Berlin:20260307T173000
LOCATION:ZŠ Čejkovická\, Čejkovická 4339 Brno - Židenice
SUMMARY:JM-U16Z-VIIIG: VK Lužánky-VOLEJBAL VYŠKOV A
END:VEVENT
BEGIN:VEVENT
UID:62373336-3564-4234-a439-633164616562
DTSTAMP:20260422T221321Z
DESCRIPTION:2/2 VK Brno\, B - VK Lužánky 0:2 (-15\,-14)
DTSTART;TZID=Europe/Berlin:20260307T103000
DTEND;TZID=Europe/Berlin:20260307T123000
LOCATION:ZŠ Vejrostova\, Vejrostova 1066 Brno - Bystrc
SUMMARY:JM-U16Z-VIIIG: VK Brno\, B-VK Lužánky
END:VEVENT
BEGIN:VEVENT
UID:65366164-3562-4234-a265-393961616361
DTSTAMP:20260422T221321Z
DESCRIPTION:3/3 KP Brno D - VK Lužánky 2:0 (21\,20)
DTSTART;TZID=Europe/Berlin:20260307T114500
DTEND;TZID=Europe/Berlin:20260307T134500
LOCATION:Sportovní gymnázium Ludvíka Daňka\, Botanická 63 Brno - Ponava
SUMMARY:JM-U16Z-VIIIG: KP Brno D-VK Lužánky
END:VEVENT
END:VCALENDAR
