BEGIN:VCALENDAR
VERSION:2.0
PRODID:-//Tělocvičná jednota Sokol Pardubice I.90506//NONSGML kigkonsult.se iCalcreator 2.41.80//
CALSCALE:GREGORIAN
UID:63313362-3265-4764-b436-393866363934
BEGIN:VEVENT
UID:64323435-6362-4862-b163-306638313236
DTSTAMP:20260422T033940Z
DESCRIPTION:2/6 T.J. Sokol Pardubice I. - TJ Svitavy 0:2 (-25\,-23)
DTSTART;TZID=Europe/Berlin:20250913T114000
DTEND;TZID=Europe/Berlin:20250913T134000
LOCATION:Sportovní hala\, Masarykovo nám. 108 Lázně Bohdaneč
SUMMARY:CP-U16Z-V1D: T.J. Sokol Pardubice I.-TJ Svitavy
END:VEVENT
BEGIN:VEVENT
UID:37363133-3530-4434-b164-383239626133
DTSTAMP:20260422T033940Z
DESCRIPTION:3/9 T.J. Sokol Pardubice I. - Sokol Předklášteří 2:0 (9\,18)
DTSTART;TZID=Europe/Berlin:20250913T125000
DTEND;TZID=Europe/Berlin:20250913T145000
LOCATION:Sportovní hala\, Masarykovo nám. 108 Lázně Bohdaneč
SUMMARY:CP-U16Z-V1D: T.J. Sokol Pardubice I.-Sokol Předklášteří
END:VEVENT
BEGIN:VEVENT
UID:36376164-3732-4166-a662-373638633032
DTSTAMP:20260422T033940Z
DESCRIPTION:7/19 T.J. Sokol Pardubice I. - Třebíč 2:0 (18\,12)
DTSTART;TZID=Europe/Berlin:20250914T090000
DTEND;TZID=Europe/Berlin:20250914T110000
LOCATION:Sportovní hala\, Masarykovo nám. 108 Lázně Bohdaneč
SUMMARY:CP-U16Z-V1D: T.J. Sokol Pardubice I.-Třebíč
END:VEVENT
BEGIN:VEVENT
UID:37386266-6530-4865-b935-336162306634
DTSTAMP:20260422T033940Z
DESCRIPTION:10/28 T.J. Sokol Pardubice I. - K. Pole 0:2 (-15\,-21)
DTSTART;TZID=Europe/Berlin:20250914T123000
DTEND;TZID=Europe/Berlin:20250914T143000
LOCATION:Sportovní hala\, Masarykovo nám. 108 Lázně Bohdaneč
SUMMARY:CP-U16Z-V1D: T.J. Sokol Pardubice I.-K. Pole
END:VEVENT
BEGIN:VEVENT
UID:36363235-3032-4132-b437-326439666134
DTSTAMP:20260422T033940Z
DESCRIPTION:1/3 TJ Žďár nad Sázavou - T.J. Sokol Pardubice I. 0:2 (-11\,-18
 )
DTSTART;TZID=Europe/Berlin:20250913T103000
DTEND;TZID=Europe/Berlin:20250913T123000
LOCATION:Sportovní hala na Bouchalkách\, Jungmannova 1495 Žďár nad Sázavou 
 - Žďár nad Sázavou 1
SUMMARY:CP-U16Z-V1D: TJ Žďár nad Sázavou-T.J. Sokol Pardubice I.
END:VEVENT
BEGIN:VEVENT
UID:36363130-6132-4337-b461-653262643562
DTSTAMP:20260422T033940Z
DESCRIPTION:6/15 TJ Agrotec Hustopeče - T.J. Sokol Pardubice I. 0:2 (-7\,-5
 )
DTSTART;TZID=Europe/Berlin:20250913T162000
DTEND;TZID=Europe/Berlin:20250913T182000
LOCATION:Městská sportovní hala\, Šafaříkova 1016 Hustopeče
SUMMARY:CP-U16Z-V1D: TJ Agrotec Hustopeče-T.J. Sokol Pardubice I.
END:VEVENT
BEGIN:VEVENT
UID:61653865-3031-4666-b633-376365623136
DTSTAMP:20260422T033940Z
DESCRIPTION:9/24 TJ Sokol Dolní Újezd - T.J. Sokol Pardubice I. 2:1 (25\,-1
 4\,9)
DTSTART;TZID=Europe/Berlin:20250914T112000
DTEND;TZID=Europe/Berlin:20250914T132000
LOCATION:tělocvična Základní školy\,  Dolní Újezd342
SUMMARY:CP-U16Z-V1D: TJ Sokol Dolní Újezd-T.J. Sokol Pardubice I.
END:VEVENT
BEGIN:VEVENT
UID:65346463-3835-4335-b533-323135653332
DTSTAMP:20260422T033940Z
DESCRIPTION:3/7 T.J. Sokol Pardubice I. - VK Olomouc 0:2 (-16\,-15)
DTSTART;TZID=Europe/Berlin:20251018T130000
DTEND;TZID=Europe/Berlin:20251018T150000
LOCATION:Sportovní hala\, Masarykovo nám. 108 Lázně Bohdaneč
SUMMARY:CP-U16Z-V2B: T.J. Sokol Pardubice I.-VK Olomouc
END:VEVENT
BEGIN:VEVENT
UID:64623530-3536-4661-b061-376639633631
DTSTAMP:20260422T033940Z
DESCRIPTION:5/13 T.J. Sokol Pardubice I. - VSC Zlín 0:2 (-24\,-24)
DTSTART;TZID=Europe/Berlin:20251018T160000
DTEND;TZID=Europe/Berlin:20251018T180000
LOCATION:Sportovní hala\, Masarykovo nám. 108 Lázně Bohdaneč
SUMMARY:CP-U16Z-V2B: T.J. Sokol Pardubice I.-VSC Zlín
END:VEVENT
BEGIN:VEVENT
UID:36386137-3330-4165-b464-303032613862
DTSTAMP:20260422T033940Z
DESCRIPTION:10/27 T.J. Sokol Pardubice I. - TJ Sokol Dolní Újezd 2:0 (22\,1
 2)
DTSTART;TZID=Europe/Berlin:20251019T124500
DTEND;TZID=Europe/Berlin:20251019T144500
LOCATION:Sportovní hala\, Masarykovo nám. 108 Lázně Bohdaneč
SUMMARY:CP-U16Z-V2B: T.J. Sokol Pardubice I.-TJ Sokol Dolní Újezd
END:VEVENT
BEGIN:VEVENT
UID:38323334-6663-4765-a264-376337643562
DTSTAMP:20260422T033940Z
DESCRIPTION:2/5 Slavia H.Králové - T.J. Sokol Pardubice I. 2:1 (-19\,14\,3)
DTSTART;TZID=Europe/Berlin:20251018T113000
DTEND;TZID=Europe/Berlin:20251018T133000
LOCATION:TJ Slavia Hradec Králové\, Víta Nejedlého 1216 Hradec Králové
SUMMARY:CP-U16Z-V2B: Slavia H.Králové-T.J. Sokol Pardubice I.
END:VEVENT
BEGIN:VEVENT
UID:33653430-6531-4563-a636-653062656363
DTSTAMP:20260422T033940Z
DESCRIPTION:4/10 Jihlava - T.J. Sokol Pardubice I. 1:2 (-22\,26\,-9)
DTSTART;TZID=Europe/Berlin:20251018T143000
DTEND;TZID=Europe/Berlin:20251018T163000
LOCATION:ZŠ Jihlava Demlova\, Demlova 4178 Jihlava
SUMMARY:CP-U16Z-V2B: Jihlava-T.J. Sokol Pardubice I.
END:VEVENT
BEGIN:VEVENT
UID:32383330-6531-4033-b838-383162663163
DTSTAMP:20260422T033940Z
DESCRIPTION:7/19 TJ Sokol Frýdek - Místek - T.J. Sokol Pardubice I. 2:0 (17
 \,17)
DTSTART;TZID=Europe/Berlin:20251019T090000
DTEND;TZID=Europe/Berlin:20251019T110000
LOCATION:ZŠ Pionýrů 400 Frýdek-Místek\, Pionýrů 400 Frýdek-Místek - Místek
SUMMARY:CP-U16Z-V2B: TJ Sokol Frýdek - Místek-T.J. Sokol Pardubice I.
END:VEVENT
BEGIN:VEVENT
UID:39633861-6639-4563-b964-666465663265
DTSTAMP:20260422T033940Z
DESCRIPTION:9/23 Znojmo - T.J. Sokol Pardubice I. 2:0 (18\,14)
DTSTART;TZID=Europe/Berlin:20251019T113000
DTEND;TZID=Europe/Berlin:20251019T133000
LOCATION:Tělocvična ZŠ Prokopa Diviše a MŠ\, Ke Škole 569 Znojmo - Přímětic
 e
SUMMARY:CP-U16Z-V2B: Znojmo-T.J. Sokol Pardubice I.
END:VEVENT
BEGIN:VEVENT
UID:65326131-3461-4062-b831-333339616364
DTSTAMP:20260422T033940Z
DESCRIPTION:1/3 T.J. Sokol Pardubice I. - TJ Svitavy 0:2 (-17\,-20)
DTSTART;TZID=Europe/Berlin:20251129T100000
DTEND;TZID=Europe/Berlin:20251129T120000
LOCATION:Sportovní hala\, Masarykovo nám. 108 Lázně Bohdaneč
SUMMARY:CP-U16Z-V3B: T.J. Sokol Pardubice I.-TJ Svitavy
END:VEVENT
BEGIN:VEVENT
UID:37626633-3130-4161-a636-393065623261
DTSTAMP:20260422T033940Z
DESCRIPTION:5/14 T.J. Sokol Pardubice I. - Jihlava 1:2 (-10\,17\,-7)
DTSTART;TZID=Europe/Berlin:20251129T154500
DTEND;TZID=Europe/Berlin:20251129T174500
LOCATION:Sportovní hala\, Masarykovo nám. 108 Lázně Bohdaneč
SUMMARY:CP-U16Z-V3B: T.J. Sokol Pardubice I.-Jihlava
END:VEVENT
BEGIN:VEVENT
UID:61653963-6437-4131-a562-313532623734
DTSTAMP:20260422T033940Z
DESCRIPTION:9/23 T.J. Sokol Pardubice I. - TJ Spartak Polička 2:0 (26\,24)
DTSTART;TZID=Europe/Berlin:20251130T113000
DTEND;TZID=Europe/Berlin:20251130T133000
LOCATION:Sportovní hala\, Masarykovo nám. 108 Lázně Bohdaneč
SUMMARY:CP-U16Z-V3B: T.J. Sokol Pardubice I.-TJ Spartak Polička
END:VEVENT
BEGIN:VEVENT
UID:30306535-3432-4264-a165-396363633334
DTSTAMP:20260422T033940Z
DESCRIPTION:2/6 Slavia H.Králové - T.J. Sokol Pardubice I. 0:2 (-20\,-4)
DTSTART;TZID=Europe/Berlin:20251129T111500
DTEND;TZID=Europe/Berlin:20251129T131500
LOCATION:TJ Slavia Hradec Králové\, Víta Nejedlého 1216 Hradec Králové
SUMMARY:CP-U16Z-V3B: Slavia H.Králové-T.J. Sokol Pardubice I.
END:VEVENT
BEGIN:VEVENT
UID:63613231-3465-4335-b439-303266623538
DTSTAMP:20260422T033940Z
DESCRIPTION:3/8 SVK Nový Jičín - T.J. Sokol Pardubice I. 0:2 (-18\,-20)
DTSTART;TZID=Europe/Berlin:20251129T123000
DTEND;TZID=Europe/Berlin:20251129T143000
LOCATION:Hala ABC\, Purkyňova 116 Nový Jičín
SUMMARY:CP-U16Z-V3B: SVK Nový Jičín-T.J. Sokol Pardubice I.
END:VEVENT
BEGIN:VEVENT
UID:65363530-3430-4838-b138-633539616633
DTSTAMP:20260422T033940Z
DESCRIPTION:8/20 VK Olomouc - T.J. Sokol Pardubice I. 2:0 (17\,19)
DTSTART;TZID=Europe/Berlin:20251130T101500
DTEND;TZID=Europe/Berlin:20251130T121500
LOCATION:ZS Tererova \, Tererovo nám. 919 Olomouc - Nová Ulice
SUMMARY:CP-U16Z-V3B: VK Olomouc-T.J. Sokol Pardubice I.
END:VEVENT
BEGIN:VEVENT
UID:65613263-6437-4939-b064-393534643136
DTSTAMP:20260422T033940Z
DESCRIPTION:10/28 VK Polanka - T.J. Sokol Pardubice I. 2:0 (19\,18)
DTSTART;TZID=Europe/Berlin:20251130T124500
DTEND;TZID=Europe/Berlin:20251130T144500
LOCATION:Sportovní hala\, Heleny Salichové 1275 Ostrava - Polanka nad Odrou
SUMMARY:CP-U16Z-V3B: VK Polanka-T.J. Sokol Pardubice I.
END:VEVENT
BEGIN:VEVENT
UID:30326365-3035-4135-b135-313137393639
DTSTAMP:20260422T033940Z
DESCRIPTION:4/11 T.J. Sokol Pardubice I. - VK Olomouc 1:2 (19\,-16\,-8)
DTSTART;TZID=Europe/Berlin:20260117T143000
DTEND;TZID=Europe/Berlin:20260117T163000
LOCATION:Sportovní hala\, Masarykovo nám. 108 Lázně Bohdaneč
SUMMARY:CP-U16Z4D: T.J. Sokol Pardubice I.-VK Olomouc
END:VEVENT
BEGIN:VEVENT
UID:33356336-6465-4132-b362-323133303462
DTSTAMP:20260422T033940Z
DESCRIPTION:8/20 T.J. Sokol Pardubice I. - S V B C 2:0 (21\,16)
DTSTART;TZID=Europe/Berlin:20260118T103000
DTEND;TZID=Europe/Berlin:20260118T123000
LOCATION:Sportovní hala\, Masarykovo nám. 108 Lázně Bohdaneč
SUMMARY:CP-U16Z4D: T.J. Sokol Pardubice I.-S V B C
END:VEVENT
BEGIN:VEVENT
UID:37376130-6333-4936-a537-666433336233
DTSTAMP:20260422T033940Z
DESCRIPTION:1/2 Střešovice - T.J. Sokol Pardubice I. 2:0 (16\,20)
DTSTART;TZID=Europe/Berlin:20260117T173000
DTEND;TZID=Europe/Berlin:20260117T193000
LOCATION:TJ Tatran Střešovice - tělocvična\, Sibeliova 368 Praha - Střešovi
 ce
SUMMARY:CP-U16Z4D: Střešovice-T.J. Sokol Pardubice I.
END:VEVENT
BEGIN:VEVENT
UID:63336666-3562-4462-a366-316465363835
DTSTAMP:20260422T033940Z
DESCRIPTION:2/5 TJ Slovan Varnsdorf - T.J. Sokol Pardubice I. 2:0 (16\,19)
DTSTART;TZID=Europe/Berlin:20260117T113000
DTEND;TZID=Europe/Berlin:20260117T133000
SUMMARY:CP-U16Z4D: TJ Slovan Varnsdorf-T.J. Sokol Pardubice I.
END:VEVENT
BEGIN:VEVENT
UID:62303466-3831-4662-b939-323233623931
DTSTAMP:20260422T033940Z
DESCRIPTION:5/14 Jihlava - T.J. Sokol Pardubice I. 1:2 (-20\,17\,-13)
DTSTART;TZID=Europe/Berlin:20260117T160000
DTEND;TZID=Europe/Berlin:20260117T180000
LOCATION:ZŠ Jihlava Demlova\, Demlova 4178 Jihlava
SUMMARY:CP-U16Z4D: Jihlava-T.J. Sokol Pardubice I.
END:VEVENT
BEGIN:VEVENT
UID:36633564-3765-4132-b563-336233333461
DTSTAMP:20260422T033940Z
DESCRIPTION:7/19 VK Jirkov - T.J. Sokol Pardubice I. 0:2 (-23\,-12)
DTSTART;TZID=Europe/Berlin:20260118T090000
DTEND;TZID=Europe/Berlin:20260118T110000
LOCATION:sportovní hala MGZŠ Krušnohorská Jirkov Jirkov\, Krušnohorská 1675
SUMMARY:CP-U16Z4D: VK Jirkov-T.J. Sokol Pardubice I.
END:VEVENT
BEGIN:VEVENT
UID:62373332-3933-4333-b130-616163393166
DTSTAMP:20260422T033940Z
DESCRIPTION:10/26 TJ Bižuterie Jablonec n/N - T.J. Sokol Pardubice I. 2:1 (
 -14\,15\,11)
DTSTART;TZID=Europe/Berlin:20260118T133000
DTEND;TZID=Europe/Berlin:20260118T153000
LOCATION:Městská sportovní hala\, U Přehrady 4747 Jablonec nad Nisou
SUMMARY:CP-U16Z4D: TJ Bižuterie Jablonec n/N-T.J. Sokol Pardubice I.
END:VEVENT
BEGIN:VEVENT
UID:38353235-3465-4436-b565-333535323236
DTSTAMP:20260422T033940Z
DESCRIPTION:3/5 T.J. Sokol Pardubice I. - Klatovy 2:0 (12\,20)
DTSTART;TZID=Europe/Berlin:20260207T113000
DTEND;TZID=Europe/Berlin:20260207T133000
LOCATION:TJ Slavia Hradec Králové\, Víta Nejedlého 1216 Hradec Králové
SUMMARY:CP-U16Z5D: T.J. Sokol Pardubice I.-Klatovy
END:VEVENT
BEGIN:VEVENT
UID:62653537-6166-4036-a264-383633363733
DTSTAMP:20260422T033940Z
DESCRIPTION:7/13 T.J. Sokol Pardubice I. - TJ Slovan Varnsdorf 2:0 (22\,20)
DTSTART;TZID=Europe/Berlin:20260207T163000
DTEND;TZID=Europe/Berlin:20260207T183000
LOCATION:TJ Slavia Hradec Králové\, Víta Nejedlého 1216 Hradec Králové
SUMMARY:CP-U16Z5D: T.J. Sokol Pardubice I.-TJ Slovan Varnsdorf
END:VEVENT
BEGIN:VEVENT
UID:36313233-3364-4161-a364-333164616130
DTSTAMP:20260422T033940Z
DESCRIPTION:11/21 T.J. Sokol Pardubice I. - Střešovice 0:2 (-18\,-19)
DTSTART;TZID=Europe/Berlin:20260208T113000
DTEND;TZID=Europe/Berlin:20260208T133000
LOCATION:TJ Slavia Hradec Králové\, Víta Nejedlého 1216 Hradec Králové
SUMMARY:CP-U16Z5D: T.J. Sokol Pardubice I.-Střešovice
END:VEVENT
BEGIN:VEVENT
UID:30613164-6366-4335-b138-316535396139
DTSTAMP:20260422T033940Z
DESCRIPTION:1/1 Slavia H.Králové - T.J. Sokol Pardubice I. 2:0 (18\,22)
DTSTART;TZID=Europe/Berlin:20260207T090000
DTEND;TZID=Europe/Berlin:20260207T110000
LOCATION:TJ Slavia Hradec Králové\, Víta Nejedlého 1216 Hradec Králové
SUMMARY:CP-U16Z5D: Slavia H.Králové-T.J. Sokol Pardubice I.
END:VEVENT
BEGIN:VEVENT
UID:36383231-6431-4338-b333-303336306364
DTSTAMP:20260422T033940Z
DESCRIPTION:5/9 SK Kometa Praha - T.J. Sokol Pardubice I. 0:2 (-8\,-24)
DTSTART;TZID=Europe/Berlin:20260207T140000
DTEND;TZID=Europe/Berlin:20260207T160000
LOCATION:TJ Slavia Hradec Králové\, Víta Nejedlého 1216 Hradec Králové
SUMMARY:CP-U16Z5D: SK Kometa Praha-T.J. Sokol Pardubice I.
END:VEVENT
BEGIN:VEVENT
UID:33656663-3134-4430-a262-353065666337
DTSTAMP:20260422T033940Z
DESCRIPTION:9/17 TJ Bižuterie Jablonec n/N - T.J. Sokol Pardubice I. 2:1 (-
 21\,21\,11)
DTSTART;TZID=Europe/Berlin:20260208T090000
DTEND;TZID=Europe/Berlin:20260208T110000
LOCATION:TJ Slavia Hradec Králové\, Víta Nejedlého 1216 Hradec Králové
SUMMARY:CP-U16Z5D: TJ Bižuterie Jablonec n/N-T.J. Sokol Pardubice I.
END:VEVENT
BEGIN:VEVENT
UID:39666662-6337-4637-b238-316336313936
DTSTAMP:20260422T033940Z
DESCRIPTION:13/25 TJ Spartak Polička - T.J. Sokol Pardubice I. 1:2 (-23\,21
 \,-14)
DTSTART;TZID=Europe/Berlin:20260208T140000
DTEND;TZID=Europe/Berlin:20260208T160000
LOCATION:TJ Slavia Hradec Králové\, Víta Nejedlého 1216 Hradec Králové
SUMMARY:CP-U16Z5D: TJ Spartak Polička-T.J. Sokol Pardubice I.
END:VEVENT
BEGIN:VEVENT
UID:64383238-3961-4262-a335-303065306536
DTSTAMP:20260422T033940Z
DESCRIPTION:1/2 T.J. Sokol Pardubice I. - TJ Bižuterie Jablonec n/N 0:2 (-1
 8\,-19)
DTSTART;TZID=Europe/Berlin:20260328T100000
DTEND;TZID=Europe/Berlin:20260328T120000
LOCATION:Sportovní hala\, Masarykovo nám. 108 Lázně Bohdaneč
SUMMARY:CP-U16Z6G: T.J. Sokol Pardubice I.-TJ Bižuterie Jablonec n/N
END:VEVENT
BEGIN:VEVENT
UID:64653165-3962-4130-b938-316636396335
DTSTAMP:20260422T033940Z
DESCRIPTION:3/9 T.J. Sokol Pardubice I. - TJ Svitavy 1:2 (-22\,23\,-8)
DTSTART;TZID=Europe/Berlin:20260328T123000
DTEND;TZID=Europe/Berlin:20260328T143000
LOCATION:Sportovní hala\, Masarykovo nám. 108 Lázně Bohdaneč
SUMMARY:CP-U16Z6G: T.J. Sokol Pardubice I.-TJ Svitavy
END:VEVENT
BEGIN:VEVENT
UID:36623663-6666-4430-b236-383735306539
DTSTAMP:20260422T033940Z
DESCRIPTION:7/17 T.J. Sokol Pardubice I. - TJ Spartak Polička 1:2 (-25\,23\
 ,-10)
DTSTART;TZID=Europe/Berlin:20260329T090000
DTEND;TZID=Europe/Berlin:20260329T110000
LOCATION:Sportovní hala\, Masarykovo nám. 108 Lázně Bohdaneč
SUMMARY:CP-U16Z6G: T.J. Sokol Pardubice I.-TJ Spartak Polička
END:VEVENT
BEGIN:VEVENT
UID:62363234-3930-4632-a635-333434326137
DTSTAMP:20260422T033940Z
DESCRIPTION:8/20 T.J. Sokol Pardubice I. - SK Kometa Praha 0:2 (-25\,-22)
DTSTART;TZID=Europe/Berlin:20260329T101500
DTEND;TZID=Europe/Berlin:20260329T121500
LOCATION:Sportovní hala\, Masarykovo nám. 108 Lázně Bohdaneč
SUMMARY:CP-U16Z6G: T.J. Sokol Pardubice I.-SK Kometa Praha
END:VEVENT
BEGIN:VEVENT
UID:66666134-3365-4730-a135-346231656630
DTSTAMP:20260422T033940Z
DESCRIPTION:4/11 VSC Zlín - T.J. Sokol Pardubice I. 2:0 (24\,15)
DTSTART;TZID=Europe/Berlin:20260328T143000
DTEND;TZID=Europe/Berlin:20260328T163000
LOCATION:ZŠ Okružní Zlín\, Okružní 4685 Zlín
SUMMARY:CP-U16Z6G: VSC Zlín-T.J. Sokol Pardubice I.
END:VEVENT
BEGIN:VEVENT
UID:34373736-3031-4233-b365-336462313463
DTSTAMP:20260422T033940Z
DESCRIPTION:5/15 VK Slavia Plzeň - T.J. Sokol Pardubice I. 0:2 (-23\,-22)
DTSTART;TZID=Europe/Berlin:20260328T154500
DTEND;TZID=Europe/Berlin:20260328T174500
LOCATION:Tělocvična 15.ZŠ\, Terezie Brzkové 863 Plzeň - Skvrňany
SUMMARY:CP-U16Z6G: VK Slavia Plzeň-T.J. Sokol Pardubice I.
END:VEVENT
BEGIN:VEVENT
UID:66633137-3637-4131-b334-396635333364
DTSTAMP:20260422T033940Z
DESCRIPTION:9/24 Volejbal Ústí n. L. - T.J. Sokol Pardubice I. 1:2 (-21\,12
 \,-13)
DTSTART;TZID=Europe/Berlin:20260329T113000
DTEND;TZID=Europe/Berlin:20260329T133000
LOCATION:Tělocvična Gymnázia a Střední odborné školy dr. Václava Šmejkala\,
  Stará 3299 Ústí nad Labem - Severní Terasa
SUMMARY:CP-U16Z6G: Volejbal Ústí n. L.-T.J. Sokol Pardubice I.
END:VEVENT
END:VCALENDAR
