BEGIN:VCALENDAR
VERSION:2.0
PRODID:-//VK Šantovka Olomouc UP C90509//NONSGML kigkonsult.se iCalcreator 2.41.80//
CALSCALE:GREGORIAN
UID:63633538-3861-4562-b438-646332626262
BEGIN:VEVENT
UID:39646630-6336-4236-b263-313563333165
DTSTAMP:20260421T120722Z
DESCRIPTION:1/1 Volejbal Přerov A - VK Olomouc C 2:0 (18\,11)\nkurt A
DTSTART;TZID=Europe/Berlin:20250920T090000
DTEND;TZID=Europe/Berlin:20250920T110000
LOCATION:Městská sportovní hala\, Petřivalského 2884 Přerov - Přerov I-Měst
 o
SUMMARY:OLK-U14Z-KC: Volejbal Přerov A-VK Olomouc C
END:VEVENT
BEGIN:VEVENT
UID:64343532-3936-4533-b063-363839313336
DTSTAMP:20260421T120722Z
DESCRIPTION:4/4 Prostějov B - VK Olomouc C 2:0 (16\,16)\nkurt B
DTSTART;TZID=Europe/Berlin:20250920T100000
DTEND;TZID=Europe/Berlin:20250920T120000
LOCATION:Městská sportovní hala\, Petřivalského 2884 Přerov - Přerov I-Měst
 o
SUMMARY:OLK-U14Z-KC: Prostějov B-VK Olomouc C
END:VEVENT
BEGIN:VEVENT
UID:64363966-3064-4538-a263-333433393233
DTSTAMP:20260421T120722Z
DESCRIPTION:6/6 KRS Uničov - VK Olomouc C 2:0 (12\,17)\nkurt B
DTSTART;TZID=Europe/Berlin:20250920T110000
DTEND;TZID=Europe/Berlin:20250920T130000
LOCATION:Městská sportovní hala\, Petřivalského 2884 Přerov - Přerov I-Měst
 o
SUMMARY:OLK-U14Z-KC: KRS Uničov-VK Olomouc C
END:VEVENT
BEGIN:VEVENT
UID:39633830-6134-4137-b336-666135306330
DTSTAMP:20260421T120722Z
DESCRIPTION:2/2 VK Olomouc C - VK Olomouc B 0:2 (-17\,-16)\nkurt A
DTSTART;TZID=Europe/Berlin:20251004T090000
DTEND;TZID=Europe/Berlin:20251004T110000
LOCATION:Farmak\, U Hradiska 157 Olomouc - Klášterní Hradisko
SUMMARY:OLK-U14Z-1D: VK Olomouc C-VK Olomouc B
END:VEVENT
BEGIN:VEVENT
UID:38383434-6361-4136-a637-303336366537
DTSTAMP:20260421T120722Z
DESCRIPTION:3/3 VA MUNI SPORT D - VK Olomouc C 2:1 (-19\,19\,14)\nkurt B
DTSTART;TZID=Europe/Berlin:20251004T100000
DTEND;TZID=Europe/Berlin:20251004T120000
LOCATION:Farmak\, U Hradiska 157 Olomouc - Klášterní Hradisko
SUMMARY:OLK-U14Z-1D: VA MUNI SPORT D-VK Olomouc C
END:VEVENT
BEGIN:VEVENT
UID:61663933-3835-4539-b731-363231383236
DTSTAMP:20260421T120722Z
DESCRIPTION:6/6 Volejbal Přerov B - VK Olomouc C 0:2 (-20\,-21)\nkurt B
DTSTART;TZID=Europe/Berlin:20251004T110000
DTEND;TZID=Europe/Berlin:20251004T130000
LOCATION:Farmak\, U Hradiska 157 Olomouc - Klášterní Hradisko
SUMMARY:OLK-U14Z-1D: Volejbal Přerov B-VK Olomouc C
END:VEVENT
BEGIN:VEVENT
UID:63373836-3639-4933-a464-316638656366
DTSTAMP:20260421T120722Z
DESCRIPTION:2/2 VK Olomouc C - VA MUNI SPORT D 2:0 (22\,12)\nkurt C
DTSTART;TZID=Europe/Berlin:20251018T100000
DTEND;TZID=Europe/Berlin:20251018T120000
LOCATION:Městská sportovní hala\, Petřivalského 2884 Přerov - Přerov I-Měst
 o
SUMMARY:OLK-U14Z-2D: VK Olomouc C-VA MUNI SPORT D
END:VEVENT
BEGIN:VEVENT
UID:64343834-3663-4232-b636-393430633566
DTSTAMP:20260421T120722Z
DESCRIPTION:6/6 VK Olomouc C - Volejbal Přerov B 0:2 (-16\,-23)\nkurt C
DTSTART;TZID=Europe/Berlin:20251018T140000
DTEND;TZID=Europe/Berlin:20251018T160000
LOCATION:Městská sportovní hala\, Petřivalského 2884 Přerov - Přerov I-Měst
 o
SUMMARY:OLK-U14Z-2D: VK Olomouc C-Volejbal Přerov B
END:VEVENT
BEGIN:VEVENT
UID:33343432-6265-4332-b861-616435623666
DTSTAMP:20260421T120722Z
DESCRIPTION:3/3 VAM Olomouc B - VK Olomouc C 2:0 (6\,21)\nkurt C
DTSTART;TZID=Europe/Berlin:20251018T110000
DTEND;TZID=Europe/Berlin:20251018T130000
LOCATION:Městská sportovní hala\, Petřivalského 2884 Přerov - Přerov I-Měst
 o
SUMMARY:OLK-U14Z-2D: VAM Olomouc B-VK Olomouc C
END:VEVENT
BEGIN:VEVENT
UID:34633433-6237-4637-b063-623930656538
DTSTAMP:20260421T120722Z
DESCRIPTION:4/4 VK Olomouc C - VA MUNI SPORT D 2:0 (14\,18)\nkurt A
DTSTART;TZID=Europe/Berlin:20251101T100000
DTEND;TZID=Europe/Berlin:20251101T120000
LOCATION:Farmak\, U Hradiska 157 Olomouc - Klášterní Hradisko
SUMMARY:OLK-U14Z-3D: VK Olomouc C-VA MUNI SPORT D
END:VEVENT
BEGIN:VEVENT
UID:63353137-6165-4534-b961-663132623138
DTSTAMP:20260421T120722Z
DESCRIPTION:1/1 TJ Šumperk - VK Olomouc C 2:0 (22\,16)\nkurt A
DTSTART;TZID=Europe/Berlin:20251101T090000
DTEND;TZID=Europe/Berlin:20251101T110000
LOCATION:Farmak\, U Hradiska 157 Olomouc - Klášterní Hradisko
SUMMARY:OLK-U14Z-3D: TJ Šumperk-VK Olomouc C
END:VEVENT
BEGIN:VEVENT
UID:32353964-3835-4663-b662-376164663138
DTSTAMP:20260421T120722Z
DESCRIPTION:6/6 Volejbal Přerov B - VK Olomouc C 2:0 (22\,21)\nkurt A
DTSTART;TZID=Europe/Berlin:20251101T110000
DTEND;TZID=Europe/Berlin:20251101T130000
LOCATION:Farmak\, U Hradiska 157 Olomouc - Klášterní Hradisko
SUMMARY:OLK-U14Z-3D: Volejbal Přerov B-VK Olomouc C
END:VEVENT
BEGIN:VEVENT
UID:33623538-3435-4161-a330-643634366434
DTSTAMP:20260421T120722Z
DESCRIPTION:2/2 VK Olomouc C - VA MUNI SPORT D 0:2 (-19\,-23)
DTSTART;TZID=Europe/Berlin:20251129T100000
DTEND;TZID=Europe/Berlin:20251129T120000
LOCATION:Sportovní hala\, Kouřílkova 1028 Přerov - Přerov I-Město
SUMMARY:OLK-U14Z-4D: VK Olomouc C-VA MUNI SPORT D
END:VEVENT
BEGIN:VEVENT
UID:38393536-6432-4161-b463-663166326562
DTSTAMP:20260421T120722Z
DESCRIPTION:3/3 Prostějov C - VK Olomouc C 1:2 (-22\,11\,-13)
DTSTART;TZID=Europe/Berlin:20251129T110000
DTEND;TZID=Europe/Berlin:20251129T130000
LOCATION:Sportovní hala\, Kouřílkova 1028 Přerov - Přerov I-Město
SUMMARY:OLK-U14Z-4D: Prostějov C-VK Olomouc C
END:VEVENT
BEGIN:VEVENT
UID:38616662-3366-4531-b665-666464656461
DTSTAMP:20260421T120722Z
DESCRIPTION:6/6 Volejbal Přerov B - VK Olomouc C 2:1 (-17\,21\,8)
DTSTART;TZID=Europe/Berlin:20251129T140000
DTEND;TZID=Europe/Berlin:20251129T160000
LOCATION:Sportovní hala\, Kouřílkova 1028 Přerov - Přerov I-Město
SUMMARY:OLK-U14Z-4D: Volejbal Přerov B-VK Olomouc C
END:VEVENT
BEGIN:VEVENT
UID:32346633-3735-4530-a136-386234336631
DTSTAMP:20260421T120722Z
DESCRIPTION:6/6 VK Olomouc C - Volejbal Přerov B 2:0 (12\,22)\nkurt B
DTSTART;TZID=Europe/Berlin:20251214T110000
DTEND;TZID=Europe/Berlin:20251214T130000
LOCATION:Sportovní hala Němčice nad Hanou\, Tyršova 651 Němčice nad Hanou
SUMMARY:OLK-U14Z-5D: VK Olomouc C-Volejbal Přerov B
END:VEVENT
BEGIN:VEVENT
UID:35633066-6636-4161-a237-656664663339
DTSTAMP:20260421T120722Z
DESCRIPTION:1/1 VA MUNI SPORT D - VK Olomouc C 1:2 (-14\,14\,-7)\nkurt A
DTSTART;TZID=Europe/Berlin:20251214T090000
DTEND;TZID=Europe/Berlin:20251214T110000
LOCATION:Sportovní hala Němčice nad Hanou\, Tyršova 651 Němčice nad Hanou
SUMMARY:OLK-U14Z-5D: VA MUNI SPORT D-VK Olomouc C
END:VEVENT
BEGIN:VEVENT
UID:63393030-3763-4466-b966-653466313561
DTSTAMP:20260421T120722Z
DESCRIPTION:3/3 TJ Šumperk - VK Olomouc C 2:1 (-14\,19\,11)\nkurt B
DTSTART;TZID=Europe/Berlin:20251214T100000
DTEND;TZID=Europe/Berlin:20251214T120000
LOCATION:Sportovní hala Němčice nad Hanou\, Tyršova 651 Němčice nad Hanou
SUMMARY:OLK-U14Z-5D: TJ Šumperk-VK Olomouc C
END:VEVENT
BEGIN:VEVENT
UID:65323666-6464-4838-a565-643132376262
DTSTAMP:20260421T120722Z
DESCRIPTION:4/4 VK Olomouc C - Volejbal Přerov B 2:0 (18\,10)\nkurt B
DTSTART;TZID=Europe/Berlin:20260117T100000
DTEND;TZID=Europe/Berlin:20260117T120000
LOCATION:Farmak\, U Hradiska 157 Olomouc - Klášterní Hradisko
SUMMARY:OLK-U14Z-6D: VK Olomouc C-Volejbal Přerov B
END:VEVENT
BEGIN:VEVENT
UID:63333037-3832-4263-b237-643438643039
DTSTAMP:20260421T120722Z
DESCRIPTION:6/6 VK Olomouc C - VA MUNI SPORT D 2:0 (8\,19)\nkurt B
DTSTART;TZID=Europe/Berlin:20260117T110000
DTEND;TZID=Europe/Berlin:20260117T130000
LOCATION:Farmak\, U Hradiska 157 Olomouc - Klášterní Hradisko
SUMMARY:OLK-U14Z-6D: VK Olomouc C-VA MUNI SPORT D
END:VEVENT
BEGIN:VEVENT
UID:36623262-3133-4361-b333-323165333939
DTSTAMP:20260421T120722Z
DESCRIPTION:1/1 VK Olomouc B - VK Olomouc C 2:0 (18\,22)\nkurt A
DTSTART;TZID=Europe/Berlin:20260117T090000
DTEND;TZID=Europe/Berlin:20260117T110000
LOCATION:Farmak\, U Hradiska 157 Olomouc - Klášterní Hradisko
SUMMARY:OLK-U14Z-6D: VK Olomouc B-VK Olomouc C
END:VEVENT
BEGIN:VEVENT
UID:62303033-3338-4635-a431-323230666135
DTSTAMP:20260421T120722Z
DESCRIPTION:3/3 VK Olomouc C - Volejbal Přerov B 2:1 (19\,-20\,12)
DTSTART;TZID=Europe/Berlin:20260124T110000
DTEND;TZID=Europe/Berlin:20260124T130000
LOCATION:Letní tělocvična\, Za velodromem 4205 Prostějov
SUMMARY:OLK-U14Z-7D: VK Olomouc C-Volejbal Přerov B
END:VEVENT
BEGIN:VEVENT
UID:65356166-6336-4066-b366-613731363463
DTSTAMP:20260421T120722Z
DESCRIPTION:5/5 VK Olomouc C - VA MUNI SPORT D 2:1 (24\,-21\,7)
DTSTART;TZID=Europe/Berlin:20260124T130000
DTEND;TZID=Europe/Berlin:20260124T150000
LOCATION:Letní tělocvična\, Za velodromem 4205 Prostějov
SUMMARY:OLK-U14Z-7D: VK Olomouc C-VA MUNI SPORT D
END:VEVENT
BEGIN:VEVENT
UID:61323730-3030-4933-b166-383238346536
DTSTAMP:20260421T120722Z
DESCRIPTION:1/1 Prostějov C - VK Olomouc C 2:0 (13\,13)
DTSTART;TZID=Europe/Berlin:20260124T090000
DTEND;TZID=Europe/Berlin:20260124T110000
LOCATION:Letní tělocvična\, Za velodromem 4205 Prostějov
SUMMARY:OLK-U14Z-7D: Prostějov C-VK Olomouc C
END:VEVENT
BEGIN:VEVENT
UID:61393238-3163-4334-b939-643630393166
DTSTAMP:20260421T120722Z
DESCRIPTION:3/3 VK Olomouc C - VA MUNI SPORT D 0:2 (-23\,-21)\nkurt A
DTSTART;TZID=Europe/Berlin:20260307T100000
DTEND;TZID=Europe/Berlin:20260307T120000
LOCATION:Farmak\, U Hradiska 157 Olomouc - Klášterní Hradisko
SUMMARY:OLK-U14Z-8D: VK Olomouc C-VA MUNI SPORT D
END:VEVENT
BEGIN:VEVENT
UID:66663734-3961-4230-b665-633036633531
DTSTAMP:20260421T120722Z
DESCRIPTION:5/5 VK Olomouc C - Volejbal Přerov B 2:0 (20\,23)\nkurt A
DTSTART;TZID=Europe/Berlin:20260307T110000
DTEND;TZID=Europe/Berlin:20260307T130000
LOCATION:Farmak\, U Hradiska 157 Olomouc - Klášterní Hradisko
SUMMARY:OLK-U14Z-8D: VK Olomouc C-Volejbal Přerov B
END:VEVENT
BEGIN:VEVENT
UID:30623463-6165-4332-b236-393465366437
DTSTAMP:20260421T120722Z
DESCRIPTION:1/1 KRS Uničov - VK Olomouc C 2:1 (-24\,6\,4)\nkurt A
DTSTART;TZID=Europe/Berlin:20260307T090000
DTEND;TZID=Europe/Berlin:20260307T110000
LOCATION:Farmak\, U Hradiska 157 Olomouc - Klášterní Hradisko
SUMMARY:OLK-U14Z-8D: KRS Uničov-VK Olomouc C
END:VEVENT
BEGIN:VEVENT
UID:64663464-3937-4637-b566-613061626666
DTSTAMP:20260421T120722Z
DESCRIPTION:4/4 VK Olomouc C - Volejbal Přerov B 2:1 (-17\,22\,13)\nkurt B
DTSTART;TZID=Europe/Berlin:20260314T120000
DTEND;TZID=Europe/Berlin:20260314T140000
LOCATION:Sportovní hala Němčice nad Hanou\, Tyršova 651 Němčice nad Hanou
SUMMARY:OLK-U14Z-9D: VK Olomouc C-Volejbal Přerov B
END:VEVENT
BEGIN:VEVENT
UID:33386562-6334-4332-b238-306134386234
DTSTAMP:20260421T120722Z
DESCRIPTION:1/1 VA MUNI SPORT D - VK Olomouc C 0:2 (-20\,-20)\nkurt B
DTSTART;TZID=Europe/Berlin:20260314T090000
DTEND;TZID=Europe/Berlin:20260314T110000
LOCATION:Sportovní hala Němčice nad Hanou\, Tyršova 651 Němčice nad Hanou
SUMMARY:OLK-U14Z-9D: VA MUNI SPORT D-VK Olomouc C
END:VEVENT
BEGIN:VEVENT
UID:38316333-3033-4133-b538-363131306139
DTSTAMP:20260421T120722Z
DESCRIPTION:5/5 TJ Šumperk - VK Olomouc C 2:1 (-20\,13\,12)\nkurt B
DTSTART;TZID=Europe/Berlin:20260314T130000
DTEND;TZID=Europe/Berlin:20260314T150000
LOCATION:Sportovní hala Němčice nad Hanou\, Tyršova 651 Němčice nad Hanou
SUMMARY:OLK-U14Z-9D: TJ Šumperk-VK Olomouc C
END:VEVENT
BEGIN:VEVENT
UID:37356634-6365-4235-a166-313062383135
DTSTAMP:20260421T120722Z
DESCRIPTION:1/1 VK Olomouc C - VA MUNI SPORT D 0:2 (-22\,-25)\nkurt B
DTSTART;TZID=Europe/Berlin:20260411T090000
DTEND;TZID=Europe/Berlin:20260411T110000
LOCATION:Městská sportovní hala\, Petřivalského 2884 Přerov - Přerov I-Měst
 o
SUMMARY:OLK-U14Z-10D: VK Olomouc C-VA MUNI SPORT D
END:VEVENT
BEGIN:VEVENT
UID:63393235-3633-4136-a362-393634356431
DTSTAMP:20260421T120722Z
DESCRIPTION:6/6 VK Olomouc C - Volejbal Přerov B 2:0 (17\,25)\nkurt A
DTSTART;TZID=Europe/Berlin:20260411T110000
DTEND;TZID=Europe/Berlin:20260411T130000
LOCATION:Městská sportovní hala\, Petřivalského 2884 Přerov - Přerov I-Měst
 o
SUMMARY:OLK-U14Z-10D: VK Olomouc C-Volejbal Přerov B
END:VEVENT
BEGIN:VEVENT
UID:39363737-6235-4165-b963-396265396631
DTSTAMP:20260421T120722Z
DESCRIPTION:3/3 KRS Uničov - VK Olomouc C 2:0 (14\,13)\nkurt B
DTSTART;TZID=Europe/Berlin:20260411T100000
DTEND;TZID=Europe/Berlin:20260411T120000
LOCATION:Městská sportovní hala\, Petřivalského 2884 Přerov - Přerov I-Měst
 o
SUMMARY:OLK-U14Z-10D: KRS Uničov-VK Olomouc C
END:VEVENT
END:VCALENDAR
