BEGIN:VCALENDAR
VERSION:2.0
PRODID:-//VO TJ Lanškroun B90534//NONSGML kigkonsult.se iCalcreator 2.41.80//
CALSCALE:GREGORIAN
UID:62323965-3537-4735-a438-376530663438
BEGIN:VEVENT
UID:63316335-3931-4135-b934-303466303535
DTSTAMP:20260422T052721Z
DESCRIPTION:7/26 Lanškroun B - TJ Svitavy 3:0 (15\,22\,9)
DTSTART;TZID=Europe/Berlin:20251101T100000
DTEND;TZID=Europe/Berlin:20251101T120000
LOCATION:Tělocvična ZŠ\,  Horní Čermná128
SUMMARY:PA-U18Z: Lanškroun B-TJ Svitavy
END:VEVENT
BEGIN:VEVENT
UID:66376630-3864-4761-b361-613564393461
DTSTAMP:20260422T052721Z
DESCRIPTION:8/30 Lanškroun B - TJ Svitavy 3:0 (15\,8\,15)
DTSTART;TZID=Europe/Berlin:20251101T130000
DTEND;TZID=Europe/Berlin:20251101T150000
LOCATION:Tělocvična ZŠ\,  Horní Čermná128
SUMMARY:PA-U18Z: Lanškroun B-TJ Svitavy
END:VEVENT
BEGIN:VEVENT
UID:35336263-3735-4262-a261-313834343565
DTSTAMP:20260422T052721Z
DESCRIPTION:13/52 Lanškroun B - Sokol Pardubice I. 3:0 (10\,15\,17)
DTSTART;TZID=Europe/Berlin:20251206T100000
DTEND;TZID=Europe/Berlin:20251206T120000
LOCATION:SOŠ a SOU Lanškroun\, Sokolská 288 Lanškroun - Ostrovské Předměstí
SUMMARY:PA-U18Z: Lanškroun B-Sokol Pardubice I.
END:VEVENT
BEGIN:VEVENT
UID:65633839-6264-4161-a638-343964353539
DTSTAMP:20260422T052722Z
DESCRIPTION:14/56 Lanškroun B - Sokol Pardubice I. 3:0 (18\,15\,19)
DTSTART;TZID=Europe/Berlin:20251206T130000
DTEND;TZID=Europe/Berlin:20251206T150000
LOCATION:SOŠ a SOU Lanškroun\, Sokolská 288 Lanškroun - Ostrovské Předměstí
SUMMARY:PA-U18Z: Lanškroun B-Sokol Pardubice I.
END:VEVENT
BEGIN:VEVENT
UID:31623236-3631-4336-b931-303466663037
DTSTAMP:20260422T052722Z
DESCRIPTION:15/58 Lanškroun B - Tělocvičná jednota Sokol Chrudim 3:0 (6\,9\
 ,16)
DTSTART;TZID=Europe/Berlin:20260117T100000
DTEND;TZID=Europe/Berlin:20260117T120000
LOCATION:Tělocvična ZŠ\,  Horní Čermná128
SUMMARY:PA-U18Z: Lanškroun B-Tělocvičná jednota Sokol Chrudim
END:VEVENT
BEGIN:VEVENT
UID:64643032-3337-4262-b338-333366393435
DTSTAMP:20260422T052722Z
DESCRIPTION:16/62 Lanškroun B - Tělocvičná jednota Sokol Chrudim 3:0 (15\,1
 3\,12)
DTSTART;TZID=Europe/Berlin:20260117T130000
DTEND;TZID=Europe/Berlin:20260117T150000
LOCATION:Tělocvična ZŠ\,  Horní Čermná128
SUMMARY:PA-U18Z: Lanškroun B-Tělocvičná jednota Sokol Chrudim
END:VEVENT
BEGIN:VEVENT
UID:35323565-3134-4235-b630-333532383162
DTSTAMP:20260422T052722Z
DESCRIPTION:17/67 Lanškroun B - Volejbalový klub Litomyšl\, z.s. 3:0 (5\,5\
 ,10)
DTSTART;TZID=Europe/Berlin:20260124T100000
DTEND;TZID=Europe/Berlin:20260124T120000
LOCATION:Tělocvična ZŠ\,  Horní Čermná128
SUMMARY:PA-U18Z: Lanškroun B-Volejbalový klub Litomyšl\, z.s.
END:VEVENT
BEGIN:VEVENT
UID:66323361-3662-4635-b236-613039376466
DTSTAMP:20260422T052722Z
DESCRIPTION:18/71 Lanškroun B - Volejbalový klub Litomyšl\, z.s. 3:0 (10\,4
 \,15)
DTSTART;TZID=Europe/Berlin:20260124T130000
DTEND;TZID=Europe/Berlin:20260124T150000
LOCATION:Tělocvična ZŠ\,  Horní Čermná128
SUMMARY:PA-U18Z: Lanškroun B-Volejbalový klub Litomyšl\, z.s.
END:VEVENT
BEGIN:VEVENT
UID:37333565-6563-4337-b866-346262656462
DTSTAMP:20260422T052722Z
DESCRIPTION:19/75 Lanškroun B - TJ Spartak Polička\, z.s. 3:2 (18\,-17\,-23
 \,19\,13)
DTSTART;TZID=Europe/Berlin:20260221T100000
DTEND;TZID=Europe/Berlin:20260221T120000
LOCATION:Tělocvična ZŠ\,  Horní Čermná128
SUMMARY:PA-U18Z: Lanškroun B-TJ Spartak Polička\, z.s.
END:VEVENT
BEGIN:VEVENT
UID:37316361-6130-4138-b861-666431306563
DTSTAMP:20260422T052722Z
DESCRIPTION:20/79 Lanškroun B - TJ Spartak Polička\, z.s. 3:0 (16\,5\,17)
DTSTART;TZID=Europe/Berlin:20260221T130000
DTEND;TZID=Europe/Berlin:20260221T150000
LOCATION:Tělocvična ZŠ\,  Horní Čermná128
SUMMARY:PA-U18Z: Lanškroun B-TJ Spartak Polička\, z.s.
END:VEVENT
BEGIN:VEVENT
UID:37666366-3532-4165-a539-373339666162
DTSTAMP:20260422T052722Z
DESCRIPTION:23/92 Lanškroun B - TJ Energetik Chvaletice z.s. 3:0 (16\,22\,1
 9)
DTSTART;TZID=Europe/Berlin:20260314T100000
DTEND;TZID=Europe/Berlin:20260314T120000
LOCATION:Tělocvična ZŠ\,  Horní Čermná128
SUMMARY:PA-U18Z: Lanškroun B-TJ Energetik Chvaletice z.s.
END:VEVENT
BEGIN:VEVENT
UID:39323035-3430-4461-b838-366136613933
DTSTAMP:20260422T052722Z
DESCRIPTION:24/96 Lanškroun B - TJ Energetik Chvaletice z.s. 3:0 (8\,19\,18
 )
DTSTART;TZID=Europe/Berlin:20260314T130000
DTEND;TZID=Europe/Berlin:20260314T150000
LOCATION:Tělocvična ZŠ\,  Horní Čermná128
SUMMARY:PA-U18Z: Lanškroun B-TJ Energetik Chvaletice z.s.
END:VEVENT
BEGIN:VEVENT
UID:63646366-3162-4638-a465-623966663038
DTSTAMP:20260422T052722Z
DESCRIPTION:1/2 Tělocvičná jednota Sokol Chrudim - Lanškroun B 0:3 (-6\,-12
 \,-7)
DTSTART;TZID=Europe/Berlin:20251004T100000
DTEND;TZID=Europe/Berlin:20251004T120000
LOCATION:, Tyršovo náměstí 12 Chrudim - Chrudim II
SUMMARY:PA-U18Z: Tělocvičná jednota Sokol Chrudim-Lanškroun B
END:VEVENT
BEGIN:VEVENT
UID:35343831-6261-4462-b035-346338356236
DTSTAMP:20260422T052722Z
DESCRIPTION:2/6 Tělocvičná jednota Sokol Chrudim - Lanškroun B 0:3 (-7\,-8\
 ,-9)
DTSTART;TZID=Europe/Berlin:20251004T130000
DTEND;TZID=Europe/Berlin:20251004T150000
LOCATION:, Tyršovo náměstí 12 Chrudim - Chrudim II
SUMMARY:PA-U18Z: Tělocvičná jednota Sokol Chrudim-Lanškroun B
END:VEVENT
BEGIN:VEVENT
UID:64393137-3433-4062-b966-343032366331
DTSTAMP:20260422T052722Z
DESCRIPTION:3/11 Volejbalový klub Litomyšl\, z.s. - Lanškroun B 0:3 (-11\,-
 10\,-10)
DTSTART;TZID=Europe/Berlin:20251011T100000
DTEND;TZID=Europe/Berlin:20251011T120000
LOCATION:Městská sportovní hala\, T. G. Masaryka 1145 Litomyšl - Litomyšl-M
 ěsto
SUMMARY:PA-U18Z: Volejbalový klub Litomyšl\, z.s.-Lanškroun B
END:VEVENT
BEGIN:VEVENT
UID:36633137-3535-4936-a436-306236326535
DTSTAMP:20260422T052722Z
DESCRIPTION:4/15 Volejbalový klub Litomyšl\, z.s. - Lanškroun B 0:3 (-13\,-
 5\,-7)
DTSTART;TZID=Europe/Berlin:20251011T130000
DTEND;TZID=Europe/Berlin:20251011T150000
LOCATION:Městská sportovní hala\, T. G. Masaryka 1145 Litomyšl - Litomyšl-M
 ěsto
SUMMARY:PA-U18Z: Volejbalový klub Litomyšl\, z.s.-Lanškroun B
END:VEVENT
BEGIN:VEVENT
UID:37346137-3138-4430-a433-323065356631
DTSTAMP:20260422T052722Z
DESCRIPTION:5/19 TJ Spartak Polička\, z.s. - Lanškroun B 1:3 (22\,-15\,-11\
 ,-8)
DTSTART;TZID=Europe/Berlin:20251018T100000
DTEND;TZID=Europe/Berlin:20251018T120000
LOCATION:TJ Spartak Polička\, z.s. \, nábř. Svobody 447 Polička - Horní Pře
 dměstí
SUMMARY:PA-U18Z: TJ Spartak Polička\, z.s.-Lanškroun B
END:VEVENT
BEGIN:VEVENT
UID:30623933-3139-4034-b934-616362373534
DTSTAMP:20260422T052722Z
DESCRIPTION:6/23 TJ Spartak Polička\, z.s. - Lanškroun B 0:3 (-22\,-10\,-21
 )
DTSTART;TZID=Europe/Berlin:20251018T130000
DTEND;TZID=Europe/Berlin:20251018T150000
LOCATION:TJ Spartak Polička\, z.s. \, nábř. Svobody 447 Polička - Horní Pře
 dměstí
SUMMARY:PA-U18Z: TJ Spartak Polička\, z.s.-Lanškroun B
END:VEVENT
BEGIN:VEVENT
UID:38653533-6337-4632-b732-366635356339
DTSTAMP:20260422T052722Z
DESCRIPTION:9/36 TJ Energetik Chvaletice z.s. - Lanškroun B 0:3 (-17\,-14\,
 -16)
DTSTART;TZID=Europe/Berlin:20251108T090000
DTEND;TZID=Europe/Berlin:20251108T110000
LOCATION:ZŠ Chvaletice\, Spojovací 431 Chvaletice
SUMMARY:PA-U18Z: TJ Energetik Chvaletice z.s.-Lanškroun B
END:VEVENT
BEGIN:VEVENT
UID:37633264-3337-4136-b162-366139383061
DTSTAMP:20260422T052722Z
DESCRIPTION:10/40 TJ Energetik Chvaletice z.s. - Lanškroun B 0:3 (-19\,-10\
 ,-14)
DTSTART;TZID=Europe/Berlin:20251108T130000
DTEND;TZID=Europe/Berlin:20251108T150000
LOCATION:ZŠ Chvaletice\, Spojovací 431 Chvaletice
SUMMARY:PA-U18Z: TJ Energetik Chvaletice z.s.-Lanškroun B
END:VEVENT
BEGIN:VEVENT
UID:63383866-6137-4534-a235-383730353236
DTSTAMP:20260422T052722Z
DESCRIPTION:21/82 TJ Svitavy - Lanškroun B 0:3 (-10\,-20\,-14)
DTSTART;TZID=Europe/Berlin:20260228T100000
DTEND;TZID=Europe/Berlin:20260228T120000
LOCATION:Sportovní hala Na Střelnici\, Pražská 2162 Svitavy - Předměstí
SUMMARY:PA-U18Z: TJ Svitavy-Lanškroun B
END:VEVENT
BEGIN:VEVENT
UID:31393138-6133-4961-b538-386635393431
DTSTAMP:20260422T052722Z
DESCRIPTION:22/86 TJ Svitavy - Lanškroun B 0:3 (-18\,-12\,-14)
DTSTART;TZID=Europe/Berlin:20260228T130000
DTEND;TZID=Europe/Berlin:20260228T150000
LOCATION:Sportovní hala Na Střelnici\, Pražská 2162 Svitavy - Předměstí
SUMMARY:PA-U18Z: TJ Svitavy-Lanškroun B
END:VEVENT
BEGIN:VEVENT
UID:63386335-6233-4365-a134-623264356565
DTSTAMP:20260422T052722Z
DESCRIPTION:27/108 Sokol Pardubice I. - Lanškroun B 0:3 (-15\,-14\,-13)
DTSTART;TZID=Europe/Berlin:20260328T100000
DTEND;TZID=Europe/Berlin:20260328T120000
LOCATION:Sportovní areál Univerzity Pardubice\, Studentská 95 Pardubice - P
 olabiny
SUMMARY:PA-U18Z: Sokol Pardubice I.-Lanškroun B
END:VEVENT
BEGIN:VEVENT
UID:33316165-6235-4165-a166-656462643333
DTSTAMP:20260422T052722Z
DESCRIPTION:28/112 Sokol Pardubice I. - Lanškroun B 0:3 (-17\,-15\,-12)
DTSTART;TZID=Europe/Berlin:20260328T130000
DTEND;TZID=Europe/Berlin:20260328T150000
LOCATION:Sportovní areál Univerzity Pardubice\, Studentská 95 Pardubice - P
 olabiny
SUMMARY:PA-U18Z: Sokol Pardubice I.-Lanškroun B
END:VEVENT
BEGIN:VEVENT
UID:63613235-3231-4465-a333-316134626263
DTSTAMP:20260422T052722Z
DESCRIPTION:1/4 Lanškroun B - Havlíčkův Brod B
DTSTART;TZID=Europe/Berlin:20260501T170000
DTEND;TZID=Europe/Berlin:20260501T190000
LOCATION:Hala SOU Andre Citroena\, náměstí 9. května 2153 Boskovice
SUMMARY:2-U18Z-KC: Lanškroun B-Havlíčkův Brod B
END:VEVENT
BEGIN:VEVENT
UID:62393934-3763-4462-b636-633430383662
DTSTAMP:20260422T052722Z
DESCRIPTION:1/5 Lanškroun B - Nová Paka
DTSTART;TZID=Europe/Berlin:20260502T100000
DTEND;TZID=Europe/Berlin:20260502T120000
LOCATION:Hala SOU Andre Citroena\, náměstí 9. května 2153 Boskovice
SUMMARY:2-U18Z-KC: Lanškroun B-Nová Paka
END:VEVENT
BEGIN:VEVENT
UID:63383131-3735-4431-b862-343734393266
DTSTAMP:20260422T052722Z
DESCRIPTION:1/1 Boskovice - Lanškroun B
DTSTART;TZID=Europe/Berlin:20260501T100000
DTEND;TZID=Europe/Berlin:20260501T120000
LOCATION:Hala SOU Andre Citroena\, náměstí 9. května 2153 Boskovice
SUMMARY:2-U18Z-KC: Boskovice-Lanškroun B
END:VEVENT
END:VCALENDAR
