BEGIN:VCALENDAR
VERSION:2.0
PRODID:-//TJ Sokol Jehnice90540//NONSGML kigkonsult.se iCalcreator 2.41.80//
CALSCALE:GREGORIAN
UID:35643835-3537-4237-b332-333466356435
BEGIN:VEVENT
UID:64396435-6561-4034-b261-343731353762
DTSTAMP:20260422T052720Z
DESCRIPTION:3/6 TJ Sokol Jehnice - TJ Agrotec Hustopeče z.s. 'B' 2:0 (14\,1
 6)
DTSTART;TZID=Europe/Berlin:20250913T114500
DTEND;TZID=Europe/Berlin:20250913T134500
LOCATION:Městská sportovní hala\, Šafaříkova 1016 Hustopeče
SUMMARY:JM-U18Z-KVB: TJ Sokol Jehnice-TJ Agrotec Hustopeče z.s. 'B'
END:VEVENT
BEGIN:VEVENT
UID:63646334-3035-4062-a537-626134396436
DTSTAMP:20260422T052720Z
DESCRIPTION:1/2 KP Milénova Brno - TJ Sokol Jehnice 2:0 (7\,21)
DTSTART;TZID=Europe/Berlin:20250913T090000
DTEND;TZID=Europe/Berlin:20250913T110000
LOCATION:Městská sportovní hala\, Šafaříkova 1016 Hustopeče
SUMMARY:JM-U18Z-KVB: KP Milénova Brno-TJ Sokol Jehnice
END:VEVENT
BEGIN:VEVENT
UID:64633636-3234-4533-b435-663633623132
DTSTAMP:20260422T052720Z
DESCRIPTION:2/3 Orel Křenovice - TJ Sokol Jehnice 2:0 (15\,16)
DTSTART;TZID=Europe/Berlin:20250913T103000
DTEND;TZID=Europe/Berlin:20250913T123000
LOCATION:Městská sportovní hala\, Šafaříkova 1016 Hustopeče
SUMMARY:JM-U18Z-KVB: Orel Křenovice-TJ Sokol Jehnice
END:VEVENT
BEGIN:VEVENT
UID:64663064-3838-4935-b961-653865653334
DTSTAMP:20260422T052720Z
DESCRIPTION:1/1 Tělocvičná jednota Sokol Brno - Starý Lískovec - TJ Sokol J
 ehnice X:2\nKVA 3 vs KVB 3
DTSTART;TZID=Europe/Berlin:20250913T130000
DTEND;TZID=Europe/Berlin:20250913T150000
LOCATION:Městská sportovní hala\, Šafaříkova 1016 Hustopeče
SUMMARY:JM-U18Z-KVAB: Tělocvičná jednota Sokol Brno - Starý Lískovec-TJ Sok
 ol Jehnice
END:VEVENT
BEGIN:VEVENT
UID:64393038-3139-4366-b137-356266393438
DTSTAMP:20260422T052720Z
DESCRIPTION:3/3 TJ Sokol Jehnice - Orel jednota Pozořice 3:0 (20\,16\,10)
DTSTART;TZID=Europe/Berlin:20251004T130000
DTEND;TZID=Europe/Berlin:20251004T150000
LOCATION:Školní tělocvična\,  Sivice131
SUMMARY:JM-U18Z-IE: TJ Sokol Jehnice-Orel jednota Pozořice
END:VEVENT
BEGIN:VEVENT
UID:34343163-3066-4162-b765-386562313630
DTSTAMP:20260422T052720Z
DESCRIPTION:2/2 Sokol Šlapanice - TJ Sokol Jehnice 3:0 (21\,16\,20)
DTSTART;TZID=Europe/Berlin:20251004T110000
DTEND;TZID=Europe/Berlin:20251004T130000
LOCATION:Školní tělocvična\,  Sivice131
SUMMARY:JM-U18Z-IE: Sokol Šlapanice-TJ Sokol Jehnice
END:VEVENT
BEGIN:VEVENT
UID:37303162-3236-4938-b033-656539626464
DTSTAMP:20260422T052720Z
DESCRIPTION:2/2 TJ Sokol Jehnice - SK Beachvolleyball Slavkov\, spolek 2:3 
 (24\,-21\,8\,-16\,-16)
DTSTART;TZID=Europe/Berlin:20251018T110000
DTEND;TZID=Europe/Berlin:20251018T130000
LOCATION:ZŠ Jungmannova Kuřim\, Jungmannova 813 Kuřim
SUMMARY:JM-U18Z-IIE: TJ Sokol Jehnice-SK Beachvolleyball Slavkov\, spolek
END:VEVENT
BEGIN:VEVENT
UID:66386631-6632-4264-a638-643438626339
DTSTAMP:20260422T052720Z
DESCRIPTION:1/1 HIPPO Kuřim - TJ Sokol Jehnice 1:3 (-19\,22\,-22\,-14)
DTSTART;TZID=Europe/Berlin:20251018T090000
DTEND;TZID=Europe/Berlin:20251018T110000
LOCATION:ZŠ Jungmannova Kuřim\, Jungmannova 813 Kuřim
SUMMARY:JM-U18Z-IIE: HIPPO Kuřim-TJ Sokol Jehnice
END:VEVENT
BEGIN:VEVENT
UID:33333439-3665-4639-a663-373562316235
DTSTAMP:20260422T052720Z
DESCRIPTION:2/2 TJ Sokol Jehnice - Sokol Šlapanice B 3:1 (-21\,18\,19\,22)
DTSTART;TZID=Europe/Berlin:20251101T110000
DTEND;TZID=Europe/Berlin:20251101T130000
LOCATION:tělocvičny ZŠ Novolíšeňská\, Brno\, Novolíšeňská 2411 Brno - Líšeň
SUMMARY:JM-U18Z-IIIE: TJ Sokol Jehnice-Sokol Šlapanice B
END:VEVENT
BEGIN:VEVENT
UID:38323566-3333-4430-a135-646437343166
DTSTAMP:20260422T052720Z
DESCRIPTION:1/1 TJ JUNIOR Brno - TJ Sokol Jehnice 0:3 (-21\,-19\,-23)
DTSTART;TZID=Europe/Berlin:20251101T090000
DTEND;TZID=Europe/Berlin:20251101T110000
LOCATION:tělocvičny ZŠ Novolíšeňská\, Brno\, Novolíšeňská 2411 Brno - Líšeň
SUMMARY:JM-U18Z-IIIE: TJ JUNIOR Brno-TJ Sokol Jehnice
END:VEVENT
BEGIN:VEVENT
UID:32383865-3233-4837-a532-393135383931
DTSTAMP:20260422T052720Z
DESCRIPTION:2/3 TJ Sokol Jehnice - FOSFA Lokomotiva Břeclav A 0:2 (-21\,-18
 )
DTSTART;TZID=Europe/Berlin:20251206T103000
DTEND;TZID=Europe/Berlin:20251206T123000
LOCATION:Integrovaná střední škola\, Tyršova 479 Slavkov u Brna
SUMMARY:JM-U18Z-IVD: TJ Sokol Jehnice-FOSFA Lokomotiva Břeclav A
END:VEVENT
BEGIN:VEVENT
UID:32393264-3439-4862-b166-363435323561
DTSTAMP:20260422T052720Z
DESCRIPTION:1/1 SK Beachvolleyball Slavkov\, spolek - TJ Sokol Jehnice 2:0 
 (18\,24)
DTSTART;TZID=Europe/Berlin:20251206T090000
DTEND;TZID=Europe/Berlin:20251206T110000
LOCATION:Integrovaná střední škola\, Tyršova 479 Slavkov u Brna
SUMMARY:JM-U18Z-IVD: SK Beachvolleyball Slavkov\, spolek-TJ Sokol Jehnice
END:VEVENT
BEGIN:VEVENT
UID:62646236-3765-4737-b930-343032306430
DTSTAMP:20260422T052720Z
DESCRIPTION:3/5 TJ Agrotec Hustopeče z.s. 'A' - TJ Sokol Jehnice 2:0 (24\,1
 7)
DTSTART;TZID=Europe/Berlin:20251206T114500
DTEND;TZID=Europe/Berlin:20251206T134500
LOCATION:Integrovaná střední škola\, Tyršova 479 Slavkov u Brna
SUMMARY:JM-U18Z-IVD: TJ Agrotec Hustopeče z.s. 'A'-TJ Sokol Jehnice
END:VEVENT
BEGIN:VEVENT
UID:32306431-3038-4661-a231-383632393136
DTSTAMP:20260422T052720Z
DESCRIPTION:1/1 TJ Sokol Jehnice - TJ Sokol Hrušovany u Brna 3:1 (14\,22\,-
 21\,15)
DTSTART;TZID=Europe/Berlin:20251220T090000
DTEND;TZID=Europe/Berlin:20251220T110000
LOCATION:TJ Sokol Jehnice\, Blanenská 1 Brno - Jehnice
SUMMARY:JM-U18Z-VE: TJ Sokol Jehnice-TJ Sokol Hrušovany u Brna
END:VEVENT
BEGIN:VEVENT
UID:39643065-3565-4465-a565-303130356534
DTSTAMP:20260422T052720Z
DESCRIPTION:3/3 Sokol Šlapanice B - TJ Sokol Jehnice 3:1 (-24\,21\,13\,16)
DTSTART;TZID=Europe/Berlin:20251220T114500
DTEND;TZID=Europe/Berlin:20251220T134500
LOCATION:TJ Sokol Jehnice\, Blanenská 1 Brno - Jehnice
SUMMARY:JM-U18Z-VE: Sokol Šlapanice B-TJ Sokol Jehnice
END:VEVENT
BEGIN:VEVENT
UID:32306131-3062-4132-b432-643434636332
DTSTAMP:20260422T052720Z
DESCRIPTION:1/1 TJ Sokol Jehnice - TJ JUNIOR Brno 3:0 (14\,20\,17)
DTSTART;TZID=Europe/Berlin:20260117T090000
DTEND;TZID=Europe/Berlin:20260117T110000
LOCATION:TJ Sokol Jehnice\, Blanenská 1 Brno - Jehnice
SUMMARY:JM-U18Z-VIE: TJ Sokol Jehnice-TJ JUNIOR Brno
END:VEVENT
BEGIN:VEVENT
UID:64356131-3734-4563-a330-303663326564
DTSTAMP:20260422T052720Z
DESCRIPTION:3/3 TJ Slovan Ivančice\, z.s. - TJ Sokol Jehnice 1:3 (19\,-11\,
 -17\,-18)
DTSTART;TZID=Europe/Berlin:20260117T130000
DTEND;TZID=Europe/Berlin:20260117T150000
LOCATION:TJ Sokol Jehnice\, Blanenská 1 Brno - Jehnice
SUMMARY:JM-U18Z-VIE: TJ Slovan Ivančice\, z.s.-TJ Sokol Jehnice
END:VEVENT
BEGIN:VEVENT
UID:34343830-3665-4233-a234-666135356630
DTSTAMP:20260422T052720Z
DESCRIPTION:2/3 TJ Sokol Jehnice - Sokol Šlapanice B 2:0 (22\,10)
DTSTART;TZID=Europe/Berlin:20260207T103000
DTEND;TZID=Europe/Berlin:20260207T123000
LOCATION:TJ Lokomotiva Břeclav\, Veslařská 2753 Břeclav
SUMMARY:JM-U18Z-VIID: TJ Sokol Jehnice-Sokol Šlapanice B
END:VEVENT
BEGIN:VEVENT
UID:38653564-6466-4263-b936-626136616265
DTSTAMP:20260422T052720Z
DESCRIPTION:1/1 FOSFA Lokomotiva Břeclav A - TJ Sokol Jehnice 1:2 (-26\,22\
 ,-10)
DTSTART;TZID=Europe/Berlin:20260207T090000
DTEND;TZID=Europe/Berlin:20260207T110000
LOCATION:TJ Lokomotiva Břeclav\, Veslařská 2753 Břeclav
SUMMARY:JM-U18Z-VIID: FOSFA Lokomotiva Břeclav A-TJ Sokol Jehnice
END:VEVENT
BEGIN:VEVENT
UID:34343632-3535-4061-a662-323838326233
DTSTAMP:20260422T052720Z
DESCRIPTION:3/5 TJ Agrotec Hustopeče z.s. 'A' - TJ Sokol Jehnice 2:1 (-17\,
 20\,13)
DTSTART;TZID=Europe/Berlin:20260207T114500
DTEND;TZID=Europe/Berlin:20260207T134500
LOCATION:TJ Lokomotiva Břeclav\, Veslařská 2753 Břeclav
SUMMARY:JM-U18Z-VIID: TJ Agrotec Hustopeče z.s. 'A'-TJ Sokol Jehnice
END:VEVENT
BEGIN:VEVENT
UID:39363562-3133-4132-a465-356337666666
DTSTAMP:20260422T052720Z
DESCRIPTION:3/6 TJ Sokol Jehnice - FOSFA Lokomotiva Břeclav A 0:2 (-21\,-21
 )
DTSTART;TZID=Europe/Berlin:20260314T114500
DTEND;TZID=Europe/Berlin:20260314T134500
LOCATION:TJ Lokomotiva Břeclav\, Veslařská 2753 Břeclav
SUMMARY:JM-U18Z-VIIID: TJ Sokol Jehnice-FOSFA Lokomotiva Břeclav A
END:VEVENT
BEGIN:VEVENT
UID:32626134-6334-4062-b362-373432303165
DTSTAMP:20260422T052720Z
DESCRIPTION:1/2 TJ Sokol Hrušovany u Brna - TJ Sokol Jehnice 2:0 (23\,16)
DTSTART;TZID=Europe/Berlin:20260314T090000
DTEND;TZID=Europe/Berlin:20260314T110000
LOCATION:TJ Lokomotiva Břeclav\, Veslařská 2753 Břeclav
SUMMARY:JM-U18Z-VIIID: TJ Sokol Hrušovany u Brna-TJ Sokol Jehnice
END:VEVENT
BEGIN:VEVENT
UID:33373532-3438-4234-b333-316532666430
DTSTAMP:20260422T052720Z
DESCRIPTION:2/3 TJ SOKOL LETOVICE\, z.s. - TJ Sokol Jehnice 2:0 (15\,18)
DTSTART;TZID=Europe/Berlin:20260314T103000
DTEND;TZID=Europe/Berlin:20260314T123000
LOCATION:TJ Lokomotiva Břeclav\, Veslařská 2753 Břeclav
SUMMARY:JM-U18Z-VIIID: TJ SOKOL LETOVICE\, z.s.-TJ Sokol Jehnice
END:VEVENT
END:VCALENDAR
