BEGIN:VCALENDAR
VERSION:2.0
PRODID:-//VOLEJBAL VYŠKOV90546//NONSGML kigkonsult.se iCalcreator 2.41.80//
CALSCALE:GREGORIAN
UID:37656633-6437-4663-a333-653966663066
BEGIN:VEVENT
UID:66313966-6636-4465-b137-333237623461
DTSTAMP:20260422T010257Z
DESCRIPTION:3/3 VOLEJBAL VYŠKOV - TJ Sokol Hrušovany u Brna 2:1 (11\,-24\,1
 1)
DTSTART;TZID=Europe/Berlin:20250913T114500
DTEND;TZID=Europe/Berlin:20250913T134500
LOCATION:TJ Lokomotiva Břeclav\, Veslařská 2753 Břeclav
SUMMARY:JM-U18Z-KVF: VOLEJBAL VYŠKOV-TJ Sokol Hrušovany u Brna
END:VEVENT
BEGIN:VEVENT
UID:65636334-6463-4338-b736-623835376362
DTSTAMP:20260422T010257Z
DESCRIPTION:2/2 FOSFA Lokomotiva Břeclav B - VOLEJBAL VYŠKOV 2:0 (17\,13)
DTSTART;TZID=Europe/Berlin:20250913T103000
DTEND;TZID=Europe/Berlin:20250913T123000
LOCATION:TJ Lokomotiva Břeclav\, Veslařská 2753 Břeclav
SUMMARY:JM-U18Z-KVF: FOSFA Lokomotiva Břeclav B-VOLEJBAL VYŠKOV
END:VEVENT
BEGIN:VEVENT
UID:30373335-3965-4239-a139-336466333064
DTSTAMP:20260422T010257Z
DESCRIPTION:2/2 FOSFA Lokomotiva Břeclav A - VOLEJBAL VYŠKOV 1:2 (23\,-20\,
 -10)\nKVE 2 vs KVF 2
DTSTART;TZID=Europe/Berlin:20250913T130000
DTEND;TZID=Europe/Berlin:20250913T150000
LOCATION:TJ Lokomotiva Břeclav\, Veslařská 2753 Břeclav
SUMMARY:JM-U18Z-KVEF: FOSFA Lokomotiva Břeclav A-VOLEJBAL VYŠKOV
END:VEVENT
BEGIN:VEVENT
UID:30353933-6530-4039-b434-383761393237
DTSTAMP:20260422T010257Z
DESCRIPTION:6/6 VOLEJBAL VYŠKOV - TJ ASK Blansko 1:2 (19\,-13\,-14)
DTSTART;TZID=Europe/Berlin:20251004T114500
DTEND;TZID=Europe/Berlin:20251004T134500
LOCATION:Městská sportovní hala\, Údolní 1317 Blansko
SUMMARY:JM-U18Z-IC: VOLEJBAL VYŠKOV-TJ ASK Blansko
END:VEVENT
BEGIN:VEVENT
UID:31666435-3665-4161-b036-393939303038
DTSTAMP:20260422T010257Z
DESCRIPTION:2/2 TJ Slovan Ivančice\, z.s. - VOLEJBAL VYŠKOV 0:2 (-15\,-16)
DTSTART;TZID=Europe/Berlin:20251004T090000
DTEND;TZID=Europe/Berlin:20251004T110000
LOCATION:Městská sportovní hala\, Údolní 1317 Blansko
SUMMARY:JM-U18Z-IC: TJ Slovan Ivančice\, z.s.-VOLEJBAL VYŠKOV
END:VEVENT
BEGIN:VEVENT
UID:37373537-3364-4434-b939-623734383562
DTSTAMP:20260422T010257Z
DESCRIPTION:3/3 Orel Křenovice - VOLEJBAL VYŠKOV 2:0 (19\,24)
DTSTART;TZID=Europe/Berlin:20251004T103000
DTEND;TZID=Europe/Berlin:20251004T123000
LOCATION:Městská sportovní hala\, Údolní 1317 Blansko
SUMMARY:JM-U18Z-IC: Orel Křenovice-VOLEJBAL VYŠKOV
END:VEVENT
BEGIN:VEVENT
UID:32393133-3866-4335-a562-633135643838
DTSTAMP:20260422T010257Z
DESCRIPTION:6/6 VOLEJBAL VYŠKOV - VK Brno\, z.s. 0:2 (-20\,-15)
DTSTART;TZID=Europe/Berlin:20251018T153000
DTEND;TZID=Europe/Berlin:20251018T173000
LOCATION:ZŠ Vejrostova\, Vejrostova 1066 Brno - Bystrc
SUMMARY:JM-U18Z-IIC: VOLEJBAL VYŠKOV-VK Brno\, z.s.
END:VEVENT
BEGIN:VEVENT
UID:31343863-3364-4536-b030-646333363461
DTSTAMP:20260422T010257Z
DESCRIPTION:2/2 TJ Agrotec Hustopeče z.s. 'A' - VOLEJBAL VYŠKOV 2:1 (-9\,15
 \,14)
DTSTART;TZID=Europe/Berlin:20251018T103000
DTEND;TZID=Europe/Berlin:20251018T123000
LOCATION:ZŠ Vejrostova\, Vejrostova 1066 Brno - Bystrc
SUMMARY:JM-U18Z-IIC: TJ Agrotec Hustopeče z.s. 'A'-VOLEJBAL VYŠKOV
END:VEVENT
BEGIN:VEVENT
UID:30343739-3965-4462-b035-323538343239
DTSTAMP:20260422T010257Z
DESCRIPTION:3/3 Orel Křenovice - VOLEJBAL VYŠKOV 2:1 (-20\,19\,7)
DTSTART;TZID=Europe/Berlin:20251018T114500
DTEND;TZID=Europe/Berlin:20251018T134500
LOCATION:ZŠ Vejrostova\, Vejrostova 1066 Brno - Bystrc
SUMMARY:JM-U18Z-IIC: Orel Křenovice-VOLEJBAL VYŠKOV
END:VEVENT
BEGIN:VEVENT
UID:35306434-3433-4061-b766-396434396562
DTSTAMP:20260422T010257Z
DESCRIPTION:3/5 VOLEJBAL VYŠKOV - TJ Slovan Ivančice\, z.s. 2:0 (13\,23)\nK
 urt 2
DTSTART;TZID=Europe/Berlin:20251101T114500
DTEND;TZID=Europe/Berlin:20251101T134500
LOCATION:Multifunkční sportovní hala\, Sportovní 1128 Újezd u Brna
SUMMARY:JM-U18Z-IIID: VOLEJBAL VYŠKOV-TJ Slovan Ivančice\, z.s.
END:VEVENT
BEGIN:VEVENT
UID:33636134-6132-4437-b436-323538393133
DTSTAMP:20260422T010257Z
DESCRIPTION:1/2 FOSFA Lokomotiva Břeclav A - VOLEJBAL VYŠKOV 1:2 (19\,-14\,
 -3)\nKurt 2
DTSTART;TZID=Europe/Berlin:20251101T090000
DTEND;TZID=Europe/Berlin:20251101T110000
LOCATION:Multifunkční sportovní hala\, Sportovní 1128 Újezd u Brna
SUMMARY:JM-U18Z-IIID: FOSFA Lokomotiva Břeclav A-VOLEJBAL VYŠKOV
END:VEVENT
BEGIN:VEVENT
UID:38646438-6337-4365-a234-626432663930
DTSTAMP:20260422T010257Z
DESCRIPTION:2/3 SK Beachvolleyball Slavkov\, spolek - VOLEJBAL VYŠKOV 0:2 (
 -17\,-14)\nKurt 3
DTSTART;TZID=Europe/Berlin:20251101T103000
DTEND;TZID=Europe/Berlin:20251101T123000
LOCATION:Multifunkční sportovní hala\, Sportovní 1128 Újezd u Brna
SUMMARY:JM-U18Z-IIID: SK Beachvolleyball Slavkov\, spolek-VOLEJBAL VYŠKOV
END:VEVENT
BEGIN:VEVENT
UID:30613863-3432-4363-b733-613836623938
DTSTAMP:20260422T010257Z
DESCRIPTION:2/3 VOLEJBAL VYŠKOV - Sokol Šlapanice 2:0 (20\,15)
DTSTART;TZID=Europe/Berlin:20251206T103000
DTEND;TZID=Europe/Berlin:20251206T123000
LOCATION:Sportovní hala Letovice\, V zahradách 831 Letovice
SUMMARY:JM-U18Z-IVC: VOLEJBAL VYŠKOV-Sokol Šlapanice
END:VEVENT
BEGIN:VEVENT
UID:33343836-6562-4134-a534-613936336435
DTSTAMP:20260422T010257Z
DESCRIPTION:1/1 TJ SOKOL LETOVICE\, z.s. - VOLEJBAL VYŠKOV 2:0 (12\,19)
DTSTART;TZID=Europe/Berlin:20251206T090000
DTEND;TZID=Europe/Berlin:20251206T110000
LOCATION:Sportovní hala Letovice\, V zahradách 831 Letovice
SUMMARY:JM-U18Z-IVC: TJ SOKOL LETOVICE\, z.s.-VOLEJBAL VYŠKOV
END:VEVENT
BEGIN:VEVENT
UID:33326262-3863-4631-b062-653764316164
DTSTAMP:20260422T010257Z
DESCRIPTION:3/5 TJ ASK Blansko - VOLEJBAL VYŠKOV 2:0 (20\,14)
DTSTART;TZID=Europe/Berlin:20251206T114500
DTEND;TZID=Europe/Berlin:20251206T134500
LOCATION:Sportovní hala Letovice\, V zahradách 831 Letovice
SUMMARY:JM-U18Z-IVC: TJ ASK Blansko-VOLEJBAL VYŠKOV
END:VEVENT
BEGIN:VEVENT
UID:31343334-3738-4634-a132-613661643662
DTSTAMP:20260422T010257Z
DESCRIPTION:3/6 VOLEJBAL VYŠKOV - TJ ASK Blansko 1:2 (-17\,21\,-8)
DTSTART;TZID=Europe/Berlin:20251220T114500
DTEND;TZID=Europe/Berlin:20251220T134500
LOCATION:Sportovní hala Údolní\, Údolní 1826 Blansko
SUMMARY:JM-U18Z-VC: VOLEJBAL VYŠKOV-TJ ASK Blansko
END:VEVENT
BEGIN:VEVENT
UID:61386263-6335-4964-a665-613537353361
DTSTAMP:20260422T010257Z
DESCRIPTION:1/2 FOSFA Lokomotiva Břeclav B - VOLEJBAL VYŠKOV 2:0 (15\,9)
DTSTART;TZID=Europe/Berlin:20251220T090000
DTEND;TZID=Europe/Berlin:20251220T110000
LOCATION:Sportovní hala Údolní\, Údolní 1826 Blansko
SUMMARY:JM-U18Z-VC: FOSFA Lokomotiva Břeclav B-VOLEJBAL VYŠKOV
END:VEVENT
BEGIN:VEVENT
UID:33303465-6530-4235-b532-663664343164
DTSTAMP:20260422T010257Z
DESCRIPTION:2/3 TJ Agrotec Hustopeče z.s. 'A' - VOLEJBAL VYŠKOV 2:1 (-16\,2
 0\,13)
DTSTART;TZID=Europe/Berlin:20251220T103000
DTEND;TZID=Europe/Berlin:20251220T123000
LOCATION:Sportovní hala Údolní\, Údolní 1826 Blansko
SUMMARY:JM-U18Z-VC: TJ Agrotec Hustopeče z.s. 'A'-VOLEJBAL VYŠKOV
END:VEVENT
BEGIN:VEVENT
UID:37653164-3739-4465-b662-326432326336
DTSTAMP:20260422T010257Z
DESCRIPTION:6/6 VOLEJBAL VYŠKOV - Sokol Šlapanice B 2:0 (15\,20)
DTSTART;TZID=Europe/Berlin:20260117T153000
DTEND;TZID=Europe/Berlin:20260117T173000
LOCATION:Tělocvična ZŠ Šlapanice\, Masarykovo náměstí 1594 Šlapanice
SUMMARY:JM-U18Z-VID: VOLEJBAL VYŠKOV-Sokol Šlapanice B
END:VEVENT
BEGIN:VEVENT
UID:32336231-3634-4132-b939-346238653038
DTSTAMP:20260422T010257Z
DESCRIPTION:2/2 FOSFA Lokomotiva Břeclav A - VOLEJBAL VYŠKOV 0:2 (-8\,-19)
DTSTART;TZID=Europe/Berlin:20260117T103000
DTEND;TZID=Europe/Berlin:20260117T123000
LOCATION:Tělocvična ZŠ Šlapanice\, Masarykovo náměstí 1594 Šlapanice
SUMMARY:JM-U18Z-VID: FOSFA Lokomotiva Břeclav A-VOLEJBAL VYŠKOV
END:VEVENT
BEGIN:VEVENT
UID:33633134-6362-4134-b961-643662633330
DTSTAMP:20260422T010257Z
DESCRIPTION:3/3 SK Beachvolleyball Slavkov\, spolek - VOLEJBAL VYŠKOV 0:2 (
 -12\,-18)
DTSTART;TZID=Europe/Berlin:20260117T114500
DTEND;TZID=Europe/Berlin:20260117T134500
LOCATION:Tělocvična ZŠ Šlapanice\, Masarykovo náměstí 1594 Šlapanice
SUMMARY:JM-U18Z-VID: SK Beachvolleyball Slavkov\, spolek-VOLEJBAL VYŠKOV
END:VEVENT
BEGIN:VEVENT
UID:64333036-6662-4930-b534-646238646434
DTSTAMP:20260422T010257Z
DESCRIPTION:1/1 VOLEJBAL VYŠKOV - Orel Křenovice 2:0 (14\,18)
DTSTART;TZID=Europe/Berlin:20260207T090000
DTEND;TZID=Europe/Berlin:20260207T110000
LOCATION:ZŠ Vyškov\, Purkyňova 39\, Purkyňova 308 Vyškov - Nosálovice
SUMMARY:JM-U18Z-VIIC: VOLEJBAL VYŠKOV-Orel Křenovice
END:VEVENT
BEGIN:VEVENT
UID:62636235-3666-4362-b839-653037393064
DTSTAMP:20260422T010257Z
DESCRIPTION:4/4 VOLEJBAL VYŠKOV - TJ SOKOL LETOVICE\, z.s. 2:1 (22\,-20\,16
 )
DTSTART;TZID=Europe/Berlin:20260207T130000
DTEND;TZID=Europe/Berlin:20260207T150000
LOCATION:ZŠ Vyškov\, Purkyňova 39\, Purkyňova 308 Vyškov - Nosálovice
SUMMARY:JM-U18Z-VIIC: VOLEJBAL VYŠKOV-TJ SOKOL LETOVICE\, z.s.
END:VEVENT
BEGIN:VEVENT
UID:37303865-6333-4263-b937-356432663237
DTSTAMP:20260422T010257Z
DESCRIPTION:6/6 Sokol Šlapanice - VOLEJBAL VYŠKOV 2:0 (16\,23)
DTSTART;TZID=Europe/Berlin:20260207T153000
DTEND;TZID=Europe/Berlin:20260207T173000
LOCATION:ZŠ Vyškov\, Purkyňova 39\, Purkyňova 308 Vyškov - Nosálovice
SUMMARY:JM-U18Z-VIIC: Sokol Šlapanice-VOLEJBAL VYŠKOV
END:VEVENT
BEGIN:VEVENT
UID:34633766-6131-4534-a265-336630613036
DTSTAMP:20260422T010257Z
DESCRIPTION:3/6 VOLEJBAL VYŠKOV - TJ Agrotec Hustopeče z.s. 'A' 0:2 (-16\,-
 19)
DTSTART;TZID=Europe/Berlin:20260314T114500
DTEND;TZID=Europe/Berlin:20260314T134500
LOCATION:Městská sportovní hala\, Šafaříkova 1016 Hustopeče
SUMMARY:JM-U18Z-VIIIC: VOLEJBAL VYŠKOV-TJ Agrotec Hustopeče z.s. 'A'
END:VEVENT
BEGIN:VEVENT
UID:35636332-3262-4365-b636-626266333134
DTSTAMP:20260422T010257Z
DESCRIPTION:1/2 TJ Sokol Újezd u Brna - VOLEJBAL VYŠKOV 2:1 (10\,-20\,8)
DTSTART;TZID=Europe/Berlin:20260314T090000
DTEND;TZID=Europe/Berlin:20260314T110000
LOCATION:Městská sportovní hala\, Šafaříkova 1016 Hustopeče
SUMMARY:JM-U18Z-VIIIC: TJ Sokol Újezd u Brna-VOLEJBAL VYŠKOV
END:VEVENT
BEGIN:VEVENT
UID:30366135-3264-4862-a331-363030323135
DTSTAMP:20260422T010257Z
DESCRIPTION:2/3 Orel Křenovice - VOLEJBAL VYŠKOV 0:2 (-23\,-20)
DTSTART;TZID=Europe/Berlin:20260314T103000
DTEND;TZID=Europe/Berlin:20260314T123000
LOCATION:Městská sportovní hala\, Šafaříkova 1016 Hustopeče
SUMMARY:JM-U18Z-VIIIC: Orel Křenovice-VOLEJBAL VYŠKOV
END:VEVENT
END:VCALENDAR
