BEGIN:VCALENDAR
VERSION:2.0
PRODID:-//B6 Brno90567//NONSGML kigkonsult.se iCalcreator 2.41.80//
CALSCALE:GREGORIAN
UID:34643762-6464-4465-b264-346635316237
BEGIN:VEVENT
UID:66343432-6436-4735-b835-313661373662
DTSTAMP:20260422T033915Z
DESCRIPTION:9/9 B6 Brno - TJ SOKOL LETOVICE\, z.s. 2:0 (14\,10)
DTSTART;TZID=Europe/Berlin:20250913T141500
DTEND;TZID=Europe/Berlin:20250913T161500
LOCATION:ZŠ Vejrostova\, Vejrostova 1066 Brno - Bystrc
SUMMARY:JM-U16M-KVB: B6 Brno-TJ SOKOL LETOVICE\, z.s.
END:VEVENT
BEGIN:VEVENT
UID:38343438-6333-4637-a633-326238653735
DTSTAMP:20260422T033915Z
DESCRIPTION:1/1 VK Brno\, z.s. - B6 Brno 2:0 (17\,17)
DTSTART;TZID=Europe/Berlin:20250913T090000
DTEND;TZID=Europe/Berlin:20250913T110000
LOCATION:ZŠ Vejrostova\, Vejrostova 1066 Brno - Bystrc
SUMMARY:JM-U16M-KVB: VK Brno\, z.s.-B6 Brno
END:VEVENT
BEGIN:VEVENT
UID:39343239-3730-4636-b236-373061346339
DTSTAMP:20260422T033915Z
DESCRIPTION:5/5 Sokol Šlapanice - B6 Brno 0:2 (-11\,-8)
DTSTART;TZID=Europe/Berlin:20250913T114500
DTEND;TZID=Europe/Berlin:20250913T134500
LOCATION:ZŠ Vejrostova\, Vejrostova 1066 Brno - Bystrc
SUMMARY:JM-U16M-KVB: Sokol Šlapanice-B6 Brno
END:VEVENT
BEGIN:VEVENT
UID:65343835-3730-4132-a237-643263643031
DTSTAMP:20260422T033915Z
DESCRIPTION:8/8 TJ TESLA BRNO z.s. - B6 Brno 0:2 (-10\,-18)
DTSTART;TZID=Europe/Berlin:20250913T130000
DTEND;TZID=Europe/Berlin:20250913T150000
LOCATION:ZŠ Vejrostova\, Vejrostova 1066 Brno - Bystrc
SUMMARY:JM-U16M-KVB: TJ TESLA BRNO z.s.-B6 Brno
END:VEVENT
BEGIN:VEVENT
UID:31646336-6530-4864-b462-653836353832
DTSTAMP:20260422T033915Z
DESCRIPTION:3/6 B6 Brno - VK Rousínov z.s. 2:1 (-17\,23\,16)
DTSTART;TZID=Europe/Berlin:20251004T114500
DTEND;TZID=Europe/Berlin:20251004T134500
LOCATION:Sportovní hala Rousínov\, Habrovanská 1199 Rousínov
SUMMARY:JM-U16M-IA: B6 Brno-VK Rousínov z.s.
END:VEVENT
BEGIN:VEVENT
UID:61363339-6530-4564-b034-333636346333
DTSTAMP:20260422T033915Z
DESCRIPTION:1/2 VK Znojmo - Přímětice 'A' - B6 Brno 2:1 (-21\,24\,5)
DTSTART;TZID=Europe/Berlin:20251004T090000
DTEND;TZID=Europe/Berlin:20251004T110000
LOCATION:Sportovní hala Rousínov\, Habrovanská 1199 Rousínov
SUMMARY:JM-U16M-IA: VK Znojmo - Přímětice 'A'-B6 Brno
END:VEVENT
BEGIN:VEVENT
UID:35623461-6561-4338-b233-366136343761
DTSTAMP:20260422T033915Z
DESCRIPTION:2/3 VK Brno\, z.s. - B6 Brno 2:1 (-23\,25\,12)
DTSTART;TZID=Europe/Berlin:20251004T103000
DTEND;TZID=Europe/Berlin:20251004T123000
LOCATION:Sportovní hala Rousínov\, Habrovanská 1199 Rousínov
SUMMARY:JM-U16M-IA: VK Brno\, z.s.-B6 Brno
END:VEVENT
BEGIN:VEVENT
UID:33393363-6365-4130-b332-326337336464
DTSTAMP:20260422T033915Z
DESCRIPTION:6/6 B6 Brno - VK Brno\, z.s. 0:2 (-19\,-24)
DTSTART;TZID=Europe/Berlin:20251018T153000
DTEND;TZID=Europe/Berlin:20251018T173000
LOCATION:ZŠ Vejrostova\, Vejrostova 1066 Brno - Bystrc
SUMMARY:JM-U16M-IIA: B6 Brno-VK Brno\, z.s.
END:VEVENT
BEGIN:VEVENT
UID:35646436-6631-4966-b232-653561333331
DTSTAMP:20260422T033915Z
DESCRIPTION:2/2 VK Znojmo - Přímětice 'A' - B6 Brno 1:2 (-24\,21\,-11)
DTSTART;TZID=Europe/Berlin:20251018T103000
DTEND;TZID=Europe/Berlin:20251018T123000
LOCATION:ZŠ Vejrostova\, Vejrostova 1066 Brno - Bystrc
SUMMARY:JM-U16M-IIA: VK Znojmo - Přímětice 'A'-B6 Brno
END:VEVENT
BEGIN:VEVENT
UID:63353665-3538-4138-b533-383836373535
DTSTAMP:20260422T033915Z
DESCRIPTION:3/3 Sokol Šlapanice - B6 Brno 0:2 (-15\,-7)
DTSTART;TZID=Europe/Berlin:20251018T114500
DTEND;TZID=Europe/Berlin:20251018T134500
LOCATION:ZŠ Vejrostova\, Vejrostova 1066 Brno - Bystrc
SUMMARY:JM-U16M-IIA: Sokol Šlapanice-B6 Brno
END:VEVENT
BEGIN:VEVENT
UID:33376262-3833-4563-b130-626634303062
DTSTAMP:20260422T033915Z
DESCRIPTION:1/2 B6 Brno - VK Rousínov z.s. 2:0 (13\,18)
DTSTART;TZID=Europe/Berlin:20251115T090000
DTEND;TZID=Europe/Berlin:20251115T110000
LOCATION:ZŠ Vejrostova\, Vejrostova 1066 Brno - Bystrc
SUMMARY:JM-U16M-IIIA: B6 Brno-VK Rousínov z.s.
END:VEVENT
BEGIN:VEVENT
UID:38613265-3639-4233-b036-636532636666
DTSTAMP:20260422T033915Z
DESCRIPTION:3/5 B6 Brno - VK Znojmo - Přímětice 'A' 0:2 (-16\,-22)
DTSTART;TZID=Europe/Berlin:20251115T114500
DTEND;TZID=Europe/Berlin:20251115T134500
LOCATION:ZŠ Vejrostova\, Vejrostova 1066 Brno - Bystrc
SUMMARY:JM-U16M-IIIA: B6 Brno-VK Znojmo - Přímětice 'A'
END:VEVENT
BEGIN:VEVENT
UID:37313939-3864-4931-b335-656663303037
DTSTAMP:20260422T033915Z
DESCRIPTION:2/4 VK Brno\, z.s. - B6 Brno 2:1 (-23\,20\,11)
DTSTART;TZID=Europe/Berlin:20251115T103000
DTEND;TZID=Europe/Berlin:20251115T123000
LOCATION:ZŠ Vejrostova\, Vejrostova 1066 Brno - Bystrc
SUMMARY:JM-U16M-IIIA: VK Brno\, z.s.-B6 Brno
END:VEVENT
BEGIN:VEVENT
UID:62376236-6530-4631-b365-303537326261
DTSTAMP:20260422T033915Z
DESCRIPTION:3/6 B6 Brno - VK Brno\, z.s. 0:2 (-22\,-13)
DTSTART;TZID=Europe/Berlin:20251206T114500
DTEND;TZID=Europe/Berlin:20251206T134500
LOCATION:ZŠ Vejrostova\, Vejrostova 1066 Brno - Bystrc
SUMMARY:JM-U16M-IVA: B6 Brno-VK Brno\, z.s.
END:VEVENT
BEGIN:VEVENT
UID:32613338-3336-4864-a235-376532343566
DTSTAMP:20260422T033915Z
DESCRIPTION:1/2 VK Znojmo - Přímětice 'A' - B6 Brno 2:0 (17\,16)
DTSTART;TZID=Europe/Berlin:20251206T090000
DTEND;TZID=Europe/Berlin:20251206T110000
LOCATION:ZŠ Vejrostova\, Vejrostova 1066 Brno - Bystrc
SUMMARY:JM-U16M-IVA: VK Znojmo - Přímětice 'A'-B6 Brno
END:VEVENT
BEGIN:VEVENT
UID:35393231-3733-4665-b365-383736373139
DTSTAMP:20260422T033915Z
DESCRIPTION:2/3 Sokol Šlapanice - B6 Brno 0:2 (-15\,-11)
DTSTART;TZID=Europe/Berlin:20251206T103000
DTEND;TZID=Europe/Berlin:20251206T123000
LOCATION:ZŠ Vejrostova\, Vejrostova 1066 Brno - Bystrc
SUMMARY:JM-U16M-IVA: Sokol Šlapanice-B6 Brno
END:VEVENT
BEGIN:VEVENT
UID:34353331-3762-4533-b838-636138653863
DTSTAMP:20260422T033915Z
DESCRIPTION:3/3 B6 Brno - VK Brno\, z.s. 0:2 (-18\,-16)
DTSTART;TZID=Europe/Berlin:20260110T103000
DTEND;TZID=Europe/Berlin:20260110T123000
LOCATION:Sportovní hala Rousínov\, Habrovanská 1199 Rousínov
SUMMARY:JM-U16M-VA: B6 Brno-VK Brno\, z.s.
END:VEVENT
BEGIN:VEVENT
UID:34393631-6565-4534-b962-653664323037
DTSTAMP:20260422T033915Z
DESCRIPTION:1/1 VK Rousínov z.s. - B6 Brno 0:2 (-20\,-17)
DTSTART;TZID=Europe/Berlin:20260110T090000
DTEND;TZID=Europe/Berlin:20260110T110000
LOCATION:Sportovní hala Rousínov\, Habrovanská 1199 Rousínov
SUMMARY:JM-U16M-VA: VK Rousínov z.s.-B6 Brno
END:VEVENT
BEGIN:VEVENT
UID:35666263-3839-4236-b935-346239653736
DTSTAMP:20260422T033915Z
DESCRIPTION:5/5 VK Znojmo - Přímětice 'A' - B6 Brno 0:2 (-15\,-15)
DTSTART;TZID=Europe/Berlin:20260110T114500
DTEND;TZID=Europe/Berlin:20260110T134500
LOCATION:Sportovní hala Rousínov\, Habrovanská 1199 Rousínov
SUMMARY:JM-U16M-VA: VK Znojmo - Přímětice 'A'-B6 Brno
END:VEVENT
BEGIN:VEVENT
UID:38373436-6261-4834-a635-303031626136
DTSTAMP:20260422T033915Z
DESCRIPTION:1/2 B6 Brno - VK Brno\, z.s. 2:0 (22\,23)
DTSTART;TZID=Europe/Berlin:20260124T090000
DTEND;TZID=Europe/Berlin:20260124T110000
LOCATION:Sportovní hala Rousínov\, Habrovanská 1199 Rousínov
SUMMARY:JM-U16M-VIA: B6 Brno-VK Brno\, z.s.
END:VEVENT
BEGIN:VEVENT
UID:30373432-3433-4438-b638-326334373364
DTSTAMP:20260422T033915Z
DESCRIPTION:3/5 B6 Brno - Sokol Šlapanice 2:0 (13\,15)
DTSTART;TZID=Europe/Berlin:20260124T114500
DTEND;TZID=Europe/Berlin:20260124T134500
LOCATION:Sportovní hala Rousínov\, Habrovanská 1199 Rousínov
SUMMARY:JM-U16M-VIA: B6 Brno-Sokol Šlapanice
END:VEVENT
BEGIN:VEVENT
UID:39643634-3861-4534-a636-373961303533
DTSTAMP:20260422T033915Z
DESCRIPTION:2/4 VK Rousínov z.s. - B6 Brno 2:0 (22\,17)
DTSTART;TZID=Europe/Berlin:20260124T103000
DTEND;TZID=Europe/Berlin:20260124T123000
LOCATION:Sportovní hala Rousínov\, Habrovanská 1199 Rousínov
SUMMARY:JM-U16M-VIA: VK Rousínov z.s.-B6 Brno
END:VEVENT
BEGIN:VEVENT
UID:35353232-3038-4162-b566-336365613363
DTSTAMP:20260422T033915Z
DESCRIPTION:4/4 VK Brno\, z.s. - B6 Brno 2:X
DTSTART;TZID=Europe/Berlin:20260314T130000
DTEND;TZID=Europe/Berlin:20260314T150000
LOCATION:ZŠ Vejrostova\, Vejrostova 1066 Brno - Bystrc
SUMMARY:JM-U16M-VIIA: VK Brno\, z.s.-B6 Brno
END:VEVENT
BEGIN:VEVENT
UID:63363234-3839-4832-a236-656432346265
DTSTAMP:20260422T033915Z
DESCRIPTION:5/5 VK Znojmo - Přímětice 'A' - B6 Brno 2:X
DTSTART;TZID=Europe/Berlin:20260314T141500
DTEND;TZID=Europe/Berlin:20260314T161500
LOCATION:ZŠ Vejrostova\, Vejrostova 1066 Brno - Bystrc
SUMMARY:JM-U16M-VIIA: VK Znojmo - Přímětice 'A'-B6 Brno
END:VEVENT
BEGIN:VEVENT
UID:33303163-3932-4131-b636-613364363265
DTSTAMP:20260422T033915Z
DESCRIPTION:6/6 VK Rousínov z.s. - B6 Brno 2:X
DTSTART;TZID=Europe/Berlin:20260314T153000
DTEND;TZID=Europe/Berlin:20260314T173000
LOCATION:ZŠ Vejrostova\, Vejrostova 1066 Brno - Bystrc
SUMMARY:JM-U16M-VIIA: VK Rousínov z.s.-B6 Brno
END:VEVENT
BEGIN:VEVENT
UID:31383836-3763-4430-a131-643439383963
DTSTAMP:20260422T033915Z
DESCRIPTION:2/2 B6 Brno - Volejbalové sdružení Drásov 2:0 (11\,11)
DTSTART;TZID=Europe/Berlin:20260328T103000
DTEND;TZID=Europe/Berlin:20260328T123000
LOCATION:Základní škola Brno\, Sirotkova 36\, Sirotkova 371 Brno - Žabovřes
 ky
SUMMARY:JM-U16M-VIIIB: B6 Brno-Volejbalové sdružení Drásov
END:VEVENT
BEGIN:VEVENT
UID:65613764-3663-4431-a364-333765613761
DTSTAMP:20260422T033915Z
DESCRIPTION:1/1 TJ Slovan Ivančice\, z.s. - B6 Brno 0:2 (-22\,-15)
DTSTART;TZID=Europe/Berlin:20260328T090000
DTEND;TZID=Europe/Berlin:20260328T110000
LOCATION:sokolovna Ivančice\, Rybářská 1052 Ivančice
SUMMARY:JM-U16M-VIIIB: TJ Slovan Ivančice\, z.s.-B6 Brno
END:VEVENT
BEGIN:VEVENT
UID:33616432-6134-4564-b834-656331326434
DTSTAMP:20260422T033915Z
DESCRIPTION:2/4 B6 Brno - Sokol Šlapanice 2:0 (23\,14)\n4. vs 5. Kurt 2
DTSTART;TZID=Europe/Berlin:20260419T103000
DTEND;TZID=Europe/Berlin:20260419T123000
LOCATION:Základní škola Brno\, Sirotkova 36\, Sirotkova 371 Brno - Žabovřes
 ky
SUMMARY:JM-U16M-F: B6 Brno-Sokol Šlapanice
END:VEVENT
BEGIN:VEVENT
UID:61646163-3361-4831-a537-353264633437
DTSTAMP:20260422T033915Z
DESCRIPTION:6/11 B6 Brno - VK Znojmo - Přímětice 'A' 1:2 (-23\,19\,-11)\nL7
  vs L8 Kurt 2
DTSTART;TZID=Europe/Berlin:20260419T153000
DTEND;TZID=Europe/Berlin:20260419T173000
LOCATION:Základní škola Brno\, Sirotkova 36\, Sirotkova 371 Brno - Žabovřes
 ky
SUMMARY:JM-U16M-F: B6 Brno-VK Znojmo - Přímětice 'A'
END:VEVENT
BEGIN:VEVENT
UID:39386466-3335-4265-b261-363261636536
DTSTAMP:20260422T033915Z
DESCRIPTION:4/7 VK Brno\, z.s. - B6 Brno 2:0 (19\,18)\nW1 vs W4 Kurt 1
DTSTART;TZID=Europe/Berlin:20260419T130000
DTEND;TZID=Europe/Berlin:20260419T150000
LOCATION:Sportovní gymnázium Ludvíka Daňka\, Botanická 63 Brno - Ponava
SUMMARY:JM-U16M-F: VK Brno\, z.s.-B6 Brno
END:VEVENT
END:VCALENDAR
