BEGIN:VCALENDAR
VERSION:2.0
PRODID:-//VK PFN Znojmo "C"90569//NONSGML kigkonsult.se iCalcreator 2.41.80//
CALSCALE:GREGORIAN
UID:62333433-3031-4166-b539-663261363635
BEGIN:VEVENT
UID:39343230-3634-4965-b837-613939336262
DTSTAMP:20260423T014621Z
DESCRIPTION:3/3 VK Znojmo - Přímětice 'C' - VK Rousínov z.s. 0:2 (-11\,-11)
DTSTART;TZID=Europe/Berlin:20250913T103000
DTEND;TZID=Europe/Berlin:20250913T123000
LOCATION:Sportovní hala Rousínov\, Habrovanská 1199 Rousínov
SUMMARY:JM-U16M-KVA: VK Znojmo - Přímětice 'C'-VK Rousínov z.s.
END:VEVENT
BEGIN:VEVENT
UID:61646532-6461-4564-b038-363134326632
DTSTAMP:20260423T014621Z
DESCRIPTION:8/8 VK Znojmo - Přímětice 'C' - Volejbalové sdružení Drásov 1:1
  (22\,-14)
DTSTART;TZID=Europe/Berlin:20250913T130000
DTEND;TZID=Europe/Berlin:20250913T150000
LOCATION:Sportovní hala Rousínov\, Habrovanská 1199 Rousínov
SUMMARY:JM-U16M-KVA: VK Znojmo - Přímětice 'C'-Volejbalové sdružení Drásov
END:VEVENT
BEGIN:VEVENT
UID:33336135-3439-4764-b737-323538633061
DTSTAMP:20260423T014621Z
DESCRIPTION:2/2 VK Znojmo - Přímětice 'A' - VK Znojmo - Přímětice 'C' 2:0 (
 5\,9)
DTSTART;TZID=Europe/Berlin:20250913T090000
DTEND;TZID=Europe/Berlin:20250913T110000
LOCATION:Sportovní hala Rousínov\, Habrovanská 1199 Rousínov
SUMMARY:JM-U16M-KVA: VK Znojmo - Přímětice 'A'-VK Znojmo - Přímětice 'C'
END:VEVENT
BEGIN:VEVENT
UID:63393933-6434-4565-b762-316137363830
DTSTAMP:20260423T014621Z
DESCRIPTION:6/6 TJ Slovan Ivančice\, z.s. - VK Znojmo - Přímětice 'C' 2:0 (
 10\,15)
DTSTART;TZID=Europe/Berlin:20250913T114500
DTEND;TZID=Europe/Berlin:20250913T134500
LOCATION:Sportovní hala Rousínov\, Habrovanská 1199 Rousínov
SUMMARY:JM-U16M-KVA: TJ Slovan Ivančice\, z.s.-VK Znojmo - Přímětice 'C'
END:VEVENT
BEGIN:VEVENT
UID:65393331-3265-4933-b933-363134623130
DTSTAMP:20260423T014621Z
DESCRIPTION:1/1 VK Znojmo - Přímětice 'C' - Volejbalové sdružení Drásov 0:2
  (-12\,-12)
DTSTART;TZID=Europe/Berlin:20251004T090000
DTEND;TZID=Europe/Berlin:20251004T110000
LOCATION:Tělocvična ZŠ Prokopa Diviše a MŠ\, Ke Škole 569 Znojmo - Přímětic
 e
SUMMARY:JM-U16M-IC: VK Znojmo - Přímětice 'C'-Volejbalové sdružení Drásov
END:VEVENT
BEGIN:VEVENT
UID:37623934-3735-4031-b937-326539666663
DTSTAMP:20260423T014621Z
DESCRIPTION:3/3 TJ SOKOL LETOVICE\, z.s. - VK Znojmo - Přímětice 'C' 2:0 (1
 6\,9)
DTSTART;TZID=Europe/Berlin:20251004T114500
DTEND;TZID=Europe/Berlin:20251004T134500
LOCATION:Tělocvična ZŠ Prokopa Diviše a MŠ\, Ke Škole 569 Znojmo - Přímětic
 e
SUMMARY:JM-U16M-IC: TJ SOKOL LETOVICE\, z.s.-VK Znojmo - Přímětice 'C'
END:VEVENT
BEGIN:VEVENT
UID:34373461-6164-4933-a439-353061396535
DTSTAMP:20260423T014621Z
DESCRIPTION:1/1 VK Znojmo - Přímětice 'C' - TJ TESLA BRNO z.s. 0:2 (-15\,-1
 6)
DTSTART;TZID=Europe/Berlin:20251018T090000
DTEND;TZID=Europe/Berlin:20251018T110000
LOCATION:Tělocvična ZŠ Prokopa Diviše a MŠ\, Ke Škole 569 Znojmo - Přímětic
 e
SUMMARY:JM-U16M-IIC: VK Znojmo - Přímětice 'C'-TJ TESLA BRNO z.s.
END:VEVENT
BEGIN:VEVENT
UID:66363766-6133-4133-b338-626466346534
DTSTAMP:20260423T014621Z
DESCRIPTION:3/3 TJ SOKOL LETOVICE\, z.s. - VK Znojmo - Přímětice 'C' 2:1 (1
 1\,-17\,7)
DTSTART;TZID=Europe/Berlin:20251018T114500
DTEND;TZID=Europe/Berlin:20251018T134500
LOCATION:Tělocvična ZŠ Prokopa Diviše a MŠ\, Ke Škole 569 Znojmo - Přímětic
 e
SUMMARY:JM-U16M-IIC: TJ SOKOL LETOVICE\, z.s.-VK Znojmo - Přímětice 'C'
END:VEVENT
BEGIN:VEVENT
UID:35386163-3631-4330-b338-363333633364
DTSTAMP:20260423T014621Z
DESCRIPTION:3/3 VK Znojmo - Přímětice 'C' - Volejbalové sdružení Drásov 0:2
  (-22\,-23)
DTSTART;TZID=Europe/Berlin:20251115T114500
DTEND;TZID=Europe/Berlin:20251115T134500
LOCATION:Základní škola\,  Dolní Loučky207
SUMMARY:JM-U16M-IIIC: VK Znojmo - Přímětice 'C'-Volejbalové sdružení Drásov
END:VEVENT
BEGIN:VEVENT
UID:36396664-3937-4461-b039-353363346438
DTSTAMP:20260423T014621Z
DESCRIPTION:2/2 TJ SOKOL LETOVICE\, z.s. - VK Znojmo - Přímětice 'C' 2:0 (1
 5\,20)
DTSTART;TZID=Europe/Berlin:20251115T103000
DTEND;TZID=Europe/Berlin:20251115T123000
LOCATION:Základní škola\,  Dolní Loučky207
SUMMARY:JM-U16M-IIIC: TJ SOKOL LETOVICE\, z.s.-VK Znojmo - Přímětice 'C'
END:VEVENT
BEGIN:VEVENT
UID:36373162-6635-4735-b965-613563383631
DTSTAMP:20260423T014621Z
DESCRIPTION:1/1 VK Znojmo - Přímětice 'C' - TJ Slovan Ivančice\, z.s. 0:2 (
 -9\,-12)
DTSTART;TZID=Europe/Berlin:20251206T090000
DTEND;TZID=Europe/Berlin:20251206T110000
LOCATION:Tělocvična ZŠ Prokopa Diviše a MŠ\, Ke Škole 569 Znojmo - Přímětic
 e
SUMMARY:JM-U16M-IVC: VK Znojmo - Přímětice 'C'-TJ Slovan Ivančice\, z.s.
END:VEVENT
BEGIN:VEVENT
UID:63623138-6234-4332-b762-633766336564
DTSTAMP:20260423T014621Z
DESCRIPTION:3/3 Volejbalové sdružení Drásov - VK Znojmo - Přímětice 'C' 2:0
  (16\,21)
DTSTART;TZID=Europe/Berlin:20251206T114500
DTEND;TZID=Europe/Berlin:20251206T134500
LOCATION:Tělocvična ZŠ Prokopa Diviše a MŠ\, Ke Škole 569 Znojmo - Přímětic
 e
SUMMARY:JM-U16M-IVC: Volejbalové sdružení Drásov-VK Znojmo - Přímětice 'C'
END:VEVENT
BEGIN:VEVENT
UID:34343136-3463-4232-a632-333562333866
DTSTAMP:20260423T014621Z
DESCRIPTION:1/1 VK Znojmo - Přímětice 'C' - Volejbalové sdružení Drásov 0:2
  (-8\,-14)
DTSTART;TZID=Europe/Berlin:20260110T090000
DTEND;TZID=Europe/Berlin:20260110T110000
LOCATION:Tělocvična ZŠ Prokopa Diviše a MŠ\, Ke Škole 569 Znojmo - Přímětic
 e
SUMMARY:JM-U16M-VC: VK Znojmo - Přímětice 'C'-Volejbalové sdružení Drásov
END:VEVENT
BEGIN:VEVENT
UID:32336234-3266-4662-b431-366133306139
DTSTAMP:20260423T014621Z
DESCRIPTION:3/3 TJ SOKOL LETOVICE\, z.s. - VK Znojmo - Přímětice 'C' 2:0 (1
 5\,11)
DTSTART;TZID=Europe/Berlin:20260110T114500
DTEND;TZID=Europe/Berlin:20260110T134500
LOCATION:Tělocvična ZŠ Prokopa Diviše a MŠ\, Ke Škole 569 Znojmo - Přímětic
 e
SUMMARY:JM-U16M-VC: TJ SOKOL LETOVICE\, z.s.-VK Znojmo - Přímětice 'C'
END:VEVENT
BEGIN:VEVENT
UID:31336162-3837-4963-b339-343064656263
DTSTAMP:20260423T014621Z
DESCRIPTION:3/3 VK Znojmo - Přímětice 'C' - TJ SOKOL LETOVICE\, z.s. 0:2 (-
 6\,-10)
DTSTART;TZID=Europe/Berlin:20260124T114500
DTEND;TZID=Europe/Berlin:20260124T134500
LOCATION:Sportovní hala Letovice\, V zahradách 831 Letovice
SUMMARY:JM-U16M-VIC: VK Znojmo - Přímětice 'C'-TJ SOKOL LETOVICE\, z.s.
END:VEVENT
BEGIN:VEVENT
UID:33633364-6631-4134-a666-643632386132
DTSTAMP:20260423T014621Z
DESCRIPTION:2/2 TJ TESLA BRNO z.s. - VK Znojmo - Přímětice 'C' 2:0 (14\,18)
DTSTART;TZID=Europe/Berlin:20260124T103000
DTEND;TZID=Europe/Berlin:20260124T123000
LOCATION:Sportovní hala Letovice\, V zahradách 831 Letovice
SUMMARY:JM-U16M-VIC: TJ TESLA BRNO z.s.-VK Znojmo - Přímětice 'C'
END:VEVENT
BEGIN:VEVENT
UID:34613365-3764-4631-a539-616663336563
DTSTAMP:20260423T014621Z
DESCRIPTION:1/1 VK Znojmo - Přímětice 'C' - Volejbalové sdružení Drásov 0:2
  (-15\,-23)
DTSTART;TZID=Europe/Berlin:20260314T090000
DTEND;TZID=Europe/Berlin:20260314T110000
LOCATION:Tělocvična ZŠ Prokopa Diviše a MŠ\, Ke Škole 569 Znojmo - Přímětic
 e
SUMMARY:JM-U16M-VIIC: VK Znojmo - Přímětice 'C'-Volejbalové sdružení Drásov
END:VEVENT
BEGIN:VEVENT
UID:65303838-6239-4432-a563-383265343837
DTSTAMP:20260423T014621Z
DESCRIPTION:3/3 TJ SOKOL LETOVICE\, z.s. - VK Znojmo - Přímětice 'C' 2:0 (1
 6\,9)
DTSTART;TZID=Europe/Berlin:20260314T114500
DTEND;TZID=Europe/Berlin:20260314T134500
LOCATION:Tělocvična ZŠ Prokopa Diviše a MŠ\, Ke Škole 569 Znojmo - Přímětic
 e
SUMMARY:JM-U16M-VIIC: TJ SOKOL LETOVICE\, z.s.-VK Znojmo - Přímětice 'C'
END:VEVENT
BEGIN:VEVENT
UID:32376335-3935-4261-b664-383864316362
DTSTAMP:20260423T014621Z
DESCRIPTION:3/3 VK Znojmo - Přímětice 'C' - TJ SOKOL LETOVICE\, z.s. 0:2 (-
 9\,-7)
DTSTART;TZID=Europe/Berlin:20260328T114500
DTEND;TZID=Europe/Berlin:20260328T134500
LOCATION:Sportovní hala Letovice\, V zahradách 831 Letovice
SUMMARY:JM-U16M-VIIIC: VK Znojmo - Přímětice 'C'-TJ SOKOL LETOVICE\, z.s.
END:VEVENT
BEGIN:VEVENT
UID:32646230-6139-4132-b766-326434363932
DTSTAMP:20260423T014621Z
DESCRIPTION:2/2 TJ TESLA BRNO z.s. - VK Znojmo - Přímětice 'C' 2:0 (9\,7)
DTSTART;TZID=Europe/Berlin:20260328T103000
DTEND;TZID=Europe/Berlin:20260328T123000
LOCATION:Sportovní hala Letovice\, V zahradách 831 Letovice
SUMMARY:JM-U16M-VIIIC: TJ TESLA BRNO z.s.-VK Znojmo - Přímětice 'C'
END:VEVENT
END:VCALENDAR
