BEGIN:VCALENDAR
VERSION:2.0
PRODID:-//TJ TESLA BRNO z.s.90570//NONSGML kigkonsult.se iCalcreator 2.41.80//
CALSCALE:GREGORIAN
UID:66323765-3439-4863-b630-376463333430
BEGIN:VEVENT
UID:32333962-6530-4330-a165-343031353438
DTSTAMP:20260422T070119Z
DESCRIPTION:3/3 TJ TESLA BRNO z.s. - VK Brno\, z.s. 0:2 (-12\,-15)
DTSTART;TZID=Europe/Berlin:20250913T103000
DTEND;TZID=Europe/Berlin:20250913T123000
LOCATION:ZŠ Vejrostova\, Vejrostova 1066 Brno - Bystrc
SUMMARY:JM-U16M-KVB: TJ TESLA BRNO z.s.-VK Brno\, z.s.
END:VEVENT
BEGIN:VEVENT
UID:36633135-3934-4734-a432-363365363234
DTSTAMP:20260422T070119Z
DESCRIPTION:8/8 TJ TESLA BRNO z.s. - B6 Brno 0:2 (-10\,-18)
DTSTART;TZID=Europe/Berlin:20250913T130000
DTEND;TZID=Europe/Berlin:20250913T150000
LOCATION:ZŠ Vejrostova\, Vejrostova 1066 Brno - Bystrc
SUMMARY:JM-U16M-KVB: TJ TESLA BRNO z.s.-B6 Brno
END:VEVENT
BEGIN:VEVENT
UID:62666663-6262-4962-b966-643135323361
DTSTAMP:20260422T070119Z
DESCRIPTION:2/2 Sokol Šlapanice - TJ TESLA BRNO z.s. 1:1 (19\,-16)
DTSTART;TZID=Europe/Berlin:20250913T090000
DTEND;TZID=Europe/Berlin:20250913T110000
LOCATION:ZŠ Vejrostova\, Vejrostova 1066 Brno - Bystrc
SUMMARY:JM-U16M-KVB: Sokol Šlapanice-TJ TESLA BRNO z.s.
END:VEVENT
BEGIN:VEVENT
UID:36396132-3566-4134-b738-633962666134
DTSTAMP:20260422T070119Z
DESCRIPTION:6/6 TJ SOKOL LETOVICE\, z.s. - TJ TESLA BRNO z.s. 0:2 (-19\,-11
 )
DTSTART;TZID=Europe/Berlin:20250913T114500
DTEND;TZID=Europe/Berlin:20250913T134500
LOCATION:ZŠ Vejrostova\, Vejrostova 1066 Brno - Bystrc
SUMMARY:JM-U16M-KVB: TJ SOKOL LETOVICE\, z.s.-TJ TESLA BRNO z.s.
END:VEVENT
BEGIN:VEVENT
UID:31636532-3833-4538-b830-613966633737
DTSTAMP:20260422T070119Z
DESCRIPTION:2/2 TJ TESLA BRNO z.s. - TJ Slovan Ivančice\, z.s. 0:2 (-16\,-2
 2)
DTSTART;TZID=Europe/Berlin:20251004T103000
DTEND;TZID=Europe/Berlin:20251004T123000
LOCATION:Hala TJ Sokol Šlapanice\, Smetanova 1662 Šlapanice
SUMMARY:JM-U16M-IB: TJ TESLA BRNO z.s.-TJ Slovan Ivančice\, z.s.
END:VEVENT
BEGIN:VEVENT
UID:32346431-6430-4333-b135-346334313064
DTSTAMP:20260422T070119Z
DESCRIPTION:1/1 Sokol Šlapanice - TJ TESLA BRNO z.s. 2:0 (16\,17)
DTSTART;TZID=Europe/Berlin:20251004T090000
DTEND;TZID=Europe/Berlin:20251004T110000
LOCATION:Hala TJ Sokol Šlapanice\, Smetanova 1662 Šlapanice
SUMMARY:JM-U16M-IB: Sokol Šlapanice-TJ TESLA BRNO z.s.
END:VEVENT
BEGIN:VEVENT
UID:33616261-3237-4330-b138-396537636462
DTSTAMP:20260422T070119Z
DESCRIPTION:2/2 TJ TESLA BRNO z.s. - TJ SOKOL LETOVICE\, z.s. 2:0 (12\,16)
DTSTART;TZID=Europe/Berlin:20251018T103000
DTEND;TZID=Europe/Berlin:20251018T123000
LOCATION:Tělocvična ZŠ Prokopa Diviše a MŠ\, Ke Škole 569 Znojmo - Přímětic
 e
SUMMARY:JM-U16M-IIC: TJ TESLA BRNO z.s.-TJ SOKOL LETOVICE\, z.s.
END:VEVENT
BEGIN:VEVENT
UID:30333630-3433-4638-b930-326361386330
DTSTAMP:20260422T070119Z
DESCRIPTION:1/1 VK Znojmo - Přímětice 'C' - TJ TESLA BRNO z.s. 0:2 (-15\,-1
 6)
DTSTART;TZID=Europe/Berlin:20251018T090000
DTEND;TZID=Europe/Berlin:20251018T110000
LOCATION:Tělocvična ZŠ Prokopa Diviše a MŠ\, Ke Škole 569 Znojmo - Přímětic
 e
SUMMARY:JM-U16M-IIC: VK Znojmo - Přímětice 'C'-TJ TESLA BRNO z.s.
END:VEVENT
BEGIN:VEVENT
UID:34323135-3530-4131-b137-323634313333
DTSTAMP:20260422T070119Z
DESCRIPTION:1/1 TJ TESLA BRNO z.s. - Sokol Šlapanice 1:2 (-12\,21\,-8)
DTSTART;TZID=Europe/Berlin:20251115T090000
DTEND;TZID=Europe/Berlin:20251115T110000
LOCATION:ZŠ Milénova 14\, Milénova 808 Brno - Lesná
SUMMARY:JM-U16M-IIIB: TJ TESLA BRNO z.s.-Sokol Šlapanice
END:VEVENT
BEGIN:VEVENT
UID:38386630-3731-4435-b964-336537353136
DTSTAMP:20260422T070119Z
DESCRIPTION:3/3 TJ Slovan Ivančice\, z.s. - TJ TESLA BRNO z.s. 0:2 (-24\,-1
 7)
DTSTART;TZID=Europe/Berlin:20251115T114500
DTEND;TZID=Europe/Berlin:20251115T134500
LOCATION:ZŠ Milénova 14\, Milénova 808 Brno - Lesná
SUMMARY:JM-U16M-IIIB: TJ Slovan Ivančice\, z.s.-TJ TESLA BRNO z.s.
END:VEVENT
BEGIN:VEVENT
UID:30643239-6539-4536-a230-386131363565
DTSTAMP:20260422T070119Z
DESCRIPTION:2/2 TJ TESLA BRNO z.s. - TJ SOKOL LETOVICE\, z.s. 2:X
DTSTART;TZID=Europe/Berlin:20251213T103000
DTEND;TZID=Europe/Berlin:20251213T123000
LOCATION:Hala Tyršova\, Tyršova 1221 Rousínov
SUMMARY:JM-U16M-IVB: TJ TESLA BRNO z.s.-TJ SOKOL LETOVICE\, z.s.
END:VEVENT
BEGIN:VEVENT
UID:36363136-6662-4564-a638-303139376466
DTSTAMP:20260422T070119Z
DESCRIPTION:1/1 VK Rousínov z.s. - TJ TESLA BRNO z.s. 2:1 (17\,-21\,4)
DTSTART;TZID=Europe/Berlin:20251217T180000
DTEND;TZID=Europe/Berlin:20251217T200000
LOCATION:Hala Tyršova\, Tyršova 1221 Rousínov
SUMMARY:JM-U16M-IVB: VK Rousínov z.s.-TJ TESLA BRNO z.s.
END:VEVENT
BEGIN:VEVENT
UID:32613530-6631-4538-a534-666633346262
DTSTAMP:20260422T070119Z
DESCRIPTION:1/1 TJ TESLA BRNO z.s. - Sokol Šlapanice 1:2 (-14\,17\,-13)
DTSTART;TZID=Europe/Berlin:20260110T090000
DTEND;TZID=Europe/Berlin:20260110T110000
LOCATION:ZŠ Milénova 14\, Milénova 808 Brno - Lesná
SUMMARY:JM-U16M-VB: TJ TESLA BRNO z.s.-Sokol Šlapanice
END:VEVENT
BEGIN:VEVENT
UID:38336231-3361-4663-a535-323363623737
DTSTAMP:20260422T070119Z
DESCRIPTION:3/3 TJ Slovan Ivančice\, z.s. - TJ TESLA BRNO z.s. 2:0 (17\,18)
DTSTART;TZID=Europe/Berlin:20260110T114500
DTEND;TZID=Europe/Berlin:20260110T134500
LOCATION:ZŠ Milénova 14\, Milénova 808 Brno - Lesná
SUMMARY:JM-U16M-VB: TJ Slovan Ivančice\, z.s.-TJ TESLA BRNO z.s.
END:VEVENT
BEGIN:VEVENT
UID:65323062-3631-4530-b837-616339343132
DTSTAMP:20260422T070119Z
DESCRIPTION:2/2 TJ TESLA BRNO z.s. - VK Znojmo - Přímětice 'C' 2:0 (14\,18)
DTSTART;TZID=Europe/Berlin:20260124T103000
DTEND;TZID=Europe/Berlin:20260124T123000
LOCATION:Sportovní hala Letovice\, V zahradách 831 Letovice
SUMMARY:JM-U16M-VIC: TJ TESLA BRNO z.s.-VK Znojmo - Přímětice 'C'
END:VEVENT
BEGIN:VEVENT
UID:65346662-6536-4466-a435-393430653066
DTSTAMP:20260422T070119Z
DESCRIPTION:1/1 TJ SOKOL LETOVICE\, z.s. - TJ TESLA BRNO z.s. 0:2 (-15\,-17
 )
DTSTART;TZID=Europe/Berlin:20260124T090000
DTEND;TZID=Europe/Berlin:20260124T110000
LOCATION:Sportovní hala Letovice\, V zahradách 831 Letovice
SUMMARY:JM-U16M-VIC: TJ SOKOL LETOVICE\, z.s.-TJ TESLA BRNO z.s.
END:VEVENT
BEGIN:VEVENT
UID:65376564-3038-4663-b266-633932313631
DTSTAMP:20260422T070119Z
DESCRIPTION:3/3 TJ TESLA BRNO z.s. - TJ Slovan Ivančice\, z.s. 0:2 (-17\,-2
 4)
DTSTART;TZID=Europe/Berlin:20260314T114500
DTEND;TZID=Europe/Berlin:20260314T134500
LOCATION:, Nádražní 698 Moravský Krumlov
SUMMARY:JM-U16M-VIIB: TJ TESLA BRNO z.s.-TJ Slovan Ivančice\, z.s.
END:VEVENT
BEGIN:VEVENT
UID:38366234-3236-4434-a231-303233303738
DTSTAMP:20260422T070119Z
DESCRIPTION:2/2 Sokol Šlapanice - TJ TESLA BRNO z.s. 2:1 (-19\,17\,6)
DTSTART;TZID=Europe/Berlin:20260314T103000
DTEND;TZID=Europe/Berlin:20260314T123000
LOCATION:, Nádražní 698 Moravský Krumlov
SUMMARY:JM-U16M-VIIB: Sokol Šlapanice-TJ TESLA BRNO z.s.
END:VEVENT
BEGIN:VEVENT
UID:31643965-6534-4938-b431-313034643336
DTSTAMP:20260422T070119Z
DESCRIPTION:2/2 TJ TESLA BRNO z.s. - VK Znojmo - Přímětice 'C' 2:0 (9\,7)
DTSTART;TZID=Europe/Berlin:20260328T103000
DTEND;TZID=Europe/Berlin:20260328T123000
LOCATION:Sportovní hala Letovice\, V zahradách 831 Letovice
SUMMARY:JM-U16M-VIIIC: TJ TESLA BRNO z.s.-VK Znojmo - Přímětice 'C'
END:VEVENT
BEGIN:VEVENT
UID:61333735-3932-4338-a263-653666353762
DTSTAMP:20260422T070119Z
DESCRIPTION:1/1 TJ SOKOL LETOVICE\, z.s. - TJ TESLA BRNO z.s. 0:2 (-23\,-14
 )
DTSTART;TZID=Europe/Berlin:20260328T090000
DTEND;TZID=Europe/Berlin:20260328T110000
LOCATION:Sportovní hala Letovice\, V zahradách 831 Letovice
SUMMARY:JM-U16M-VIIIC: TJ SOKOL LETOVICE\, z.s.-TJ TESLA BRNO z.s.
END:VEVENT
BEGIN:VEVENT
UID:32303237-3563-4463-a136-623936626233
DTSTAMP:20260422T070119Z
DESCRIPTION:3/6 TJ TESLA BRNO z.s. - TJ Slovan Ivančice\, z.s. 2:0 (26\,21)
 \nL2 vs L3 Kurt 2
DTSTART;TZID=Europe/Berlin:20260419T114500
DTEND;TZID=Europe/Berlin:20260419T134500
LOCATION:ZŠ Milénova 14\, Milénova 808 Brno - Lesná
SUMMARY:JM-U16M-F: TJ TESLA BRNO z.s.-TJ Slovan Ivančice\, z.s.
END:VEVENT
BEGIN:VEVENT
UID:61653731-3434-4864-b362-376139366130
DTSTAMP:20260422T070119Z
DESCRIPTION:1/2 VK Znojmo - Přímětice 'A' - TJ TESLA BRNO z.s. 2:0 (9\,17)
 \n2. vs 7. Kurt 2
DTSTART;TZID=Europe/Berlin:20260419T090000
DTEND;TZID=Europe/Berlin:20260419T110000
LOCATION:Tělocvična ZŠ Prokopa Diviše a MŠ\, Ke Škole 569 Znojmo - Přímětic
 e
SUMMARY:JM-U16M-F: VK Znojmo - Přímětice 'A'-TJ TESLA BRNO z.s.
END:VEVENT
BEGIN:VEVENT
UID:31313132-6335-4535-a663-653965383130
DTSTAMP:20260422T070119Z
DESCRIPTION:5/10 Sokol Šlapanice - TJ TESLA BRNO z.s. 2:0 (21\,17)\nW5 vs W
 6 Kurt 1
DTSTART;TZID=Europe/Berlin:20260419T141500
DTEND;TZID=Europe/Berlin:20260419T161500
LOCATION:ZŠ Na Zahrádkách \, Na Zahrádkách 1716 Šlapanice
SUMMARY:JM-U16M-F: Sokol Šlapanice-TJ TESLA BRNO z.s.
END:VEVENT
END:VCALENDAR
