BEGIN:VCALENDAR
VERSION:2.0
PRODID:-//Volejbalové sdružení Drásov90573//NONSGML kigkonsult.se iCalcreator 2.41.80//
CALSCALE:GREGORIAN
UID:61366463-6435-4638-a435-613434306135
BEGIN:VEVENT
UID:64383838-3237-4065-a538-633263373732
DTSTAMP:20260423T004325Z
DESCRIPTION:9/9 Volejbalové sdružení Drásov - TJ Slovan Ivančice\, z.s. 1:1
  (-18\,21)
DTSTART;TZID=Europe/Berlin:20250913T141500
DTEND;TZID=Europe/Berlin:20250913T161500
LOCATION:Sportovní hala Rousínov\, Habrovanská 1199 Rousínov
SUMMARY:JM-U16M-KVA: Volejbalové sdružení Drásov-TJ Slovan Ivančice\, z.s.
END:VEVENT
BEGIN:VEVENT
UID:66626361-3833-4236-b064-636133633464
DTSTAMP:20260423T004325Z
DESCRIPTION:1/1 VK Rousínov z.s. - Volejbalové sdružení Drásov 2:0 (17\,15)
DTSTART;TZID=Europe/Berlin:20250913T090000
DTEND;TZID=Europe/Berlin:20250913T110000
LOCATION:Sportovní hala Rousínov\, Habrovanská 1199 Rousínov
SUMMARY:JM-U16M-KVA: VK Rousínov z.s.-Volejbalové sdružení Drásov
END:VEVENT
BEGIN:VEVENT
UID:65356234-6138-4165-b739-336663323565
DTSTAMP:20260423T004325Z
DESCRIPTION:5/5 VK Znojmo - Přímětice 'A' - Volejbalové sdružení Drásov 2:0
  (13\,10)
DTSTART;TZID=Europe/Berlin:20250913T114500
DTEND;TZID=Europe/Berlin:20250913T134500
LOCATION:Sportovní hala Rousínov\, Habrovanská 1199 Rousínov
SUMMARY:JM-U16M-KVA: VK Znojmo - Přímětice 'A'-Volejbalové sdružení Drásov
END:VEVENT
BEGIN:VEVENT
UID:63323632-3465-4037-b461-623763643333
DTSTAMP:20260423T004325Z
DESCRIPTION:8/8 VK Znojmo - Přímětice 'C' - Volejbalové sdružení Drásov 1:1
  (22\,-14)
DTSTART;TZID=Europe/Berlin:20250913T130000
DTEND;TZID=Europe/Berlin:20250913T150000
LOCATION:Sportovní hala Rousínov\, Habrovanská 1199 Rousínov
SUMMARY:JM-U16M-KVA: VK Znojmo - Přímětice 'C'-Volejbalové sdružení Drásov
END:VEVENT
BEGIN:VEVENT
UID:30613934-3432-4634-b031-626365396139
DTSTAMP:20260423T004325Z
DESCRIPTION:2/2 Volejbalové sdružení Drásov - TJ SOKOL LETOVICE\, z.s. 2:0 
 (16\,20)
DTSTART;TZID=Europe/Berlin:20251004T103000
DTEND;TZID=Europe/Berlin:20251004T123000
LOCATION:Tělocvična ZŠ Prokopa Diviše a MŠ\, Ke Škole 569 Znojmo - Přímětic
 e
SUMMARY:JM-U16M-IC: Volejbalové sdružení Drásov-TJ SOKOL LETOVICE\, z.s.
END:VEVENT
BEGIN:VEVENT
UID:64363232-6634-4265-a362-636238393665
DTSTAMP:20260423T004325Z
DESCRIPTION:1/1 VK Znojmo - Přímětice 'C' - Volejbalové sdružení Drásov 0:2
  (-12\,-12)
DTSTART;TZID=Europe/Berlin:20251004T090000
DTEND;TZID=Europe/Berlin:20251004T110000
LOCATION:Tělocvična ZŠ Prokopa Diviše a MŠ\, Ke Škole 569 Znojmo - Přímětic
 e
SUMMARY:JM-U16M-IC: VK Znojmo - Přímětice 'C'-Volejbalové sdružení Drásov
END:VEVENT
BEGIN:VEVENT
UID:64373936-3333-4232-b830-613761313830
DTSTAMP:20260423T004325Z
DESCRIPTION:1/1 Volejbalové sdružení Drásov - VK Rousínov z.s. 0:2 (-15\,-1
 8)
DTSTART;TZID=Europe/Berlin:20251018T090000
DTEND;TZID=Europe/Berlin:20251018T110000
LOCATION:Hala u ZŠ TGM Drásov\, Školní 167 Drásov
SUMMARY:JM-U16M-IIB: Volejbalové sdružení Drásov-VK Rousínov z.s.
END:VEVENT
BEGIN:VEVENT
UID:35386133-3965-4431-a465-396536306633
DTSTAMP:20260423T004325Z
DESCRIPTION:3/3 TJ Slovan Ivančice\, z.s. - Volejbalové sdružení Drásov 2:1
  (21\,-20\,11)
DTSTART;TZID=Europe/Berlin:20251018T114500
DTEND;TZID=Europe/Berlin:20251018T134500
LOCATION:Hala u ZŠ TGM Drásov\, Školní 167 Drásov
SUMMARY:JM-U16M-IIB: TJ Slovan Ivančice\, z.s.-Volejbalové sdružení Drásov
END:VEVENT
BEGIN:VEVENT
UID:66616366-3333-4334-b539-653335663839
DTSTAMP:20260423T004325Z
DESCRIPTION:1/1 Volejbalové sdružení Drásov - TJ SOKOL LETOVICE\, z.s. 0:2 
 (-18\,-25)
DTSTART;TZID=Europe/Berlin:20251115T090000
DTEND;TZID=Europe/Berlin:20251115T110000
LOCATION:Základní škola\,  Dolní Loučky207
SUMMARY:JM-U16M-IIIC: Volejbalové sdružení Drásov-TJ SOKOL LETOVICE\, z.s.
END:VEVENT
BEGIN:VEVENT
UID:39613031-3466-4138-b431-316534616664
DTSTAMP:20260423T004325Z
DESCRIPTION:3/3 VK Znojmo - Přímětice 'C' - Volejbalové sdružení Drásov 0:2
  (-22\,-23)
DTSTART;TZID=Europe/Berlin:20251115T114500
DTEND;TZID=Europe/Berlin:20251115T134500
LOCATION:Základní škola\,  Dolní Loučky207
SUMMARY:JM-U16M-IIIC: VK Znojmo - Přímětice 'C'-Volejbalové sdružení Drásov
END:VEVENT
BEGIN:VEVENT
UID:39326663-3566-4738-b938-386239636564
DTSTAMP:20260423T004325Z
DESCRIPTION:3/3 Volejbalové sdružení Drásov - VK Znojmo - Přímětice 'C' 2:0
  (16\,21)
DTSTART;TZID=Europe/Berlin:20251206T114500
DTEND;TZID=Europe/Berlin:20251206T134500
LOCATION:Tělocvična ZŠ Prokopa Diviše a MŠ\, Ke Škole 569 Znojmo - Přímětic
 e
SUMMARY:JM-U16M-IVC: Volejbalové sdružení Drásov-VK Znojmo - Přímětice 'C'
END:VEVENT
BEGIN:VEVENT
UID:64663231-3063-4234-b537-623162633161
DTSTAMP:20260423T004325Z
DESCRIPTION:2/2 TJ Slovan Ivančice\, z.s. - Volejbalové sdružení Drásov 2:0
  (5\,14)
DTSTART;TZID=Europe/Berlin:20251206T103000
DTEND;TZID=Europe/Berlin:20251206T123000
LOCATION:Tělocvična ZŠ Prokopa Diviše a MŠ\, Ke Škole 569 Znojmo - Přímětic
 e
SUMMARY:JM-U16M-IVC: TJ Slovan Ivančice\, z.s.-Volejbalové sdružení Drásov
END:VEVENT
BEGIN:VEVENT
UID:37663332-3338-4361-a464-613434313735
DTSTAMP:20260423T004325Z
DESCRIPTION:2/2 Volejbalové sdružení Drásov - TJ SOKOL LETOVICE\, z.s. 2:0 
 (16\,23)
DTSTART;TZID=Europe/Berlin:20260110T103000
DTEND;TZID=Europe/Berlin:20260110T123000
LOCATION:Tělocvična ZŠ Prokopa Diviše a MŠ\, Ke Škole 569 Znojmo - Přímětic
 e
SUMMARY:JM-U16M-VC: Volejbalové sdružení Drásov-TJ SOKOL LETOVICE\, z.s.
END:VEVENT
BEGIN:VEVENT
UID:36376230-6531-4533-b130-376264343665
DTSTAMP:20260423T004325Z
DESCRIPTION:1/1 VK Znojmo - Přímětice 'C' - Volejbalové sdružení Drásov 0:2
  (-8\,-14)
DTSTART;TZID=Europe/Berlin:20260110T090000
DTEND;TZID=Europe/Berlin:20260110T110000
LOCATION:Tělocvična ZŠ Prokopa Diviše a MŠ\, Ke Škole 569 Znojmo - Přímětic
 e
SUMMARY:JM-U16M-VC: VK Znojmo - Přímětice 'C'-Volejbalové sdružení Drásov
END:VEVENT
BEGIN:VEVENT
UID:30616536-3932-4432-b736-613636343430
DTSTAMP:20260423T004325Z
DESCRIPTION:3/3 Volejbalové sdružení Drásov - VK Znojmo - Přímětice 'A' 0:2
  (-11\,-9)
DTSTART;TZID=Europe/Berlin:20260124T114500
DTEND;TZID=Europe/Berlin:20260124T134500
LOCATION:Tělocvična ZŠ Prokopa Diviše a MŠ\, Ke Škole 569 Znojmo - Přímětic
 e
SUMMARY:JM-U16M-VIB: Volejbalové sdružení Drásov-VK Znojmo - Přímětice 'A'
END:VEVENT
BEGIN:VEVENT
UID:61656533-3965-4534-a236-343431653630
DTSTAMP:20260423T004325Z
DESCRIPTION:2/2 TJ Slovan Ivančice\, z.s. - Volejbalové sdružení Drásov 2:0
  (22\,28)
DTSTART;TZID=Europe/Berlin:20260124T103000
DTEND;TZID=Europe/Berlin:20260124T123000
LOCATION:Tělocvična ZŠ Prokopa Diviše a MŠ\, Ke Škole 569 Znojmo - Přímětic
 e
SUMMARY:JM-U16M-VIB: TJ Slovan Ivančice\, z.s.-Volejbalové sdružení Drásov
END:VEVENT
BEGIN:VEVENT
UID:36373539-6162-4232-a137-666434653362
DTSTAMP:20260423T004325Z
DESCRIPTION:2/2 Volejbalové sdružení Drásov - TJ SOKOL LETOVICE\, z.s. 2:0 
 (15\,22)
DTSTART;TZID=Europe/Berlin:20260314T103000
DTEND;TZID=Europe/Berlin:20260314T123000
LOCATION:Tělocvična ZŠ Prokopa Diviše a MŠ\, Ke Škole 569 Znojmo - Přímětic
 e
SUMMARY:JM-U16M-VIIC: Volejbalové sdružení Drásov-TJ SOKOL LETOVICE\, z.s.
END:VEVENT
BEGIN:VEVENT
UID:31376137-3266-4862-b934-613532333232
DTSTAMP:20260423T004325Z
DESCRIPTION:1/1 VK Znojmo - Přímětice 'C' - Volejbalové sdružení Drásov 0:2
  (-15\,-23)
DTSTART;TZID=Europe/Berlin:20260314T090000
DTEND;TZID=Europe/Berlin:20260314T110000
LOCATION:Tělocvična ZŠ Prokopa Diviše a MŠ\, Ke Škole 569 Znojmo - Přímětic
 e
SUMMARY:JM-U16M-VIIC: VK Znojmo - Přímětice 'C'-Volejbalové sdružení Drásov
END:VEVENT
BEGIN:VEVENT
UID:64633138-3966-4932-a132-323365353662
DTSTAMP:20260423T004325Z
DESCRIPTION:3/3 Volejbalové sdružení Drásov - TJ Slovan Ivančice\, z.s. 0:2
  (-11\,-17)
DTSTART;TZID=Europe/Berlin:20260328T114500
DTEND;TZID=Europe/Berlin:20260328T134500
LOCATION:Hala u ZŠ TGM Drásov\, Školní 167 Drásov
SUMMARY:JM-U16M-VIIIB: Volejbalové sdružení Drásov-TJ Slovan Ivančice\, z.s
 .
END:VEVENT
BEGIN:VEVENT
UID:35646334-3838-4231-a364-616666336161
DTSTAMP:20260423T004325Z
DESCRIPTION:2/2 B6 Brno - Volejbalové sdružení Drásov 2:0 (11\,11)
DTSTART;TZID=Europe/Berlin:20260328T103000
DTEND;TZID=Europe/Berlin:20260328T123000
LOCATION:Základní škola Brno\, Sirotkova 36\, Sirotkova 371 Brno - Žabovřes
 ky
SUMMARY:JM-U16M-VIIIB: B6 Brno-Volejbalové sdružení Drásov
END:VEVENT
BEGIN:VEVENT
UID:32633562-3235-4663-b164-383232366432
DTSTAMP:20260423T004325Z
DESCRIPTION:3/5 Volejbalové sdružení Drásov - Sokol Šlapanice 1:2 (22\,-15\
 ,-6)\nL1 vs L4 Kurt 1
DTSTART;TZID=Europe/Berlin:20260419T114500
DTEND;TZID=Europe/Berlin:20260419T134500
LOCATION:Hala u ZŠ TGM Drásov\, Školní 167 Drásov
SUMMARY:JM-U16M-F: Volejbalové sdružení Drásov-Sokol Šlapanice
END:VEVENT
BEGIN:VEVENT
UID:31613165-6663-4530-b931-386537643862
DTSTAMP:20260423T004325Z
DESCRIPTION:5/9 Volejbalové sdružení Drásov - TJ Slovan Ivančice\, z.s. 0:2
  (-21\,-18)\nL5 vs L6 Kurt 2
DTSTART;TZID=Europe/Berlin:20260419T141500
DTEND;TZID=Europe/Berlin:20260419T161500
LOCATION:Hala u ZŠ TGM Drásov\, Školní 167 Drásov
SUMMARY:JM-U16M-F: Volejbalové sdružení Drásov-TJ Slovan Ivančice\, z.s.
END:VEVENT
BEGIN:VEVENT
UID:65636437-3935-4434-b233-663866616535
DTSTAMP:20260423T004325Z
DESCRIPTION:1/1 VK Brno\, z.s. - Volejbalové sdružení Drásov 2:0 (5\,12)\n1
 . vs 8. Kurt 1
DTSTART;TZID=Europe/Berlin:20260419T090000
DTEND;TZID=Europe/Berlin:20260419T110000
LOCATION:Sportovní gymnázium Ludvíka Daňka\, Botanická 63 Brno - Ponava
SUMMARY:JM-U16M-F: VK Brno\, z.s.-Volejbalové sdružení Drásov
END:VEVENT
END:VCALENDAR
