BEGIN:VCALENDAR
VERSION:2.0
PRODID:-//Volejbalové sdružení Drásov U1890575//NONSGML kigkonsult.se iCalcreator 2.41.80//
CALSCALE:GREGORIAN
UID:33666566-6565-4666-b736-323862613337
BEGIN:VEVENT
UID:32663834-3132-4937-b462-323363366332
DTSTAMP:20260422T034532Z
DESCRIPTION:4/4 VS Drásov U18 - Orel Křenovice U22 0:2 (-11\,-19)
DTSTART;TZID=Europe/Berlin:20250914T103000
DTEND;TZID=Europe/Berlin:20250914T123000
LOCATION:Sportovní hala Rousínov\, Habrovanská 1199 Rousínov
SUMMARY:JM-U22M-KVA: VS Drásov U18-Orel Křenovice U22
END:VEVENT
BEGIN:VEVENT
UID:62366631-3432-4238-b132-333830626561
DTSTAMP:20260422T034532Z
DESCRIPTION:6/6 VS Drásov U18 - B6 Brno U20 0:2 (-10\,-7)
DTSTART;TZID=Europe/Berlin:20250914T114500
DTEND;TZID=Europe/Berlin:20250914T134500
LOCATION:Sportovní hala Rousínov\, Habrovanská 1199 Rousínov
SUMMARY:JM-U22M-KVA: VS Drásov U18-B6 Brno U20
END:VEVENT
BEGIN:VEVENT
UID:33343161-3034-4466-a461-633636633763
DTSTAMP:20260422T034532Z
DESCRIPTION:7/7 VS Drásov U18 - VK Rousínov z.s. U18 0:2 (-9\,-20)
DTSTART;TZID=Europe/Berlin:20250914T130000
DTEND;TZID=Europe/Berlin:20250914T150000
LOCATION:Sportovní hala Rousínov\, Habrovanská 1199 Rousínov
SUMMARY:JM-U22M-KVA: VS Drásov U18-VK Rousínov z.s. U18
END:VEVENT
BEGIN:VEVENT
UID:34643531-3532-4232-a330-646262646335
DTSTAMP:20260422T034532Z
DESCRIPTION:9/9 VS Drásov U20 - VS Drásov U18 2:0 (15\,12)
DTSTART;TZID=Europe/Berlin:20250914T141500
DTEND;TZID=Europe/Berlin:20250914T161500
LOCATION:Sportovní hala Rousínov\, Habrovanská 1199 Rousínov
SUMMARY:JM-U22M-KVA: VS Drásov U20-VS Drásov U18
END:VEVENT
BEGIN:VEVENT
UID:38333937-3738-4533-a161-626430383562
DTSTAMP:20260422T034532Z
DESCRIPTION:1/2 VS Drásov U18 - FOSFA Lokomotiva Břeclav U18 0:2 (-21\,-15)
DTSTART;TZID=Europe/Berlin:20251012T090000
DTEND;TZID=Europe/Berlin:20251012T110000
LOCATION:ZŠ Vejrostova\, Vejrostova 1066 Brno - Bystrc
SUMMARY:JM-U22M-IE: VS Drásov U18-FOSFA Lokomotiva Břeclav U18
END:VEVENT
BEGIN:VEVENT
UID:65353137-3362-4433-b962-643438343830
DTSTAMP:20260422T034532Z
DESCRIPTION:3/5 VS Drásov U18 - TJ Slovan Ivančice\, z.s. U18 0:2 (-20\,-23
 )
DTSTART;TZID=Europe/Berlin:20251012T114500
DTEND;TZID=Europe/Berlin:20251012T134500
LOCATION:ZŠ Vejrostova\, Vejrostova 1066 Brno - Bystrc
SUMMARY:JM-U22M-IE: VS Drásov U18-TJ Slovan Ivančice\, z.s. U18
END:VEVENT
BEGIN:VEVENT
UID:35633165-3135-4937-b031-633037646238
DTSTAMP:20260422T034532Z
DESCRIPTION:2/4 Volejbal Brno U18 - VS Drásov U18 2:1 (22\,-21\,8)
DTSTART;TZID=Europe/Berlin:20251012T103000
DTEND;TZID=Europe/Berlin:20251012T123000
LOCATION:ZŠ Vejrostova\, Vejrostova 1066 Brno - Bystrc
SUMMARY:JM-U22M-IE: Volejbal Brno U18-VS Drásov U18
END:VEVENT
BEGIN:VEVENT
UID:62636463-6133-4263-b232-626630326535
DTSTAMP:20260422T034532Z
DESCRIPTION:2/3 VS Drásov U18 - TJ SOKOL LETOVICE\, z.s. U20 0:2 (-18\,-18)
DTSTART;TZID=Europe/Berlin:20251109T103000
DTEND;TZID=Europe/Berlin:20251109T123000
LOCATION:STAREZ ARÉNA VODOVA (Hala 3)\, Vodova 336 Brno - Královo Pole
SUMMARY:JM-U22M-IIE: VS Drásov U18-TJ SOKOL LETOVICE\, z.s. U20
END:VEVENT
BEGIN:VEVENT
UID:61653736-3632-4137-b637-356230373865
DTSTAMP:20260422T034532Z
DESCRIPTION:1/1 Volejbal Brno U18 - VS Drásov U18 2:1 (-14\,23\,16)
DTSTART;TZID=Europe/Berlin:20251109T090000
DTEND;TZID=Europe/Berlin:20251109T110000
LOCATION:STAREZ ARÉNA VODOVA (Hala 3)\, Vodova 336 Brno - Královo Pole
SUMMARY:JM-U22M-IIE: Volejbal Brno U18-VS Drásov U18
END:VEVENT
BEGIN:VEVENT
UID:30353837-3039-4438-a465-383363616262
DTSTAMP:20260422T034532Z
DESCRIPTION:3/5 TJ Slovan Ivančice\, z.s. U18 - VS Drásov U18 2:1 (20\,-19\
 ,13)
DTSTART;TZID=Europe/Berlin:20251109T114500
DTEND;TZID=Europe/Berlin:20251109T134500
LOCATION:STAREZ ARÉNA VODOVA (Hala 3)\, Vodova 336 Brno - Královo Pole
SUMMARY:JM-U22M-IIE: TJ Slovan Ivančice\, z.s. U18-VS Drásov U18
END:VEVENT
BEGIN:VEVENT
UID:34633063-3565-4737-a335-383238386635
DTSTAMP:20260422T034532Z
DESCRIPTION:2/3 VS Drásov U18 - Volejbal Brno U18 0:2 (-22\,-10)
DTSTART;TZID=Europe/Berlin:20251207T103000
DTEND;TZID=Europe/Berlin:20251207T123000
LOCATION:TJ Lokomotiva Břeclav\, Veslařská 2753 Břeclav
SUMMARY:JM-U22M-IIIE: VS Drásov U18-Volejbal Brno U18
END:VEVENT
BEGIN:VEVENT
UID:64356532-3965-4237-b237-636435663630
DTSTAMP:20260422T034532Z
DESCRIPTION:1/1 FOSFA Lokomotiva Břeclav U18 - VS Drásov U18 1:2 (14\,-22\,
 -6)
DTSTART;TZID=Europe/Berlin:20251207T090000
DTEND;TZID=Europe/Berlin:20251207T110000
LOCATION:TJ Lokomotiva Břeclav\, Veslařská 2753 Břeclav
SUMMARY:JM-U22M-IIIE: FOSFA Lokomotiva Břeclav U18-VS Drásov U18
END:VEVENT
BEGIN:VEVENT
UID:32643230-6666-4832-b538-383663303837
DTSTAMP:20260422T034532Z
DESCRIPTION:3/5 TJ Slovan Ivančice\, z.s. U18 - VS Drásov U18 2:0 (22\,19)
DTSTART;TZID=Europe/Berlin:20251207T114500
DTEND;TZID=Europe/Berlin:20251207T134500
LOCATION:TJ Lokomotiva Břeclav\, Veslařská 2753 Břeclav
SUMMARY:JM-U22M-IIIE: TJ Slovan Ivančice\, z.s. U18-VS Drásov U18
END:VEVENT
BEGIN:VEVENT
UID:63643764-3531-4634-b033-346330626639
DTSTAMP:20260422T034532Z
DESCRIPTION:6/6 VS Drásov U18 - Volejbal Brno U18 2:0 (14\,15)
DTSTART;TZID=Europe/Berlin:20260111T153000
DTEND;TZID=Europe/Berlin:20260111T173000
LOCATION:ZŠ Vejrostova\, Vejrostova 1066 Brno - Bystrc
SUMMARY:JM-U22M-IVE: VS Drásov U18-Volejbal Brno U18
END:VEVENT
BEGIN:VEVENT
UID:34653361-3539-4830-b131-393935386639
DTSTAMP:20260422T034532Z
DESCRIPTION:2/2 TJ Slovan Ivančice\, z.s. U18 - VS Drásov U18 X:2
DTSTART;TZID=Europe/Berlin:20260111T103000
DTEND;TZID=Europe/Berlin:20260111T123000
LOCATION:ZŠ Vejrostova\, Vejrostova 1066 Brno - Bystrc
SUMMARY:JM-U22M-IVE: TJ Slovan Ivančice\, z.s. U18-VS Drásov U18
END:VEVENT
BEGIN:VEVENT
UID:63343934-6465-4237-b533-356530386362
DTSTAMP:20260422T034532Z
DESCRIPTION:3/3 TJ Sokol Hrušovany u Brna U22 - VS Drásov U18 0:2 (-25\,-22
 )
DTSTART;TZID=Europe/Berlin:20260111T114500
DTEND;TZID=Europe/Berlin:20260111T134500
LOCATION:ZŠ Vejrostova\, Vejrostova 1066 Brno - Bystrc
SUMMARY:JM-U22M-IVE: TJ Sokol Hrušovany u Brna U22-VS Drásov U18
END:VEVENT
BEGIN:VEVENT
UID:65643264-3431-4533-b965-383063663632
DTSTAMP:20260422T034532Z
DESCRIPTION:2/2 VS Drásov U18 - FOSFA Lokomotiva Břeclav U18 3:0 (23\,18\,2
 0)
DTSTART;TZID=Europe/Berlin:20260208T110000
DTEND;TZID=Europe/Berlin:20260208T130000
LOCATION:Sportovní hala Křenovice \, Bratří Mrázků 635 Křenovice
SUMMARY:JM-U22M-VD: VS Drásov U18-FOSFA Lokomotiva Břeclav U18
END:VEVENT
BEGIN:VEVENT
UID:34666138-6239-4337-b961-636261643763
DTSTAMP:20260422T034532Z
DESCRIPTION:1/1 Orel Křenovice U22 - VS Drásov U18 3:0 (18\,11\,9)
DTSTART;TZID=Europe/Berlin:20260208T090000
DTEND;TZID=Europe/Berlin:20260208T110000
LOCATION:Sportovní hala Křenovice \, Bratří Mrázků 635 Křenovice
SUMMARY:JM-U22M-VD: Orel Křenovice U22-VS Drásov U18
END:VEVENT
BEGIN:VEVENT
UID:31626633-6163-4834-b139-343464303936
DTSTAMP:20260422T034532Z
DESCRIPTION:1/1 VS Drásov U18 - VK Rousínov z.s. U18 0:3 (-10\,-19\,-18)
DTSTART;TZID=Europe/Berlin:20260308T090000
DTEND;TZID=Europe/Berlin:20260308T110000
LOCATION:Hala u ZŠ TGM Drásov\, Školní 167 Drásov
SUMMARY:JM-U22M-VID: VS Drásov U18-VK Rousínov z.s. U18
END:VEVENT
BEGIN:VEVENT
UID:35303662-6434-4764-b839-373132373364
DTSTAMP:20260422T034532Z
DESCRIPTION:3/3 TJ Sokol Hrušovany u Brna U22 - VS Drásov U18 3:1 (13\,21\,
 -18\,24)
DTSTART;TZID=Europe/Berlin:20260308T130000
DTEND;TZID=Europe/Berlin:20260308T150000
LOCATION:Hala u ZŠ TGM Drásov\, Školní 167 Drásov
SUMMARY:JM-U22M-VID: TJ Sokol Hrušovany u Brna U22-VS Drásov U18
END:VEVENT
END:VCALENDAR
