BEGIN:VCALENDAR
VERSION:2.0
PRODID:-//Orel Křenovice90579//NONSGML kigkonsult.se iCalcreator 2.41.80//
CALSCALE:GREGORIAN
UID:39343737-3934-4365-a631-323430333838
BEGIN:VEVENT
UID:64623334-3464-4664-a631-373661303861
DTSTAMP:20260423T035333Z
DESCRIPTION:1/3 Orel Křenovice - TJ Agrotec Hustopeče z.s. 3:2 (15\,-20\,-2
 0\,19\,14)
DTSTART;TZID=Europe/Berlin:20250914T100000
DTEND;TZID=Europe/Berlin:20250914T120000
LOCATION:Sportovní hala Křenovice \, Bratří Mrázků 635 Křenovice
SUMMARY:JM-U22Z: Orel Křenovice-TJ Agrotec Hustopeče z.s.
END:VEVENT
BEGIN:VEVENT
UID:38663934-6138-4033-b334-336539646264
DTSTAMP:20260423T035333Z
DESCRIPTION:2/6 Orel Křenovice - TJ Agrotec Hustopeče z.s. 1:3 (25\,-23\,-1
 6\,-21)
DTSTART;TZID=Europe/Berlin:20250914T130000
DTEND;TZID=Europe/Berlin:20250914T150000
LOCATION:Sportovní hala Křenovice \, Bratří Mrázků 635 Křenovice
SUMMARY:JM-U22Z: Orel Křenovice-TJ Agrotec Hustopeče z.s.
END:VEVENT
BEGIN:VEVENT
UID:63623065-6130-4462-b037-383237633239
DTSTAMP:20260423T035333Z
DESCRIPTION:5/14 Orel Křenovice - TJ Sokol Jehnice 3:1 (-22\,18\,24\,13)
DTSTART;TZID=Europe/Berlin:20251012T100000
DTEND;TZID=Europe/Berlin:20251012T120000
LOCATION:Sportovní hala Křenovice \, Bratří Mrázků 635 Křenovice
SUMMARY:JM-U22Z: Orel Křenovice-TJ Sokol Jehnice
END:VEVENT
BEGIN:VEVENT
UID:63653135-3334-4139-b865-616230353064
DTSTAMP:20260423T035333Z
DESCRIPTION:6/17 Orel Křenovice - TJ Sokol Jehnice 3:0 (22\,10\,23)
DTSTART;TZID=Europe/Berlin:20251012T130000
DTEND;TZID=Europe/Berlin:20251012T150000
LOCATION:Sportovní hala Křenovice \, Bratří Mrázků 635 Křenovice
SUMMARY:JM-U22Z: Orel Křenovice-TJ Sokol Jehnice
END:VEVENT
BEGIN:VEVENT
UID:38386231-6262-4837-b964-366232303537
DTSTAMP:20260423T035333Z
DESCRIPTION:9/25 Orel Křenovice - KP Brno 2:3 (23\,19\,-16\,-18\,-9)
DTSTART;TZID=Europe/Berlin:20251123T100000
DTEND;TZID=Europe/Berlin:20251123T120000
LOCATION:Sportovní hala Křenovice \, Bratří Mrázků 635 Křenovice
SUMMARY:JM-U22Z: Orel Křenovice-KP Brno
END:VEVENT
BEGIN:VEVENT
UID:38643666-3639-4233-b262-316561663834
DTSTAMP:20260423T035333Z
DESCRIPTION:10/28 Orel Křenovice - KP Brno 3:2 (16\,17\,-14\,-18\,13)
DTSTART;TZID=Europe/Berlin:20251123T130000
DTEND;TZID=Europe/Berlin:20251123T150000
LOCATION:Sportovní hala Křenovice \, Bratří Mrázků 635 Křenovice
SUMMARY:JM-U22Z: Orel Křenovice-KP Brno
END:VEVENT
BEGIN:VEVENT
UID:33666333-3962-4463-b738-363535383165
DTSTAMP:20260423T035333Z
DESCRIPTION:13/38 Orel Křenovice - Šlapanice 0:3 (-16\,-7\,-16)
DTSTART;TZID=Europe/Berlin:20260118T100000
DTEND;TZID=Europe/Berlin:20260118T120000
LOCATION:Sportovní hala Křenovice \, Bratří Mrázků 635 Křenovice
SUMMARY:JM-U22Z: Orel Křenovice-Šlapanice
END:VEVENT
BEGIN:VEVENT
UID:31656161-6634-4130-a662-633737303161
DTSTAMP:20260423T035333Z
DESCRIPTION:14/41 Orel Křenovice - Šlapanice 1:3 (-15\,11\,-23\,-22)
DTSTART;TZID=Europe/Berlin:20260118T130000
DTEND;TZID=Europe/Berlin:20260118T150000
LOCATION:Sportovní hala Křenovice \, Bratří Mrázků 635 Křenovice
SUMMARY:JM-U22Z: Orel Křenovice-Šlapanice
END:VEVENT
BEGIN:VEVENT
UID:34343538-3438-4964-a536-343338346535
DTSTAMP:20260423T035333Z
DESCRIPTION:17/51 Orel Křenovice - TJ JUNIOR Brno\, z.s.\, Vejrostova 1:3 (
 -22\,23\,-26\,-19)
DTSTART;TZID=Europe/Berlin:20260301T100000
DTEND;TZID=Europe/Berlin:20260301T120000
LOCATION:Sportovní hala Křenovice \, Bratří Mrázků 635 Křenovice
SUMMARY:JM-U22Z: Orel Křenovice-TJ JUNIOR Brno\, z.s.\, Vejrostova
END:VEVENT
BEGIN:VEVENT
UID:31616139-6639-4261-b062-626465363732
DTSTAMP:20260423T035333Z
DESCRIPTION:18/54 Orel Křenovice - TJ JUNIOR Brno\, z.s.\, Vejrostova 1:3 (
 -16\,-19\,21\,-17)
DTSTART;TZID=Europe/Berlin:20260301T130000
DTEND;TZID=Europe/Berlin:20260301T150000
LOCATION:Sportovní hala Křenovice \, Bratří Mrázků 635 Křenovice
SUMMARY:JM-U22Z: Orel Křenovice-TJ JUNIOR Brno\, z.s.\, Vejrostova
END:VEVENT
BEGIN:VEVENT
UID:37383431-6235-4562-b531-656437333935
DTSTAMP:20260423T035333Z
DESCRIPTION:3/8 Šlapanice - Orel Křenovice 3:1 (18\,10\,-9\,17)
DTSTART;TZID=Europe/Berlin:20250921T090000
DTEND;TZID=Europe/Berlin:20250921T110000
LOCATION:Tělocvična ZŠ Šlapanice\, Masarykovo náměstí 1594 Šlapanice
SUMMARY:JM-U22Z: Šlapanice-Orel Křenovice
END:VEVENT
BEGIN:VEVENT
UID:63323630-3861-4333-a433-363565393962
DTSTAMP:20260423T035333Z
DESCRIPTION:4/11 Šlapanice - Orel Křenovice 3:0 (21\,18\,18)
DTSTART;TZID=Europe/Berlin:20250921T130000
DTEND;TZID=Europe/Berlin:20250921T150000
LOCATION:Tělocvična ZŠ Šlapanice\, Masarykovo náměstí 1594 Šlapanice
SUMMARY:JM-U22Z: Šlapanice-Orel Křenovice
END:VEVENT
BEGIN:VEVENT
UID:66623066-3763-4935-a430-613434353162
DTSTAMP:20260423T035333Z
DESCRIPTION:7/21 TJ JUNIOR Brno\, z.s.\, Vejrostova - Orel Křenovice 3:0 (1
 2\,18\,21)
DTSTART;TZID=Europe/Berlin:20251102T100000
DTEND;TZID=Europe/Berlin:20251102T120000
LOCATION:ZŠ Vejrostova\, Vejrostova 1066 Brno - Bystrc
SUMMARY:JM-U22Z: TJ JUNIOR Brno\, z.s.\, Vejrostova-Orel Křenovice
END:VEVENT
BEGIN:VEVENT
UID:62653231-3036-4630-b062-656561383337
DTSTAMP:20260423T035333Z
DESCRIPTION:8/24 TJ JUNIOR Brno\, z.s.\, Vejrostova - Orel Křenovice 3:1 (2
 3\,-19\,20\,18)
DTSTART;TZID=Europe/Berlin:20251102T130000
DTEND;TZID=Europe/Berlin:20251102T150000
LOCATION:ZŠ Vejrostova\, Vejrostova 1066 Brno - Bystrc
SUMMARY:JM-U22Z: TJ JUNIOR Brno\, z.s.\, Vejrostova-Orel Křenovice
END:VEVENT
BEGIN:VEVENT
UID:30646561-3065-4861-a239-323461363239
DTSTAMP:20260423T035333Z
DESCRIPTION:11/33 TJ Agrotec Hustopeče z.s. - Orel Křenovice 1:3 (-22\,-19\
 ,24\,-24)
DTSTART;TZID=Europe/Berlin:20251214T100000
DTEND;TZID=Europe/Berlin:20251214T120000
LOCATION:Městská sportovní hala\, Šafaříkova 1016 Hustopeče
SUMMARY:JM-U22Z: TJ Agrotec Hustopeče z.s.-Orel Křenovice
END:VEVENT
BEGIN:VEVENT
UID:36373963-6463-4163-a231-393466373362
DTSTAMP:20260423T035333Z
DESCRIPTION:12/36 TJ Agrotec Hustopeče z.s. - Orel Křenovice 3:0 (22\,21\,1
 3)
DTSTART;TZID=Europe/Berlin:20251214T130000
DTEND;TZID=Europe/Berlin:20251214T150000
LOCATION:Městská sportovní hala\, Šafaříkova 1016 Hustopeče
SUMMARY:JM-U22Z: TJ Agrotec Hustopeče z.s.-Orel Křenovice
END:VEVENT
BEGIN:VEVENT
UID:61316664-3233-4238-a332-386130363263
DTSTAMP:20260423T035333Z
DESCRIPTION:15/44 TJ Sokol Jehnice - Orel Křenovice 0:3 (-21\,-15\,-7)
DTSTART;TZID=Europe/Berlin:20260308T100000
DTEND;TZID=Europe/Berlin:20260308T120000
LOCATION:TJ Sokol Jehnice\, Blanenská 1 Brno - Jehnice
SUMMARY:JM-U22Z: TJ Sokol Jehnice-Orel Křenovice
END:VEVENT
BEGIN:VEVENT
UID:36626137-3666-4435-a638-333865396664
DTSTAMP:20260423T035333Z
DESCRIPTION:16/47 TJ Sokol Jehnice - Orel Křenovice 0:3 (-22\,-21\,-14)
DTSTART;TZID=Europe/Berlin:20260308T130000
DTEND;TZID=Europe/Berlin:20260308T150000
LOCATION:TJ Sokol Jehnice\, Blanenská 1 Brno - Jehnice
SUMMARY:JM-U22Z: TJ Sokol Jehnice-Orel Křenovice
END:VEVENT
BEGIN:VEVENT
UID:65353263-6463-4130-b239-373166626530
DTSTAMP:20260423T035333Z
DESCRIPTION:19/55 KP Brno - Orel Křenovice 3:1 (19\,22\,-23\,21)\nSportovní
  hala Velké Němčice\, Brněnská 696
DTSTART;TZID=Europe/Berlin:20260315T090000
DTEND;TZID=Europe/Berlin:20260315T110000
LOCATION:Sportovní gymnázium Ludvíka Daňka\, Botanická 63 Brno - Ponava
SUMMARY:JM-U22Z: KP Brno-Orel Křenovice
END:VEVENT
BEGIN:VEVENT
UID:63316439-3131-4663-a366-346136306263
DTSTAMP:20260423T035333Z
DESCRIPTION:20/58 KP Brno - Orel Křenovice 3:0 (16\,24\,20)\nSportovní hala
  Velké Němčice\, Brněnská 696
DTSTART;TZID=Europe/Berlin:20260315T113000
DTEND;TZID=Europe/Berlin:20260315T133000
LOCATION:Sportovní gymnázium Ludvíka Daňka\, Botanická 63 Brno - Ponava
SUMMARY:JM-U22Z: KP Brno-Orel Křenovice
END:VEVENT
END:VCALENDAR
