BEGIN:VCALENDAR
VERSION:2.0
PRODID:-//B6 Brno90585//NONSGML kigkonsult.se iCalcreator 2.41.80//
CALSCALE:GREGORIAN
UID:65653334-6565-4265-a263-346532326433
BEGIN:VEVENT
UID:64313661-3239-4437-a535-633363373261
DTSTAMP:20260422T034534Z
DESCRIPTION:5/15 B6 Brno - TJ Sokol Jehnice 3:0 (14\,13\,14)
DTSTART;TZID=Europe/Berlin:20251010T160000
DTEND;TZID=Europe/Berlin:20251010T180000
LOCATION:Základní škola Brno\, Sirotkova 36\, Sirotkova 371 Brno - Žabovřes
 ky
SUMMARY:JM-U20Z-B: B6 Brno-TJ Sokol Jehnice
END:VEVENT
BEGIN:VEVENT
UID:63633838-6166-4430-b063-383062643639
DTSTAMP:20260422T034534Z
DESCRIPTION:6/18 B6 Brno - TJ Sokol Jehnice 3:0 (19\,23\,19)
DTSTART;TZID=Europe/Berlin:20251010T190000
DTEND;TZID=Europe/Berlin:20251010T210000
LOCATION:Základní škola Brno\, Sirotkova 36\, Sirotkova 371 Brno - Žabovřes
 ky
SUMMARY:JM-U20Z-B: B6 Brno-TJ Sokol Jehnice
END:VEVENT
BEGIN:VEVENT
UID:31323931-3136-4130-b337-336330353831
DTSTAMP:20260422T034534Z
DESCRIPTION:9/26 B6 Brno - Orel jednota Pozořice 3:0 (12\,17\,16)\nŠkolní t
 ělocvična   Sivice131   66407
DTSTART;TZID=Europe/Berlin:20251101T100000
DTEND;TZID=Europe/Berlin:20251101T120000
LOCATION:Základní škola Brno\, Sirotkova 36\, Sirotkova 371 Brno - Žabovřes
 ky
SUMMARY:JM-U20Z-B: B6 Brno-Orel jednota Pozořice
END:VEVENT
BEGIN:VEVENT
UID:36396164-6166-4764-b866-303037643939
DTSTAMP:20260422T034534Z
DESCRIPTION:10/29 B6 Brno - Orel jednota Pozořice 3:0 (6\,16\,14)\nŠkolní t
 ělocvična   Sivice131   66407
DTSTART;TZID=Europe/Berlin:20251101T130000
DTEND;TZID=Europe/Berlin:20251101T150000
LOCATION:Základní škola Brno\, Sirotkova 36\, Sirotkova 371 Brno - Žabovřes
 ky
SUMMARY:JM-U20Z-B: B6 Brno-Orel jednota Pozořice
END:VEVENT
BEGIN:VEVENT
UID:39346138-3836-4165-a566-623633386531
DTSTAMP:20260422T034534Z
DESCRIPTION:11/33 B6 Brno - Tělocvičná jednota Sokol Bučovice 3:0 (6\,22\,7
 )
DTSTART;TZID=Europe/Berlin:20251123T100000
DTEND;TZID=Europe/Berlin:20251123T120000
LOCATION:ZŠ Bučovice 710\, Školní 710 Bučovice
SUMMARY:JM-U20Z-B: B6 Brno-Tělocvičná jednota Sokol Bučovice
END:VEVENT
BEGIN:VEVENT
UID:30316666-3932-4431-a531-663965393964
DTSTAMP:20260422T034534Z
DESCRIPTION:12/36 B6 Brno - Tělocvičná jednota Sokol Bučovice 3:2 (-23\,15\
 ,17\,-21\,14)
DTSTART;TZID=Europe/Berlin:20251123T130000
DTEND;TZID=Europe/Berlin:20251123T150000
LOCATION:ZŠ Bučovice 710\, Školní 710 Bučovice
SUMMARY:JM-U20Z-B: B6 Brno-Tělocvičná jednota Sokol Bučovice
END:VEVENT
BEGIN:VEVENT
UID:61653239-3530-4230-b031-356564316537
DTSTAMP:20260422T034534Z
DESCRIPTION:17/50 B6 Brno - Sokol Šlapanice 3:0 (14\,12\,14)
DTSTART;TZID=Europe/Berlin:20260118T100000
DTEND;TZID=Europe/Berlin:20260118T120000
LOCATION:Základní škola Brno\, Sirotkova 36\, Sirotkova 371 Brno - Žabovřes
 ky
SUMMARY:JM-U20Z-B: B6 Brno-Sokol Šlapanice
END:VEVENT
BEGIN:VEVENT
UID:65633530-3130-4239-b833-326230353165
DTSTAMP:20260422T034534Z
DESCRIPTION:18/53 B6 Brno - Sokol Šlapanice 3:0 (20\,13\,15)
DTSTART;TZID=Europe/Berlin:20260118T130000
DTEND;TZID=Europe/Berlin:20260118T150000
LOCATION:Základní škola Brno\, Sirotkova 36\, Sirotkova 371 Brno - Žabovřes
 ky
SUMMARY:JM-U20Z-B: B6 Brno-Sokol Šlapanice
END:VEVENT
BEGIN:VEVENT
UID:32316237-3535-4237-b239-386265626463
DTSTAMP:20260422T034534Z
DESCRIPTION:1/3 Tělocvičná jednota Sokol Bučovice - B6 Brno 2:3 (-9\,22\,-1
 5\,20\,-3)
DTSTART;TZID=Europe/Berlin:20250914T100000
DTEND;TZID=Europe/Berlin:20250914T120000
LOCATION:ZŠ Bučovice 710\, Školní 710 Bučovice
SUMMARY:JM-U20Z-B: Tělocvičná jednota Sokol Bučovice-B6 Brno
END:VEVENT
BEGIN:VEVENT
UID:30316164-6566-4536-b837-343032363561
DTSTAMP:20260422T034534Z
DESCRIPTION:2/6 Tělocvičná jednota Sokol Bučovice - B6 Brno 0:3 (-16\,-16\,
 -17)
DTSTART;TZID=Europe/Berlin:20250914T130000
DTEND;TZID=Europe/Berlin:20250914T150000
LOCATION:ZŠ Bučovice 710\, Školní 710 Bučovice
SUMMARY:JM-U20Z-B: Tělocvičná jednota Sokol Bučovice-B6 Brno
END:VEVENT
BEGIN:VEVENT
UID:62356665-6365-4833-a539-323936653265
DTSTAMP:20260422T034534Z
DESCRIPTION:7/20 Sokol Šlapanice - B6 Brno 0:3 (-12\,-9\,-24)
DTSTART;TZID=Europe/Berlin:20251019T110000
DTEND;TZID=Europe/Berlin:20251019T130000
LOCATION:Tělocvična ZŠ Šlapanice\, Masarykovo náměstí 1594 Šlapanice
SUMMARY:JM-U20Z-B: Sokol Šlapanice-B6 Brno
END:VEVENT
BEGIN:VEVENT
UID:63303662-3738-4532-a161-356636633936
DTSTAMP:20260422T034534Z
DESCRIPTION:8/23 Sokol Šlapanice - B6 Brno 0:3 (-11\,-22\,-15)
DTSTART;TZID=Europe/Berlin:20251019T150000
DTEND;TZID=Europe/Berlin:20251019T170000
LOCATION:Tělocvična ZŠ Šlapanice\, Masarykovo náměstí 1594 Šlapanice
SUMMARY:JM-U20Z-B: Sokol Šlapanice-B6 Brno
END:VEVENT
BEGIN:VEVENT
UID:38353236-3263-4835-a238-313162663162
DTSTAMP:20260422T034534Z
DESCRIPTION:15/45 TJ Sokol Jehnice - B6 Brno 0:3 (-23\,-13\,-18)
DTSTART;TZID=Europe/Berlin:20260111T110000
DTEND;TZID=Europe/Berlin:20260111T130000
LOCATION:TJ Sokol Jehnice\, Blanenská 1 Brno - Jehnice
SUMMARY:JM-U20Z-B: TJ Sokol Jehnice-B6 Brno
END:VEVENT
BEGIN:VEVENT
UID:63333265-3531-4731-a634-306139363138
DTSTAMP:20260422T034534Z
DESCRIPTION:16/48 TJ Sokol Jehnice - B6 Brno 0:3 (-23\,-21\,-19)
DTSTART;TZID=Europe/Berlin:20260111T150000
DTEND;TZID=Europe/Berlin:20260111T170000
LOCATION:TJ Sokol Jehnice\, Blanenská 1 Brno - Jehnice
SUMMARY:JM-U20Z-B: TJ Sokol Jehnice-B6 Brno
END:VEVENT
BEGIN:VEVENT
UID:37666236-3036-4635-b630-313766636235
DTSTAMP:20260422T034534Z
DESCRIPTION:19/56 Orel jednota Pozořice - B6 Brno 0:3 (-22\,-13\,-17)
DTSTART;TZID=Europe/Berlin:20260125T100000
DTEND;TZID=Europe/Berlin:20260125T120000
LOCATION:Školní tělocvična\,  Sivice131
SUMMARY:JM-U20Z-B: Orel jednota Pozořice-B6 Brno
END:VEVENT
BEGIN:VEVENT
UID:38616437-3831-4233-b430-353263353633
DTSTAMP:20260422T034534Z
DESCRIPTION:20/59 Orel jednota Pozořice - B6 Brno 0:3 (-14\,-16\,-8)
DTSTART;TZID=Europe/Berlin:20260125T130000
DTEND;TZID=Europe/Berlin:20260125T150000
LOCATION:Školní tělocvična\,  Sivice131
SUMMARY:JM-U20Z-B: Orel jednota Pozořice-B6 Brno
END:VEVENT
BEGIN:VEVENT
UID:32383733-3363-4665-a331-306631326632
DTSTAMP:20260422T034534Z
DESCRIPTION:3/3 B6 Brno - Královo Pole C X:3
DTSTART;TZID=Europe/Berlin:20260301T100000
DTEND;TZID=Europe/Berlin:20260301T120000
LOCATION:Základní škola Brno\, Sirotkova 36\, Sirotkova 371 Brno - Žabovřes
 ky
SUMMARY:JM-U20Z-I: B6 Brno-Královo Pole C
END:VEVENT
BEGIN:VEVENT
UID:38313834-6131-4032-b337-336234623838
DTSTAMP:20260422T034534Z
DESCRIPTION:4/4 B6 Brno - Královo Pole C X:3
DTSTART;TZID=Europe/Berlin:20260301T130000
DTEND;TZID=Europe/Berlin:20260301T150000
LOCATION:Základní škola Brno\, Sirotkova 36\, Sirotkova 371 Brno - Žabovřes
 ky
SUMMARY:JM-U20Z-I: B6 Brno-Královo Pole C
END:VEVENT
BEGIN:VEVENT
UID:36373931-3136-4230-b132-386337613465
DTSTAMP:20260422T034534Z
DESCRIPTION:1/1 TJ Spartak Velká Bíteš\, z.s. - B6 Brno 0:3 (-11\,-23\,-13)
DTSTART;TZID=Europe/Berlin:20260208T100000
DTEND;TZID=Europe/Berlin:20260208T120000
LOCATION:Víceúčelová sportovní hala\, Tyršova 195 Velká Bíteš
SUMMARY:JM-U20Z-I: TJ Spartak Velká Bíteš\, z.s.-B6 Brno
END:VEVENT
BEGIN:VEVENT
UID:63393733-3731-4264-b062-643433316466
DTSTAMP:20260422T034534Z
DESCRIPTION:2/2 TJ Spartak Velká Bíteš\, z.s. - B6 Brno 1:3 (-23\,22\,-15\,
 -13)
DTSTART;TZID=Europe/Berlin:20260208T130000
DTEND;TZID=Europe/Berlin:20260208T150000
LOCATION:Víceúčelová sportovní hala\, Tyršova 195 Velká Bíteš
SUMMARY:JM-U20Z-I: TJ Spartak Velká Bíteš\, z.s.-B6 Brno
END:VEVENT
END:VCALENDAR
