BEGIN:VCALENDAR
VERSION:2.0
PRODID:-//Tělocvičná jednota Sokol Frýdek - Místek90609//NONSGML kigkonsult.se iCalcreator 2.41.80//
CALSCALE:GREGORIAN
UID:62356366-3663-4363-b736-363664313538
BEGIN:VEVENT
UID:32356462-3862-4739-a134-656239306533
DTSTAMP:20260422T053812Z
DESCRIPTION:3/7 TJ Sokol F-M - TJ Sokol Vratimov 3:0 (18\,25\,20)
DTSTART;TZID=Europe/Berlin:20250927T100000
DTEND;TZID=Europe/Berlin:20250927T120000
LOCATION:Sokolovna Frýdek-Místek\, Novodvorská 667 Frýdek-Místek - Frýdek
SUMMARY:MS-U18Z-B: TJ Sokol F-M-TJ Sokol Vratimov
END:VEVENT
BEGIN:VEVENT
UID:35303736-3733-4438-b963-313832336135
DTSTAMP:20260422T053812Z
DESCRIPTION:4/10 TJ Sokol F-M - TJ Sokol Vratimov 3:0 (21\,21\,13)
DTSTART;TZID=Europe/Berlin:20250927T140000
DTEND;TZID=Europe/Berlin:20250927T160000
LOCATION:Sokolovna Frýdek-Místek\, Novodvorská 667 Frýdek-Místek - Frýdek
SUMMARY:MS-U18Z-B: TJ Sokol F-M-TJ Sokol Vratimov
END:VEVENT
BEGIN:VEVENT
UID:36386131-3938-4337-b436-333564653663
DTSTAMP:20260422T053812Z
DESCRIPTION:7/19 TJ Sokol F-M - VKB Frýdlant n/O 0:3 (-8\,-17\,-10)
DTSTART;TZID=Europe/Berlin:20251011T100000
DTEND;TZID=Europe/Berlin:20251011T120000
LOCATION:Sokolovna Frýdek-Místek\, Novodvorská 667 Frýdek-Místek - Frýdek
SUMMARY:MS-U18Z-B: TJ Sokol F-M-VKB Frýdlant n/O
END:VEVENT
BEGIN:VEVENT
UID:39393864-3137-4264-b633-633039353863
DTSTAMP:20260422T053812Z
DESCRIPTION:8/22 TJ Sokol F-M - VKB Frýdlant n/O 0:3 (-6\,-13\,-9)
DTSTART;TZID=Europe/Berlin:20251011T140000
DTEND;TZID=Europe/Berlin:20251011T160000
LOCATION:Sokolovna Frýdek-Místek\, Novodvorská 667 Frýdek-Místek - Frýdek
SUMMARY:MS-U18Z-B: TJ Sokol F-M-VKB Frýdlant n/O
END:VEVENT
BEGIN:VEVENT
UID:38623630-3432-4739-a133-616638393338
DTSTAMP:20260422T053812Z
DESCRIPTION:11/31 TJ Sokol F-M - TJ Frenštát p/R 0:3 (-21\,-23\,-17)
DTSTART;TZID=Europe/Berlin:20251108T100000
DTEND;TZID=Europe/Berlin:20251108T120000
LOCATION:Sokolovna Frýdek-Místek\, Novodvorská 667 Frýdek-Místek - Frýdek
SUMMARY:MS-U18Z-B: TJ Sokol F-M-TJ Frenštát p/R
END:VEVENT
BEGIN:VEVENT
UID:61313763-6331-4537-b939-643135373734
DTSTAMP:20260422T053812Z
DESCRIPTION:12/34 TJ Sokol F-M - TJ Frenštát p/R 1:3 (18\,-21\,-15\,-13)
DTSTART;TZID=Europe/Berlin:20251108T140000
DTEND;TZID=Europe/Berlin:20251108T160000
LOCATION:Sokolovna Frýdek-Místek\, Novodvorská 667 Frýdek-Místek - Frýdek
SUMMARY:MS-U18Z-B: TJ Sokol F-M-TJ Frenštát p/R
END:VEVENT
BEGIN:VEVENT
UID:64303562-3232-4833-b533-626130643432
DTSTAMP:20260422T053812Z
DESCRIPTION:15/43 TJ Sokol F-M - SVK Nový Jičín 0:3 (-13\,-17\,-17)
DTSTART;TZID=Europe/Berlin:20251122T100000
DTEND;TZID=Europe/Berlin:20251122T120000
LOCATION:Sokolovna Frýdek-Místek\, Novodvorská 667 Frýdek-Místek - Frýdek
SUMMARY:MS-U18Z-B: TJ Sokol F-M-SVK Nový Jičín
END:VEVENT
BEGIN:VEVENT
UID:31356432-3637-4337-a534-363366393438
DTSTAMP:20260422T053812Z
DESCRIPTION:16/46 TJ Sokol F-M - SVK Nový Jičín 0:3 (-14\,-10\,-20)
DTSTART;TZID=Europe/Berlin:20251122T140000
DTEND;TZID=Europe/Berlin:20251122T160000
LOCATION:Sokolovna Frýdek-Místek\, Novodvorská 667 Frýdek-Místek - Frýdek
SUMMARY:MS-U18Z-B: TJ Sokol F-M-SVK Nový Jičín
END:VEVENT
BEGIN:VEVENT
UID:63613434-3638-4262-a339-333434326533
DTSTAMP:20260422T053812Z
DESCRIPTION:19/55 TJ Sokol F-M - KV Kopřivnice 1:3 (-21\,-12\,18\,-21)
DTSTART;TZID=Europe/Berlin:20251220T090000
DTEND;TZID=Europe/Berlin:20251220T110000
LOCATION:Sokolovna Frýdek-Místek\, Novodvorská 667 Frýdek-Místek - Frýdek
SUMMARY:MS-U18Z-B: TJ Sokol F-M-KV Kopřivnice
END:VEVENT
BEGIN:VEVENT
UID:65616532-6434-4637-b132-366337653432
DTSTAMP:20260422T053812Z
DESCRIPTION:20/58 TJ Sokol F-M - KV Kopřivnice 0:3 (-23\,-16\,-23)
DTSTART;TZID=Europe/Berlin:20251220T130000
DTEND;TZID=Europe/Berlin:20251220T150000
LOCATION:Sokolovna Frýdek-Místek\, Novodvorská 667 Frýdek-Místek - Frýdek
SUMMARY:MS-U18Z-B: TJ Sokol F-M-KV Kopřivnice
END:VEVENT
BEGIN:VEVENT
UID:61363530-3736-4539-a530-623364323963
DTSTAMP:20260422T053812Z
DESCRIPTION:1/1 TJ Frenštát p/R - TJ Sokol F-M 3:0 (18\,23\,19)
DTSTART;TZID=Europe/Berlin:20251026T100000
DTEND;TZID=Europe/Berlin:20251026T120000
LOCATION:SH GaSPŠEI Frenštát\, Křižíkova 2204 Frenštát pod Radhoštěm
SUMMARY:MS-U18Z-B: TJ Frenštát p/R-TJ Sokol F-M
END:VEVENT
BEGIN:VEVENT
UID:62623931-3266-4431-a536-366461313761
DTSTAMP:20260422T053812Z
DESCRIPTION:2/4 TJ Frenštát p/R - TJ Sokol F-M 3:0 (14\,21\,16)
DTSTART;TZID=Europe/Berlin:20251026T140000
DTEND;TZID=Europe/Berlin:20251026T160000
LOCATION:SH GaSPŠEI Frenštát\, Křižíkova 2204 Frenštát pod Radhoštěm
SUMMARY:MS-U18Z-B: TJ Frenštát p/R-TJ Sokol F-M
END:VEVENT
BEGIN:VEVENT
UID:31663735-3864-4233-b262-393937613964
DTSTAMP:20260422T053812Z
DESCRIPTION:5/13 SVK Nový Jičín - TJ Sokol F-M 3:1 (10\,15\,-21\,25)
DTSTART;TZID=Europe/Berlin:20251004T100000
DTEND;TZID=Europe/Berlin:20251004T120000
LOCATION:Hala ABC\, Purkyňova 116 Nový Jičín
SUMMARY:MS-U18Z-B: SVK Nový Jičín-TJ Sokol F-M
END:VEVENT
BEGIN:VEVENT
UID:30376232-3639-4330-b135-303133643738
DTSTAMP:20260422T053812Z
DESCRIPTION:6/16 SVK Nový Jičín - TJ Sokol F-M 3:0 (25\,18\,14)
DTSTART;TZID=Europe/Berlin:20251004T140000
DTEND;TZID=Europe/Berlin:20251004T160000
LOCATION:Hala ABC\, Purkyňova 116 Nový Jičín
SUMMARY:MS-U18Z-B: SVK Nový Jičín-TJ Sokol F-M
END:VEVENT
BEGIN:VEVENT
UID:61613530-6463-4438-b630-326630626232
DTSTAMP:20260422T053812Z
DESCRIPTION:9/25 KV Kopřivnice - TJ Sokol F-M 3:0 (9\,13\,22)
DTSTART;TZID=Europe/Berlin:20251101T100000
DTEND;TZID=Europe/Berlin:20251101T120000
LOCATION:Tělocvičny ZŠ 17.listopadu Kopřivnice\, 17. listopadu 1225 Kopřivn
 ice
SUMMARY:MS-U18Z-B: KV Kopřivnice-TJ Sokol F-M
END:VEVENT
BEGIN:VEVENT
UID:36393539-3765-4161-b833-313239333464
DTSTAMP:20260422T053812Z
DESCRIPTION:10/28 KV Kopřivnice - TJ Sokol F-M 3:0 (20\,14\,14)
DTSTART;TZID=Europe/Berlin:20251101T140000
DTEND;TZID=Europe/Berlin:20251101T160000
LOCATION:Tělocvičny ZŠ 17.listopadu Kopřivnice\, 17. listopadu 1225 Kopřivn
 ice
SUMMARY:MS-U18Z-B: KV Kopřivnice-TJ Sokol F-M
END:VEVENT
BEGIN:VEVENT
UID:31633832-6536-4764-b165-363635333461
DTSTAMP:20260422T053812Z
DESCRIPTION:13/37 TJ Sokol Vratimov - TJ Sokol F-M 3:1 (23\,-24\,22\,19)
DTSTART;TZID=Europe/Berlin:20251115T100000
DTEND;TZID=Europe/Berlin:20251115T120000
LOCATION:Sokolovna\, Sokolská 290 Vratimov
SUMMARY:MS-U18Z-B: TJ Sokol Vratimov-TJ Sokol F-M
END:VEVENT
BEGIN:VEVENT
UID:61656630-6437-4533-a632-613230653963
DTSTAMP:20260422T053812Z
DESCRIPTION:14/40 TJ Sokol Vratimov - TJ Sokol F-M 3:2 (19\,17\,-10\,-14\,1
 0)
DTSTART;TZID=Europe/Berlin:20251115T140000
DTEND;TZID=Europe/Berlin:20251115T160000
LOCATION:Sokolovna\, Sokolská 290 Vratimov
SUMMARY:MS-U18Z-B: TJ Sokol Vratimov-TJ Sokol F-M
END:VEVENT
BEGIN:VEVENT
UID:63356239-3636-4032-a632-383539616233
DTSTAMP:20260422T053812Z
DESCRIPTION:17/49 VKB Frýdlant n/O - TJ Sokol F-M 3:0 (20\,16\,17)
DTSTART;TZID=Europe/Berlin:20251206T100000
DTEND;TZID=Europe/Berlin:20251206T120000
LOCATION:Sokolovna\, Hlavní 401 Frýdlant nad Ostravicí - Frýdlant
SUMMARY:MS-U18Z-B: VKB Frýdlant n/O-TJ Sokol F-M
END:VEVENT
BEGIN:VEVENT
UID:34303466-3431-4730-b438-646639636532
DTSTAMP:20260422T053812Z
DESCRIPTION:18/52 VKB Frýdlant n/O - TJ Sokol F-M 3:1 (-18\,17\,10\,16)
DTSTART;TZID=Europe/Berlin:20251206T140000
DTEND;TZID=Europe/Berlin:20251206T160000
LOCATION:Sokolovna\, Hlavní 401 Frýdlant nad Ostravicí - Frýdlant
SUMMARY:MS-U18Z-B: VKB Frýdlant n/O-TJ Sokol F-M
END:VEVENT
BEGIN:VEVENT
UID:36643465-6461-4966-b932-623139323163
DTSTAMP:20260422T053812Z
DESCRIPTION:1/3 TJ Sokol F-M - TJ Krnov 3:0 (15\,17\,17)
DTSTART;TZID=Europe/Berlin:20260110T100000
DTEND;TZID=Europe/Berlin:20260110T120000
LOCATION:Sokolovna Frýdek-Místek\, Novodvorská 667 Frýdek-Místek - Frýdek
SUMMARY:MS-U18Z-U2: TJ Sokol F-M-TJ Krnov
END:VEVENT
BEGIN:VEVENT
UID:30323335-3732-4635-b136-313364396466
DTSTAMP:20260422T053812Z
DESCRIPTION:2/6 TJ Sokol F-M - TJ Krnov 3:1 (6\,-21\,12\,20)
DTSTART;TZID=Europe/Berlin:20260110T140000
DTEND;TZID=Europe/Berlin:20260110T160000
LOCATION:Sokolovna Frýdek-Místek\, Novodvorská 667 Frýdek-Místek - Frýdek
SUMMARY:MS-U18Z-U2: TJ Sokol F-M-TJ Krnov
END:VEVENT
BEGIN:VEVENT
UID:36633231-3837-4730-b630-363264316264
DTSTAMP:20260422T053812Z
DESCRIPTION:3/8 TJ Sokol F-M - Happy Opava 3:0 (17\,8\,16)
DTSTART;TZID=Europe/Berlin:20260214T100000
DTEND;TZID=Europe/Berlin:20260214T120000
LOCATION:Sokolovna Frýdek-Místek\, Novodvorská 667 Frýdek-Místek - Frýdek
SUMMARY:MS-U18Z-U2: TJ Sokol F-M-Happy Opava
END:VEVENT
BEGIN:VEVENT
UID:38663232-6266-4361-b030-343230343537
DTSTAMP:20260422T053812Z
DESCRIPTION:4/11 TJ Sokol F-M - Happy Opava 3:1 (-23\,15\,18\,8)
DTSTART;TZID=Europe/Berlin:20260214T140000
DTEND;TZID=Europe/Berlin:20260214T160000
LOCATION:Sokolovna Frýdek-Místek\, Novodvorská 667 Frýdek-Místek - Frýdek
SUMMARY:MS-U18Z-U2: TJ Sokol F-M-Happy Opava
END:VEVENT
BEGIN:VEVENT
UID:65316637-3134-4338-a338-373631366535
DTSTAMP:20260422T053812Z
DESCRIPTION:13/39 TJ Sokol F-M - TJ Sokol Stará Bělá 3:1 (-20\,17\,15\,17)
DTSTART;TZID=Europe/Berlin:20260314T100000
DTEND;TZID=Europe/Berlin:20260314T120000
LOCATION:Sokolovna Frýdek-Místek\, Novodvorská 667 Frýdek-Místek - Frýdek
SUMMARY:MS-U18Z-U2: TJ Sokol F-M-TJ Sokol Stará Bělá
END:VEVENT
BEGIN:VEVENT
UID:36323633-3334-4135-a663-396364616563
DTSTAMP:20260422T053812Z
DESCRIPTION:14/42 TJ Sokol F-M - TJ Sokol Stará Bělá 3:0 (22\,21\,19)
DTSTART;TZID=Europe/Berlin:20260314T140000
DTEND;TZID=Europe/Berlin:20260314T160000
LOCATION:Sokolovna Frýdek-Místek\, Novodvorská 667 Frýdek-Místek - Frýdek
SUMMARY:MS-U18Z-U2: TJ Sokol F-M-TJ Sokol Stará Bělá
END:VEVENT
BEGIN:VEVENT
UID:34376162-3861-4265-b932-656637646638
DTSTAMP:20260422T053812Z
DESCRIPTION:15/43 TJ Sokol F-M - TJ Sokol Bohumín 3:0 (6\,7\,18)
DTSTART;TZID=Europe/Berlin:20260321T100000
DTEND;TZID=Europe/Berlin:20260321T120000
LOCATION:Sokolovna Frýdek-Místek\, Novodvorská 667 Frýdek-Místek - Frýdek
SUMMARY:MS-U18Z-U2: TJ Sokol F-M-TJ Sokol Bohumín
END:VEVENT
BEGIN:VEVENT
UID:34316332-3834-4362-b964-373431656437
DTSTAMP:20260422T053812Z
DESCRIPTION:16/46 TJ Sokol F-M - TJ Sokol Bohumín 3:0 (2\,14\,8)
DTSTART;TZID=Europe/Berlin:20260321T140000
DTEND;TZID=Europe/Berlin:20260321T160000
LOCATION:Sokolovna Frýdek-Místek\, Novodvorská 667 Frýdek-Místek - Frýdek
SUMMARY:MS-U18Z-U2: TJ Sokol F-M-TJ Sokol Bohumín
END:VEVENT
BEGIN:VEVENT
UID:33646436-6664-4264-a639-636336343166
DTSTAMP:20260422T053812Z
DESCRIPTION:5/15 TJ Sokol Stará Bělá - TJ Sokol F-M 1:3 (-16\,24\,-11\,-16)
DTSTART;TZID=Europe/Berlin:20260124T100000
DTEND;TZID=Europe/Berlin:20260124T120000
LOCATION:SŠ stavební a dřevozpracující\, U Studia 2654 Ostrava - Zábřeh
SUMMARY:MS-U18Z-U2: TJ Sokol Stará Bělá-TJ Sokol F-M
END:VEVENT
BEGIN:VEVENT
UID:65383035-3661-4765-b537-633232373062
DTSTAMP:20260422T053812Z
DESCRIPTION:6/18 TJ Sokol Stará Bělá - TJ Sokol F-M 3:2 (15\,-11\,23\,-21\,
 12)
DTSTART;TZID=Europe/Berlin:20260124T140000
DTEND;TZID=Europe/Berlin:20260124T160000
LOCATION:SŠ stavební a dřevozpracující\, U Studia 2654 Ostrava - Zábřeh
SUMMARY:MS-U18Z-U2: TJ Sokol Stará Bělá-TJ Sokol F-M
END:VEVENT
BEGIN:VEVENT
UID:34666236-3939-4562-b033-643033643865
DTSTAMP:20260422T053812Z
DESCRIPTION:7/19 TJ Sokol Bohumín - TJ Sokol F-M 0:3 (-4\,-5\,-1)
DTSTART;TZID=Europe/Berlin:20260222T100000
DTEND;TZID=Europe/Berlin:20260222T120000
LOCATION:ZŠ ČSA Bohumín\, Čs. armády 1026 Bohumín - Nový Bohumín
SUMMARY:MS-U18Z-U2: TJ Sokol Bohumín-TJ Sokol F-M
END:VEVENT
BEGIN:VEVENT
UID:64333238-6430-4333-b033-336633313663
DTSTAMP:20260422T053812Z
DESCRIPTION:8/22 TJ Sokol Bohumín - TJ Sokol F-M 0:3 (-10\,-12\,-8)
DTSTART;TZID=Europe/Berlin:20260222T140000
DTEND;TZID=Europe/Berlin:20260222T160000
LOCATION:ZŠ ČSA Bohumín\, Čs. armády 1026 Bohumín - Nový Bohumín
SUMMARY:MS-U18Z-U2: TJ Sokol Bohumín-TJ Sokol F-M
END:VEVENT
BEGIN:VEVENT
UID:35626237-6634-4134-b231-643437663266
DTSTAMP:20260422T053812Z
DESCRIPTION:9/27 TJ Krnov - TJ Sokol F-M 0:3 (-9\,-13\,-23)
DTSTART;TZID=Europe/Berlin:20260228T100000
DTEND;TZID=Europe/Berlin:20260228T120000
LOCATION:Střední pedagogická a zdravotní škola \, Jiráskova 840 Krnov - Pod
  Bezručovým vrchem
SUMMARY:MS-U18Z-U2: TJ Krnov-TJ Sokol F-M
END:VEVENT
BEGIN:VEVENT
UID:61626336-3732-4362-a435-386332336563
DTSTAMP:20260422T053812Z
DESCRIPTION:10/30 TJ Krnov - TJ Sokol F-M 0:3 (-6\,-12\,-7)
DTSTART;TZID=Europe/Berlin:20260228T140000
DTEND;TZID=Europe/Berlin:20260228T160000
LOCATION:Střední pedagogická a zdravotní škola \, Jiráskova 840 Krnov - Pod
  Bezručovým vrchem
SUMMARY:MS-U18Z-U2: TJ Krnov-TJ Sokol F-M
END:VEVENT
BEGIN:VEVENT
UID:63373332-3533-4766-b737-366336363531
DTSTAMP:20260422T053812Z
DESCRIPTION:11/32 Happy Opava - TJ Sokol F-M 0:3 (-15\,-20\,-17)
DTSTART;TZID=Europe/Berlin:20260307T100000
DTEND;TZID=Europe/Berlin:20260307T120000
LOCATION:ZŠ Ed. Beneše -malá tělocvična\, Edvarda Beneše 961 Opava - Kateři
 nky
SUMMARY:MS-U18Z-U2: Happy Opava-TJ Sokol F-M
END:VEVENT
BEGIN:VEVENT
UID:35333232-3864-4635-a665-333735353363
DTSTAMP:20260422T053812Z
DESCRIPTION:12/35 Happy Opava - TJ Sokol F-M 1:3 (-22\,24\,-15\,-20)
DTSTART;TZID=Europe/Berlin:20260307T140000
DTEND;TZID=Europe/Berlin:20260307T160000
LOCATION:ZŠ Ed. Beneše -malá tělocvična\, Edvarda Beneše 961 Opava - Kateři
 nky
SUMMARY:MS-U18Z-U2: Happy Opava-TJ Sokol F-M
END:VEVENT
END:VCALENDAR
