BEGIN:VCALENDAR
VERSION:2.0
PRODID:-//Volejbalový klub Realistic Karlovy Vary z.s. "D"90621//NONSGML kigkonsult.se iCalcreator 2.41.80//
CALSCALE:GREGORIAN
UID:35616366-3130-4037-a332-386237383563
BEGIN:VEVENT
UID:39623563-3636-4337-b830-653661633031
DTSTAMP:20260422T235635Z
DESCRIPTION:1/1 Volejbalový klub Realistic Karlovy Vary z.s. 'D' - Chodov 0
 :2 (-9\,-9)
DTSTART;TZID=Europe/Berlin:20251102T090000
DTEND;TZID=Europe/Berlin:20251102T110000
LOCATION:Mattoni Arena Hala míčových sportů\, Západní 1812 Karlovy Vary
SUMMARY:KV-U16ZC: Volejbalový klub Realistic Karlovy Vary z.s. 'D'-Chodov
END:VEVENT
BEGIN:VEVENT
UID:35333061-3931-4066-b535-623031313965
DTSTAMP:20260422T235635Z
DESCRIPTION:1/2 Volejbalový klub Realistic Karlovy Vary z.s.'B' - Volejbalo
 vý klub Realistic Karlovy Vary z.s. 'D' 2:0 (11\,8)
DTSTART;TZID=Europe/Berlin:20251102T090000
DTEND;TZID=Europe/Berlin:20251102T110000
LOCATION:Mattoni Arena Hala míčových sportů\, Západní 1812 Karlovy Vary
SUMMARY:KV-U16ZC: Volejbalový klub Realistic Karlovy Vary z.s.'B'-Volejbalo
 vý klub Realistic Karlovy Vary z.s. 'D'
END:VEVENT
BEGIN:VEVENT
UID:65333033-6435-4735-a562-613165303237
DTSTAMP:20260422T235635Z
DESCRIPTION:3/3 Volejbalový klub Realistic Karlovy Vary z.s. 'D' - VK Ostro
 v 1:2 (-7\,18\,-13)\nTělocvična I.ZŠ Sokolov
DTSTART;TZID=Europe/Berlin:20251123T113000
DTEND;TZID=Europe/Berlin:20251123T133000
LOCATION:Mattoni Arena Hala míčových sportů\, Západní 1812 Karlovy Vary
SUMMARY:KV-U16ZF: Volejbalový klub Realistic Karlovy Vary z.s. 'D'-VK Ostro
 v
END:VEVENT
BEGIN:VEVENT
UID:36343163-6139-4033-b462-323639393736
DTSTAMP:20260422T235635Z
DESCRIPTION:1/1 Volejbalový klub Realistic Karlovy Vary z.s. 'C' - Volejbal
 ový klub Realistic Karlovy Vary z.s. 'D' 2:0 (22\,10)\nTělocvična I.ZŠ Sok
 olov
DTSTART;TZID=Europe/Berlin:20251123T090000
DTEND;TZID=Europe/Berlin:20251123T110000
LOCATION:Mattoni Arena Hala míčových sportů\, Západní 1812 Karlovy Vary
SUMMARY:KV-U16ZF: Volejbalový klub Realistic Karlovy Vary z.s. 'C'-Volejbal
 ový klub Realistic Karlovy Vary z.s. 'D'
END:VEVENT
BEGIN:VEVENT
UID:63353832-3933-4263-b561-323431613763
DTSTAMP:20260422T235635Z
DESCRIPTION:4/4 BVC Chodov B - Volejbalový klub Realistic Karlovy Vary z.s.
  'D' 2:1 (21\,-25\,9)\nTělocvična ISŠTE Sokolov
DTSTART;TZID=Europe/Berlin:20251123T124500
DTEND;TZID=Europe/Berlin:20251123T144500
LOCATION:Městská sportovní hala Chodov\, Tyršova 1201 Chodov
SUMMARY:KV-U16ZF: BVC Chodov B-Volejbalový klub Realistic Karlovy Vary z.s.
  'D'
END:VEVENT
BEGIN:VEVENT
UID:39363464-3437-4464-b433-346137383766
DTSTAMP:20260422T235635Z
DESCRIPTION:5/7 Volejbal Aš - Klokani z.s. 'B' - Volejbalový klub Realistic
  Karlovy Vary z.s. 'D' 2:0 (14\,12)\nTělocvična I.ZŠ Sokolov
DTSTART;TZID=Europe/Berlin:20251123T140000
DTEND;TZID=Europe/Berlin:20251123T160000
LOCATION:Sportovní hala Textilka\, Gustava Geipela 2713 Aš
SUMMARY:KV-U16ZF: Volejbal Aš - Klokani z.s. 'B'-Volejbalový klub Realistic
  Karlovy Vary z.s. 'D'
END:VEVENT
BEGIN:VEVENT
UID:65333664-6234-4365-a562-666133633465
DTSTAMP:20260422T235635Z
DESCRIPTION:1/1 Volejbalový klub Realistic Karlovy Vary z.s. 'D' - Volejbal
  Aš - Klokani z.s. 'B' 0:2 (-14\,-19)\nMattoni Arena\, HMS\, Západní 1812\
 , K. Vary
DTSTART;TZID=Europe/Berlin:20251214T083000
DTEND;TZID=Europe/Berlin:20251214T103000
LOCATION:Mattoni Arena Hala míčových sportů\, Západní 1812 Karlovy Vary
SUMMARY:KV-U16ZH: Volejbalový klub Realistic Karlovy Vary z.s. 'D'-Volejbal
  Aš - Klokani z.s. 'B'
END:VEVENT
BEGIN:VEVENT
UID:38646431-6666-4636-a330-333839323964
DTSTAMP:20260422T235635Z
DESCRIPTION:4/7 Volejbalový klub Realistic Karlovy Vary z.s. 'D' - Volejbal
  Aš - Klokani z.s. 'A' 0:2 (-9\,-11)\nMattoni Arena\, HMS\, Západní 1812\,
  K. Vary
DTSTART;TZID=Europe/Berlin:20251214T113000
DTEND;TZID=Europe/Berlin:20251214T133000
LOCATION:Mattoni Arena Hala míčových sportů\, Západní 1812 Karlovy Vary
SUMMARY:KV-U16ZH: Volejbalový klub Realistic Karlovy Vary z.s. 'D'-Volejbal
  Aš - Klokani z.s. 'A'
END:VEVENT
BEGIN:VEVENT
UID:31643664-6339-4362-b938-326533653236
DTSTAMP:20260422T235635Z
DESCRIPTION:3/5 BVC Chodov B - Volejbalový klub Realistic Karlovy Vary z.s.
  'D' 2:0 (24\,24)\nMattoni Arena\, HMS\, Západní 1812\, K. Vary
DTSTART;TZID=Europe/Berlin:20251214T103000
DTEND;TZID=Europe/Berlin:20251214T123000
LOCATION:Městská sportovní hala Chodov\, Tyršova 1201 Chodov
SUMMARY:KV-U16ZH: BVC Chodov B-Volejbalový klub Realistic Karlovy Vary z.s.
  'D'
END:VEVENT
BEGIN:VEVENT
UID:62356537-3765-4163-b766-376538323062
DTSTAMP:20260422T235635Z
DESCRIPTION:5/10 Volejbalový klub Realistic Karlovy Vary z.s. 'C' - Volejba
 lový klub Realistic Karlovy Vary z.s. 'D' 2:1 (19\,-22\,13)\nMattoni Arena
 \, HMS\, Západní 1812\, K. Vary
DTSTART;TZID=Europe/Berlin:20251214T113000
DTEND;TZID=Europe/Berlin:20251214T133000
LOCATION:Mattoni Arena Hala míčových sportů\, Západní 1812 Karlovy Vary
SUMMARY:KV-U16ZH: Volejbalový klub Realistic Karlovy Vary z.s. 'C'-Volejbal
 ový klub Realistic Karlovy Vary z.s. 'D'
END:VEVENT
BEGIN:VEVENT
UID:62336437-3437-4532-a637-366532666132
DTSTAMP:20260422T235635Z
DESCRIPTION:3/4 Volejbalový klub Realistic Karlovy Vary z.s. 'D' - Volejbal
  Aš - Klokani z.s. 'B' 2:1 (-20\,25\,13)\nMěstská sportovní hala Chodov\, 
 Tyršova 1201
DTSTART;TZID=Europe/Berlin:20260201T110000
DTEND;TZID=Europe/Berlin:20260201T130000
LOCATION:Mattoni Arena Hala míčových sportů\, Západní 1812 Karlovy Vary
SUMMARY:KV-U16ZJ: Volejbalový klub Realistic Karlovy Vary z.s. 'D'-Volejbal
  Aš - Klokani z.s. 'B'
END:VEVENT
BEGIN:VEVENT
UID:38616261-6530-4237-a331-363133323766
DTSTAMP:20260422T235635Z
DESCRIPTION:4/5 Volejbalový klub Realistic Karlovy Vary z.s. 'D' - BVC Chod
 ov B 2:1 (20\,-20\,12)\nMěstská sportovní hala Chodov\, Tyršova 1201
DTSTART;TZID=Europe/Berlin:20260201T120000
DTEND;TZID=Europe/Berlin:20260201T140000
LOCATION:Mattoni Arena Hala míčových sportů\, Západní 1812 Karlovy Vary
SUMMARY:KV-U16ZJ: Volejbalový klub Realistic Karlovy Vary z.s. 'D'-BVC Chod
 ov B
END:VEVENT
BEGIN:VEVENT
UID:33636238-3830-4965-a130-326539396234
DTSTAMP:20260422T235635Z
DESCRIPTION:2/3 VK Ostrov - Volejbalový klub Realistic Karlovy Vary z.s. 'D
 ' 2:0 (22\,18)\nMěstská sportovní hala Chodov\, Tyršova 1201
DTSTART;TZID=Europe/Berlin:20260201T100000
DTEND;TZID=Europe/Berlin:20260201T120000
LOCATION:Mattoni Arena Hala míčových sportů\, Západní 1812 Karlovy Vary
SUMMARY:KV-U16ZJ: VK Ostrov-Volejbalový klub Realistic Karlovy Vary z.s. 'D
 '
END:VEVENT
BEGIN:VEVENT
UID:38646631-6366-4531-a566-613462663135
DTSTAMP:20260422T235635Z
DESCRIPTION:6/9 Volejbalový klub Realistic Karlovy Vary z.s. 'C' - Volejbal
 ový klub Realistic Karlovy Vary z.s. 'D' 2:0 (19\,14)\nMěstská sportovní h
 ala Chodov\, Tyršova 1201
DTSTART;TZID=Europe/Berlin:20260201T140000
DTEND;TZID=Europe/Berlin:20260201T160000
LOCATION:Mattoni Arena Hala míčových sportů\, Západní 1812 Karlovy Vary
SUMMARY:KV-U16ZJ: Volejbalový klub Realistic Karlovy Vary z.s. 'C'-Volejbal
 ový klub Realistic Karlovy Vary z.s. 'D'
END:VEVENT
BEGIN:VEVENT
UID:33376666-6537-4138-b066-633635653132
DTSTAMP:20260422T235635Z
DESCRIPTION:1/1 Volejbal Aš - Klokani z.s. 'A' - Volejbalový klub Realistic
  Karlovy Vary z.s. 'D' 2:0 (13\,12)\nTělocvična ISŠTE Sokolov\, Jednoty 16
 20\, II. kurt
DTSTART;TZID=Europe/Berlin:20260308T090000
DTEND;TZID=Europe/Berlin:20260308T110000
LOCATION:Sportovní hala Textilka\, Gustava Geipela 2713 Aš
SUMMARY:KV-U16ZL: Volejbal Aš - Klokani z.s. 'A'-Volejbalový klub Realistic
  Karlovy Vary z.s. 'D'
END:VEVENT
BEGIN:VEVENT
UID:35333533-6538-4464-a361-373030386263
DTSTAMP:20260422T235635Z
DESCRIPTION:2/4 Volejbal Aš - Klokani z.s. 'B' - Volejbalový klub Realistic
  Karlovy Vary z.s. 'D' 2:0 (13\,14)\nTělocvična ZŠ Pionýrů 1614\, Sokolov
DTSTART;TZID=Europe/Berlin:20260308T103000
DTEND;TZID=Europe/Berlin:20260308T123000
LOCATION:Sportovní hala Textilka\, Gustava Geipela 2713 Aš
SUMMARY:KV-U16ZL: Volejbal Aš - Klokani z.s. 'B'-Volejbalový klub Realistic
  Karlovy Vary z.s. 'D'
END:VEVENT
BEGIN:VEVENT
UID:33366235-3534-4433-b132-623963363439
DTSTAMP:20260422T235635Z
DESCRIPTION:3/5 VK Ostrov - Volejbalový klub Realistic Karlovy Vary z.s. 'D
 ' 2:1 (18\,-17\,8)\nTělocvična ISŠTE Sokolov\, Jednoty 1620\, II. kurt
DTSTART;TZID=Europe/Berlin:20260308T120000
DTEND;TZID=Europe/Berlin:20260308T140000
LOCATION:Mattoni Arena Hala míčových sportů\, Západní 1812 Karlovy Vary
SUMMARY:KV-U16ZL: VK Ostrov-Volejbalový klub Realistic Karlovy Vary z.s. 'D
 '
END:VEVENT
BEGIN:VEVENT
UID:61383330-3661-4135-b366-323763323831
DTSTAMP:20260422T235635Z
DESCRIPTION:4/7 BVC Chodov B - Volejbalový klub Realistic Karlovy Vary z.s.
  'D' 0:1 (-0)\nTělocvična ISŠTE Sokolov\, Jednoty 1620\, II. kurt
DTSTART;TZID=Europe/Berlin:20260308T133000
DTEND;TZID=Europe/Berlin:20260308T153000
LOCATION:Městská sportovní hala Chodov\, Tyršova 1201 Chodov
SUMMARY:KV-U16ZL: BVC Chodov B-Volejbalový klub Realistic Karlovy Vary z.s.
  'D'
END:VEVENT
END:VCALENDAR
