BEGIN:VCALENDAR
VERSION:2.0
PRODID:-//Volejbalový sportovní klub Tatran Kraslice90622//NONSGML kigkonsult.se iCalcreator 2.41.80//
CALSCALE:GREGORIAN
UID:65656235-3332-4161-a463-366335663062
BEGIN:VEVENT
UID:33336239-6234-4633-a232-613730323734
DTSTAMP:20260422T052932Z
DESCRIPTION:1/2 Volejbalový sportovní klub Baník Sokolov\, z.s. 'A' - Volej
 balový sportovní klub Tatran Kraslice 2:0 (13\,4)
DTSTART;TZID=Europe/Berlin:20251101T090000
DTEND;TZID=Europe/Berlin:20251101T110000
LOCATION:Jiskra\, Maxima Gorkého 280 Sokolov
SUMMARY:KV-U14ZB: Volejbalový sportovní klub Baník Sokolov\, z.s. 'A'-Volej
 balový sportovní klub Tatran Kraslice
END:VEVENT
BEGIN:VEVENT
UID:65356337-6566-4630-b563-626463373937
DTSTAMP:20260422T052932Z
DESCRIPTION:1/4 VK Karlovarsko\, z.s. - Volejbalový sportovní klub Tatran K
 raslice 2:0 (20\,22)
DTSTART;TZID=Europe/Berlin:20251101T090000
DTEND;TZID=Europe/Berlin:20251101T110000
LOCATION:Mattoni Arena Hala míčových sportů\, Západní 1812 Karlovy Vary
SUMMARY:KV-U14ZB: VK Karlovarsko\, z.s.-Volejbalový sportovní klub Tatran K
 raslice
END:VEVENT
BEGIN:VEVENT
UID:33343361-3539-4561-b634-633832623330
DTSTAMP:20260422T052932Z
DESCRIPTION:1/5 BVC Chodov 'A' - Volejbalový sportovní klub Tatran Kraslice
  2:0 (10\,13)
DTSTART;TZID=Europe/Berlin:20251101T090000
DTEND;TZID=Europe/Berlin:20251101T110000
LOCATION:Městská sportovní hala Chodov\, Tyršova 1201 Chodov
SUMMARY:KV-U14ZB: BVC Chodov 'A'-Volejbalový sportovní klub Tatran Kraslice
END:VEVENT
BEGIN:VEVENT
UID:63326163-6436-4162-b732-333166383766
DTSTAMP:20260422T052932Z
DESCRIPTION:1/1 BVC Chodov 'A' - Volejbalový sportovní klub Tatran Kraslice
  0:2 (-17\,-21)\nTělocvična ISŠTE Sokolov
DTSTART;TZID=Europe/Berlin:20251122T090000
DTEND;TZID=Europe/Berlin:20251122T110000
LOCATION:Městská sportovní hala Chodov\, Tyršova 1201 Chodov
SUMMARY:KV-U14ZE: BVC Chodov 'A'-Volejbalový sportovní klub Tatran Kraslice
END:VEVENT
BEGIN:VEVENT
UID:31316438-3666-4637-b963-333632323039
DTSTAMP:20260422T052932Z
DESCRIPTION:1/4 BVC Chodov B - Volejbalový sportovní klub Tatran Kraslice 1
 :2 (-17\,28\,-12)\nTělocvična ISŠTE Sokolov
DTSTART;TZID=Europe/Berlin:20251122T090000
DTEND;TZID=Europe/Berlin:20251122T110000
LOCATION:Městská sportovní hala Chodov\, Tyršova 1201 Chodov
SUMMARY:KV-U14ZE: BVC Chodov B-Volejbalový sportovní klub Tatran Kraslice
END:VEVENT
BEGIN:VEVENT
UID:35356430-6565-4530-a533-646666326537
DTSTAMP:20260422T052932Z
DESCRIPTION:1/5 Volejbal Aš - Klokani z.s. - Volejbalový sportovní klub Tat
 ran Kraslice 2:0 (18\,23)\nTělocvična ISŠTE Sokolov
DTSTART;TZID=Europe/Berlin:20251122T090000
DTEND;TZID=Europe/Berlin:20251122T110000
LOCATION:Sportovní hala Textilka\, Gustava Geipela 2713 Aš
SUMMARY:KV-U14ZE: Volejbal Aš - Klokani z.s.-Volejbalový sportovní klub Tat
 ran Kraslice
END:VEVENT
BEGIN:VEVENT
UID:32663832-3930-4638-a438-393464663363
DTSTAMP:20260422T052932Z
DESCRIPTION:1/1 Volejbalový sportovní klub Tatran Kraslice - BVC Chodov 'A'
  0:2 (-20\,-18)\nSportovní hala Textilka\, Gustava Geipela 11\, Aš
DTSTART;TZID=Europe/Berlin:20251213T090000
DTEND;TZID=Europe/Berlin:20251213T110000
LOCATION:sokolovna\, Tyršova 168 Kraslice
SUMMARY:KV-U14ZG: Volejbalový sportovní klub Tatran Kraslice-BVC Chodov 'A'
END:VEVENT
BEGIN:VEVENT
UID:34303939-3161-4562-b562-303735393530
DTSTAMP:20260422T052932Z
DESCRIPTION:1/4 Volejbalový sportovní klub Tatran Kraslice - BVC Chodov B 2
 :0 (17\,21)\nSportovní hala Textilka\, Gustava Geipela 11\, Aš
DTSTART;TZID=Europe/Berlin:20251213T090000
DTEND;TZID=Europe/Berlin:20251213T110000
LOCATION:sokolovna\, Tyršova 168 Kraslice
SUMMARY:KV-U14ZG: Volejbalový sportovní klub Tatran Kraslice-BVC Chodov B
END:VEVENT
BEGIN:VEVENT
UID:64663130-6266-4564-b136-646461653266
DTSTAMP:20260422T052932Z
DESCRIPTION:1/5 Volejbalový sportovní klub Tatran Kraslice - Volejbalový sp
 ortovní klub Baník Sokolov\, z.s. 'B' 0:2 (-14\,-18)\nSportovní hala Texti
 lka\, Gustava Geipela 11\, Aš
DTSTART;TZID=Europe/Berlin:20251213T090000
DTEND;TZID=Europe/Berlin:20251213T110000
LOCATION:sokolovna\, Tyršova 168 Kraslice
SUMMARY:KV-U14ZG: Volejbalový sportovní klub Tatran Kraslice-Volejbalový sp
 ortovní klub Baník Sokolov\, z.s. 'B'
END:VEVENT
BEGIN:VEVENT
UID:65353161-3063-4232-b134-316538666334
DTSTAMP:20260422T052932Z
DESCRIPTION:2/2 Volejbalový sportovní klub Tatran Kraslice - BVC Chodov 'A'
  1:2 (23\,-18\,-9)\nMěstská sportovní hala Chodov\, Tyršova 1201
DTSTART;TZID=Europe/Berlin:20260131T100000
DTEND;TZID=Europe/Berlin:20260131T120000
LOCATION:sokolovna\, Tyršova 168 Kraslice
SUMMARY:KV-U14ZI: Volejbalový sportovní klub Tatran Kraslice-BVC Chodov 'A'
END:VEVENT
BEGIN:VEVENT
UID:62303532-6434-4536-a561-656336393362
DTSTAMP:20260422T052932Z
DESCRIPTION:3/3 VK Karlovarsko\, z.s. - Volejbalový sportovní klub Tatran K
 raslice 2:0 (17\,18)\nMěstská sportovní hala Chodov\, Tyršova 1201
DTSTART;TZID=Europe/Berlin:20260131T110000
DTEND;TZID=Europe/Berlin:20260131T130000
LOCATION:Mattoni Arena Hala míčových sportů\, Západní 1812 Karlovy Vary
SUMMARY:KV-U14ZI: VK Karlovarsko\, z.s.-Volejbalový sportovní klub Tatran K
 raslice
END:VEVENT
BEGIN:VEVENT
UID:33356336-3962-4162-a537-393566383135
DTSTAMP:20260422T052932Z
DESCRIPTION:4/5 BVC Chodov B - Volejbalový sportovní klub Tatran Kraslice 0
 :2 (-18\,-23)\nMěstská sportovní hala Chodov\, Tyršova 1201
DTSTART;TZID=Europe/Berlin:20260131T120000
DTEND;TZID=Europe/Berlin:20260131T140000
LOCATION:Městská sportovní hala Chodov\, Tyršova 1201 Chodov
SUMMARY:KV-U14ZI: BVC Chodov B-Volejbalový sportovní klub Tatran Kraslice
END:VEVENT
BEGIN:VEVENT
UID:65343930-3339-4565-b236-623636376534
DTSTAMP:20260422T052932Z
DESCRIPTION:2/4 Volejbalový sportovní klub Tatran Kraslice - BVC Chodov B 2
 :1 (16\,-12\,10)\nMattoni Arena\, HMS\, Západní 1812\, K. Vary
DTSTART;TZID=Europe/Berlin:20260307T093000
DTEND;TZID=Europe/Berlin:20260307T113000
LOCATION:sokolovna\, Tyršova 168 Kraslice
SUMMARY:KV-U14ZK: Volejbalový sportovní klub Tatran Kraslice-BVC Chodov B
END:VEVENT
BEGIN:VEVENT
UID:30396432-6637-4536-a434-373334626537
DTSTAMP:20260422T052932Z
DESCRIPTION:3/5 Volejbalový sportovní klub Tatran Kraslice - Volejbalový sp
 ortovní klub Baník Sokolov\, z.s. 'B' 0:2 (-14\,-17)\nMattoni Arena\, HMS\
 , Západní 1812\, K. Vary
DTSTART;TZID=Europe/Berlin:20260307T103000
DTEND;TZID=Europe/Berlin:20260307T123000
LOCATION:sokolovna\, Tyršova 168 Kraslice
SUMMARY:KV-U14ZK: Volejbalový sportovní klub Tatran Kraslice-Volejbalový sp
 ortovní klub Baník Sokolov\, z.s. 'B'
END:VEVENT
BEGIN:VEVENT
UID:34643230-3630-4639-b233-633062306431
DTSTAMP:20260422T052932Z
DESCRIPTION:1/1 BVC Chodov 'A' - Volejbalový sportovní klub Tatran Kraslice
  1:2 (-13\,23\,-6)\nMattoni Arena\, HMS\, Západní 1812\, K. Vary
DTSTART;TZID=Europe/Berlin:20260307T083000
DTEND;TZID=Europe/Berlin:20260307T103000
LOCATION:Městská sportovní hala Chodov\, Tyršova 1201 Chodov
SUMMARY:KV-U14ZK: BVC Chodov 'A'-Volejbalový sportovní klub Tatran Kraslice
END:VEVENT
END:VCALENDAR
