BEGIN:VCALENDAR
VERSION:2.0
PRODID:-//FOSFA Lokomotiva Břeclav U1890639//NONSGML kigkonsult.se iCalcreator 2.41.80//
CALSCALE:GREGORIAN
UID:61616539-6161-4235-a238-366433616234
BEGIN:VEVENT
UID:64383130-3434-4739-b334-663237363966
DTSTAMP:20260422T052713Z
DESCRIPTION:1/1 FOSFA Lokomotiva Břeclav U18 - TJ TESLA BRNO z.s. U20 1:2 (
 23\,-14\,-3)
DTSTART;TZID=Europe/Berlin:20250914T090000
DTEND;TZID=Europe/Berlin:20250914T110000
LOCATION:TJ Lokomotiva Břeclav\, Veslařská 2753 Břeclav
SUMMARY:JM-U22M-KVCA: FOSFA Lokomotiva Břeclav U18-TJ TESLA BRNO z.s. U20
END:VEVENT
BEGIN:VEVENT
UID:65323436-3162-4234-b932-396662343632
DTSTAMP:20260422T052713Z
DESCRIPTION:3/3 VK Znojmo - Přímětice U20 - FOSFA Lokomotiva Břeclav U18 2:
 1 (-23\,22\,5)
DTSTART;TZID=Europe/Berlin:20250914T114500
DTEND;TZID=Europe/Berlin:20250914T134500
LOCATION:TJ Lokomotiva Břeclav\, Veslařská 2753 Břeclav
SUMMARY:JM-U22M-KVCA: VK Znojmo - Přímětice U20-FOSFA Lokomotiva Břeclav U1
 8
END:VEVENT
BEGIN:VEVENT
UID:35383435-6561-4338-a133-643938643638
DTSTAMP:20260422T052713Z
DESCRIPTION:1/1 VK Brno\, z.s. U20 - FOSFA Lokomotiva Břeclav U18 0:2 (-11\
 ,-10)\nKVCA3 vs KVCB3
DTSTART;TZID=Europe/Berlin:20250914T130000
DTEND;TZID=Europe/Berlin:20250914T150000
LOCATION:TJ Lokomotiva Břeclav\, Veslařská 2753 Břeclav
SUMMARY:JM-U22M-KVCC: VK Brno\, z.s. U20-FOSFA Lokomotiva Břeclav U18
END:VEVENT
BEGIN:VEVENT
UID:35616531-3633-4562-a163-333736646332
DTSTAMP:20260422T052713Z
DESCRIPTION:3/6 FOSFA Lokomotiva Břeclav U18 - Volejbal Brno U18 2:1 (-18\,
 19\,14)
DTSTART;TZID=Europe/Berlin:20251012T114500
DTEND;TZID=Europe/Berlin:20251012T134500
LOCATION:ZŠ Vejrostova\, Vejrostova 1066 Brno - Bystrc
SUMMARY:JM-U22M-IE: FOSFA Lokomotiva Břeclav U18-Volejbal Brno U18
END:VEVENT
BEGIN:VEVENT
UID:35326164-6330-4665-b631-386533346638
DTSTAMP:20260422T052713Z
DESCRIPTION:1/2 VS Drásov U18 - FOSFA Lokomotiva Břeclav U18 0:2 (-21\,-15)
DTSTART;TZID=Europe/Berlin:20251012T090000
DTEND;TZID=Europe/Berlin:20251012T110000
LOCATION:ZŠ Vejrostova\, Vejrostova 1066 Brno - Bystrc
SUMMARY:JM-U22M-IE: VS Drásov U18-FOSFA Lokomotiva Břeclav U18
END:VEVENT
BEGIN:VEVENT
UID:35633133-6437-4562-b837-373232383436
DTSTAMP:20260422T052713Z
DESCRIPTION:2/3 TJ Slovan Ivančice\, z.s. U18 - FOSFA Lokomotiva Břeclav U1
 8 0:2 (-17\,-15)
DTSTART;TZID=Europe/Berlin:20251012T103000
DTEND;TZID=Europe/Berlin:20251012T123000
LOCATION:ZŠ Vejrostova\, Vejrostova 1066 Brno - Bystrc
SUMMARY:JM-U22M-IE: TJ Slovan Ivančice\, z.s. U18-FOSFA Lokomotiva Břeclav 
 U18
END:VEVENT
BEGIN:VEVENT
UID:61636130-3231-4862-b635-653136326332
DTSTAMP:20260422T052713Z
DESCRIPTION:3/3 FOSFA Lokomotiva Břeclav U18 - TJ Sokol Hrušovany u Brna U2
 2 0:3 (-18\,-23\,-11)
DTSTART;TZID=Europe/Berlin:20251109T130000
DTEND;TZID=Europe/Berlin:20251109T150000
LOCATION:Sportovní hala Hrušovany u Brna\, Jízdárenská 698 Hrušovany u Brna
SUMMARY:JM-U22M-IID: FOSFA Lokomotiva Břeclav U18-TJ Sokol Hrušovany u Brna
  U22
END:VEVENT
BEGIN:VEVENT
UID:62646232-6462-4238-b338-663334643565
DTSTAMP:20260422T052713Z
DESCRIPTION:2/2 Volejbalový klub Psycho Rosice U20 - FOSFA Lokomotiva Břecl
 av U18 3:0 (13\,23\,17)
DTSTART;TZID=Europe/Berlin:20251109T110000
DTEND;TZID=Europe/Berlin:20251109T130000
LOCATION:Sportovní hala Hrušovany u Brna\, Jízdárenská 698 Hrušovany u Brna
SUMMARY:JM-U22M-IID: Volejbalový klub Psycho Rosice U20-FOSFA Lokomotiva Bř
 eclav U18
END:VEVENT
BEGIN:VEVENT
UID:31663136-6362-4036-b931-656236636232
DTSTAMP:20260422T052713Z
DESCRIPTION:1/1 FOSFA Lokomotiva Břeclav U18 - VS Drásov U18 1:2 (14\,-22\,
 -6)
DTSTART;TZID=Europe/Berlin:20251207T090000
DTEND;TZID=Europe/Berlin:20251207T110000
LOCATION:TJ Lokomotiva Břeclav\, Veslařská 2753 Břeclav
SUMMARY:JM-U22M-IIIE: FOSFA Lokomotiva Břeclav U18-VS Drásov U18
END:VEVENT
BEGIN:VEVENT
UID:35343332-3063-4334-b837-353437366438
DTSTAMP:20260422T052713Z
DESCRIPTION:2/4 FOSFA Lokomotiva Břeclav U18 - TJ Slovan Ivančice\, z.s. U1
 8 2:1 (22\,-19\,10)
DTSTART;TZID=Europe/Berlin:20251207T103000
DTEND;TZID=Europe/Berlin:20251207T123000
LOCATION:TJ Lokomotiva Břeclav\, Veslařská 2753 Břeclav
SUMMARY:JM-U22M-IIIE: FOSFA Lokomotiva Břeclav U18-TJ Slovan Ivančice\, z.s
 . U18
END:VEVENT
BEGIN:VEVENT
UID:66313766-6338-4232-b531-626133643231
DTSTAMP:20260422T052713Z
DESCRIPTION:3/6 Volejbal Brno U18 - FOSFA Lokomotiva Břeclav U18 0:2 (-20\,
 -19)
DTSTART;TZID=Europe/Berlin:20251207T114500
DTEND;TZID=Europe/Berlin:20251207T134500
LOCATION:TJ Lokomotiva Břeclav\, Veslařská 2753 Břeclav
SUMMARY:JM-U22M-IIIE: Volejbal Brno U18-FOSFA Lokomotiva Břeclav U18
END:VEVENT
BEGIN:VEVENT
UID:38326432-6639-4233-a135-353034356331
DTSTAMP:20260422T052713Z
DESCRIPTION:1/1 FOSFA Lokomotiva Břeclav U18 - Volejbalový klub Psycho Rosi
 ce U20 0:3 (-17\,-18\,-19)
DTSTART;TZID=Europe/Berlin:20260111T090000
DTEND;TZID=Europe/Berlin:20260111T110000
LOCATION:TJ Lokomotiva Břeclav\, Veslařská 2753 Břeclav
SUMMARY:JM-U22M-IVD: FOSFA Lokomotiva Břeclav U18-Volejbalový klub Psycho R
 osice U20
END:VEVENT
BEGIN:VEVENT
UID:63303335-3038-4363-a234-613466396564
DTSTAMP:20260422T052713Z
DESCRIPTION:3/3 TJ SOKOL LETOVICE\, z.s. U20 - FOSFA Lokomotiva Břeclav U18
  0:3 (-23\,-20\,-14)
DTSTART;TZID=Europe/Berlin:20260111T130000
DTEND;TZID=Europe/Berlin:20260111T150000
LOCATION:TJ Lokomotiva Břeclav\, Veslařská 2753 Břeclav
SUMMARY:JM-U22M-IVD: TJ SOKOL LETOVICE\, z.s. U20-FOSFA Lokomotiva Břeclav 
 U18
END:VEVENT
BEGIN:VEVENT
UID:37356232-3566-4335-b534-663730366639
DTSTAMP:20260422T052713Z
DESCRIPTION:3/3 FOSFA Lokomotiva Břeclav U18 - Orel Křenovice U22 0:3 (-12\
 ,-20\,-21)
DTSTART;TZID=Europe/Berlin:20260208T130000
DTEND;TZID=Europe/Berlin:20260208T150000
LOCATION:Sportovní hala Křenovice \, Bratří Mrázků 635 Křenovice
SUMMARY:JM-U22M-VD: FOSFA Lokomotiva Břeclav U18-Orel Křenovice U22
END:VEVENT
BEGIN:VEVENT
UID:36353631-6665-4262-b163-653235666463
DTSTAMP:20260422T052713Z
DESCRIPTION:2/2 VS Drásov U18 - FOSFA Lokomotiva Břeclav U18 3:0 (23\,18\,2
 0)
DTSTART;TZID=Europe/Berlin:20260208T110000
DTEND;TZID=Europe/Berlin:20260208T130000
LOCATION:Sportovní hala Křenovice \, Bratří Mrázků 635 Křenovice
SUMMARY:JM-U22M-VD: VS Drásov U18-FOSFA Lokomotiva Břeclav U18
END:VEVENT
BEGIN:VEVENT
UID:62663238-3362-4930-b734-363938646563
DTSTAMP:20260422T052713Z
DESCRIPTION:1/1 FOSFA Lokomotiva Břeclav U18 - Volejbal Brno U18 2:0 (20\,2
 5)
DTSTART;TZID=Europe/Berlin:20260308T090000
DTEND;TZID=Europe/Berlin:20260308T110000
LOCATION:TJ Lokomotiva Břeclav\, Veslařská 2753 Břeclav
SUMMARY:JM-U22M-VIE: FOSFA Lokomotiva Břeclav U18-Volejbal Brno U18
END:VEVENT
BEGIN:VEVENT
UID:33396463-3934-4266-b435-343337356264
DTSTAMP:20260422T052713Z
DESCRIPTION:2/4 FOSFA Lokomotiva Břeclav U18 - TJ Slovan Ivančice\, z.s. U1
 8 2:0 (25\,17)
DTSTART;TZID=Europe/Berlin:20260308T103000
DTEND;TZID=Europe/Berlin:20260308T123000
LOCATION:TJ Lokomotiva Břeclav\, Veslařská 2753 Břeclav
SUMMARY:JM-U22M-VIE: FOSFA Lokomotiva Břeclav U18-TJ Slovan Ivančice\, z.s.
  U18
END:VEVENT
BEGIN:VEVENT
UID:30343366-3563-4636-b037-363361636135
DTSTAMP:20260422T052713Z
DESCRIPTION:3/6 TJ SOKOL LETOVICE\, z.s. U20 - FOSFA Lokomotiva Břeclav U18
  0:2 (-15\,-22)
DTSTART;TZID=Europe/Berlin:20260308T114500
DTEND;TZID=Europe/Berlin:20260308T134500
LOCATION:TJ Lokomotiva Břeclav\, Veslařská 2753 Břeclav
SUMMARY:JM-U22M-VIE: TJ SOKOL LETOVICE\, z.s. U20-FOSFA Lokomotiva Břeclav 
 U18
END:VEVENT
END:VCALENDAR
