BEGIN:VCALENDAR
VERSION:2.0
PRODID:-//Orel Křenovice90647//NONSGML kigkonsult.se iCalcreator 2.41.80//
CALSCALE:GREGORIAN
UID:36306663-3139-4732-b439-336564636330
BEGIN:VEVENT
UID:39373836-3662-4064-a362-373464333861
DTSTAMP:20260422T164515Z
DESCRIPTION:3/11 Orel Křenovice - Sokol Šlapanice 1:3 (-20\,-21\,22\,-21)
DTSTART;TZID=Europe/Berlin:20251011T100000
DTEND;TZID=Europe/Berlin:20251011T120000
LOCATION:Sportovní hala Křenovice \, Bratří Mrázků 635 Křenovice
SUMMARY:JM-Z-2-B: Orel Křenovice-Sokol Šlapanice
END:VEVENT
BEGIN:VEVENT
UID:64383838-3966-4435-a639-323833653134
DTSTAMP:20260422T164515Z
DESCRIPTION:4/15 Orel Křenovice - Sokol Šlapanice 3:1 (-25\,22\,22\,20)
DTSTART;TZID=Europe/Berlin:20251011T130000
DTEND;TZID=Europe/Berlin:20251011T150000
LOCATION:Sportovní hala Křenovice \, Bratří Mrázků 635 Křenovice
SUMMARY:JM-Z-2-B: Orel Křenovice-Sokol Šlapanice
END:VEVENT
BEGIN:VEVENT
UID:31336464-6561-4330-a336-383264613866
DTSTAMP:20260422T164515Z
DESCRIPTION:7/26 Orel Křenovice - VOLEJBAL VYŠKOV 0:3 (-14\,-19\,-27)
DTSTART;TZID=Europe/Berlin:20251101T100000
DTEND;TZID=Europe/Berlin:20251101T120000
LOCATION:Sportovní hala Křenovice \, Bratří Mrázků 635 Křenovice
SUMMARY:JM-Z-2-B: Orel Křenovice-VOLEJBAL VYŠKOV
END:VEVENT
BEGIN:VEVENT
UID:62303165-3663-4139-a535-656435333165
DTSTAMP:20260422T164515Z
DESCRIPTION:8/30 Orel Křenovice - VOLEJBAL VYŠKOV 0:3 (-22\,-14\,-21)
DTSTART;TZID=Europe/Berlin:20251101T130000
DTEND;TZID=Europe/Berlin:20251101T150000
LOCATION:Sportovní hala Křenovice \, Bratří Mrázků 635 Křenovice
SUMMARY:JM-Z-2-B: Orel Křenovice-VOLEJBAL VYŠKOV
END:VEVENT
BEGIN:VEVENT
UID:36353565-6461-4334-b063-303164666265
DTSTAMP:20260422T164515Z
DESCRIPTION:13/52 Orel Křenovice - TJ TATRAN Rousínov\, z.s. 3:0 (17\,16\,1
 7)
DTSTART;TZID=Europe/Berlin:20251129T090000
DTEND;TZID=Europe/Berlin:20251129T110000
LOCATION:Sportovní hala Křenovice \, Bratří Mrázků 635 Křenovice
SUMMARY:JM-Z-2-B: Orel Křenovice-TJ TATRAN Rousínov\, z.s.
END:VEVENT
BEGIN:VEVENT
UID:33646534-3163-4631-b263-323661663662
DTSTAMP:20260422T164515Z
DESCRIPTION:14/56 Orel Křenovice - TJ TATRAN Rousínov\, z.s. 3:2 (26\,-20\,
 19\,-19\,13)
DTSTART;TZID=Europe/Berlin:20251129T120000
DTEND;TZID=Europe/Berlin:20251129T140000
LOCATION:Sportovní hala Křenovice \, Bratří Mrázků 635 Křenovice
SUMMARY:JM-Z-2-B: Orel Křenovice-TJ TATRAN Rousínov\, z.s.
END:VEVENT
BEGIN:VEVENT
UID:38646638-3564-4537-b862-303566303831
DTSTAMP:20260422T164515Z
DESCRIPTION:1/2 VK Křenovice\, z.s. - Orel Křenovice 3:1 (-23\,20\,20\,20)
DTSTART;TZID=Europe/Berlin:20251007T180000
DTEND;TZID=Europe/Berlin:20251007T200000
LOCATION:Sportovní hala Křenovice \, Bratří Mrázků 635 Křenovice
SUMMARY:JM-Z-2-B: VK Křenovice\, z.s.-Orel Křenovice
END:VEVENT
BEGIN:VEVENT
UID:37333666-3964-4635-a333-376132346264
DTSTAMP:20260422T164515Z
DESCRIPTION:2/6 VK Křenovice\, z.s. - Orel Křenovice 3:0 (14\,18\,18)
DTSTART;TZID=Europe/Berlin:20251007T200000
DTEND;TZID=Europe/Berlin:20251007T220000
LOCATION:Sportovní hala Křenovice \, Bratří Mrázků 635 Křenovice
SUMMARY:JM-Z-2-B: VK Křenovice\, z.s.-Orel Křenovice
END:VEVENT
BEGIN:VEVENT
UID:34396239-6562-4365-a361-346365616262
DTSTAMP:20260422T164515Z
DESCRIPTION:5/19 TJ JUNIOR Brno - Orel Křenovice 0:3 (-14\,-23\,-20)
DTSTART;TZID=Europe/Berlin:20251019T100000
DTEND;TZID=Europe/Berlin:20251019T120000
LOCATION:ZŠ Holzova 1\, Holzova 1461 Brno - Líšeň
SUMMARY:JM-Z-2-B: TJ JUNIOR Brno-Orel Křenovice
END:VEVENT
BEGIN:VEVENT
UID:39393630-3737-4161-b964-333733333565
DTSTAMP:20260422T164515Z
DESCRIPTION:6/23 TJ JUNIOR Brno - Orel Křenovice 2:3 (20\,13\,-22\,-13\,-7)
DTSTART;TZID=Europe/Berlin:20251019T130000
DTEND;TZID=Europe/Berlin:20251019T150000
LOCATION:ZŠ Holzova 1\, Holzova 1461 Brno - Líšeň
SUMMARY:JM-Z-2-B: TJ JUNIOR Brno-Orel Křenovice
END:VEVENT
BEGIN:VEVENT
UID:33663132-6465-4166-b064-333731383539
DTSTAMP:20260422T164515Z
DESCRIPTION:9/36 Tělocvičná jednota Sokol Rajhrad - Orel Křenovice 2:3 (-14
 \,17\,-25\,18\,-8)
DTSTART;TZID=Europe/Berlin:20251109T100000
DTEND;TZID=Europe/Berlin:20251109T120000
LOCATION:, Havlíčkova 452 Rajhrad
SUMMARY:JM-Z-2-B: Tělocvičná jednota Sokol Rajhrad-Orel Křenovice
END:VEVENT
BEGIN:VEVENT
UID:34656466-3366-4135-b233-383531373736
DTSTAMP:20260422T164515Z
DESCRIPTION:10/40 Tělocvičná jednota Sokol Rajhrad - Orel Křenovice 3:2 (16
 \,-12\,-16\,23\,15)
DTSTART;TZID=Europe/Berlin:20251109T130000
DTEND;TZID=Europe/Berlin:20251109T150000
LOCATION:, Havlíčkova 452 Rajhrad
SUMMARY:JM-Z-2-B: Tělocvičná jednota Sokol Rajhrad-Orel Křenovice
END:VEVENT
BEGIN:VEVENT
UID:37666464-3735-4137-b031-383135393131
DTSTAMP:20260422T164515Z
DESCRIPTION:3/11 Orel Křenovice - TJ SOKOL LETOVICE\, z.s. 3:2 (22\,-21\,23
 \,-23\,9)
DTSTART;TZID=Europe/Berlin:20260104T100000
DTEND;TZID=Europe/Berlin:20260104T120000
LOCATION:Sportovní hala Křenovice \, Bratří Mrázků 635 Křenovice
SUMMARY:JM-Z-2-II: Orel Křenovice-TJ SOKOL LETOVICE\, z.s.
END:VEVENT
BEGIN:VEVENT
UID:36303031-3632-4562-b561-303061373533
DTSTAMP:20260422T164515Z
DESCRIPTION:4/15 Orel Křenovice - TJ SOKOL LETOVICE\, z.s. 3:2 (22\,-13\,20
 \,-18\,9)
DTSTART;TZID=Europe/Berlin:20260104T130000
DTEND;TZID=Europe/Berlin:20260104T150000
LOCATION:Sportovní hala Křenovice \, Bratří Mrázků 635 Křenovice
SUMMARY:JM-Z-2-II: Orel Křenovice-TJ SOKOL LETOVICE\, z.s.
END:VEVENT
BEGIN:VEVENT
UID:33336164-3935-4366-b137-336162386264
DTSTAMP:20260422T164515Z
DESCRIPTION:7/25 Orel Křenovice - Orel jednota Brno - Obřany 1:3 (-14\,-15\
 ,24\,-20)
DTSTART;TZID=Europe/Berlin:20260118T100000
DTEND;TZID=Europe/Berlin:20260118T120000
LOCATION:Sportovní hala Křenovice \, Bratří Mrázků 635 Křenovice
SUMMARY:JM-Z-2-II: Orel Křenovice-Orel jednota Brno - Obřany
END:VEVENT
BEGIN:VEVENT
UID:32303963-6563-4237-b866-373339363737
DTSTAMP:20260422T164515Z
DESCRIPTION:8/29 Orel Křenovice - Orel jednota Brno - Obřany 1:3 (-20\,-17\
 ,19\,-21)
DTSTART;TZID=Europe/Berlin:20260118T130000
DTEND;TZID=Europe/Berlin:20260118T150000
LOCATION:Sportovní hala Křenovice \, Bratří Mrázků 635 Křenovice
SUMMARY:JM-Z-2-II: Orel Křenovice-Orel jednota Brno - Obřany
END:VEVENT
BEGIN:VEVENT
UID:30386432-6431-4935-a233-333733306266
DTSTAMP:20260422T164515Z
DESCRIPTION:9/36 Orel Křenovice - VS Drásov 'B' 3:X
DTSTART;TZID=Europe/Berlin:20260201T100000
DTEND;TZID=Europe/Berlin:20260201T120000
LOCATION:Sportovní hala Křenovice \, Bratří Mrázků 635 Křenovice
SUMMARY:JM-Z-2-II: Orel Křenovice-VS Drásov 'B'
END:VEVENT
BEGIN:VEVENT
UID:34666566-3062-4537-a134-623566313231
DTSTAMP:20260422T164515Z
DESCRIPTION:10/40 Orel Křenovice - VS Drásov 'B' 3:X
DTSTART;TZID=Europe/Berlin:20260201T130000
DTEND;TZID=Europe/Berlin:20260201T150000
LOCATION:Sportovní hala Křenovice \, Bratří Mrázků 635 Křenovice
SUMMARY:JM-Z-2-II: Orel Křenovice-VS Drásov 'B'
END:VEVENT
BEGIN:VEVENT
UID:39316462-3663-4237-b936-303565316235
DTSTAMP:20260422T164515Z
DESCRIPTION:13/50 Orel Křenovice - HIPPO Kuřim 3:2 (-14\,-18\,18\,11\,11)
DTSTART;TZID=Europe/Berlin:20260301T100000
DTEND;TZID=Europe/Berlin:20260301T120000
LOCATION:Sportovní hala Křenovice \, Bratří Mrázků 635 Křenovice
SUMMARY:JM-Z-2-II: Orel Křenovice-HIPPO Kuřim
END:VEVENT
BEGIN:VEVENT
UID:66663461-3737-4562-a530-653432643666
DTSTAMP:20260422T164515Z
DESCRIPTION:14/54 Orel Křenovice - HIPPO Kuřim 2:3 (-23\,-22\,19\,18\,-6)
DTSTART;TZID=Europe/Berlin:20260301T130000
DTEND;TZID=Europe/Berlin:20260301T150000
LOCATION:Sportovní hala Křenovice \, Bratří Mrázků 635 Křenovice
SUMMARY:JM-Z-2-II: Orel Křenovice-HIPPO Kuřim
END:VEVENT
BEGIN:VEVENT
UID:33336361-3830-4935-b630-366138636330
DTSTAMP:20260422T164515Z
DESCRIPTION:1/4 VS Drásov 'B' - Orel Křenovice 3:2 (21\,-25\,-18\,19\,6)
DTSTART;TZID=Europe/Berlin:20251214T100000
DTEND;TZID=Europe/Berlin:20251214T120000
LOCATION:Hala u ZŠ TGM Drásov\, Školní 167 Drásov
SUMMARY:JM-Z-2-II: VS Drásov 'B'-Orel Křenovice
END:VEVENT
BEGIN:VEVENT
UID:39636631-3436-4533-b566-393037326336
DTSTAMP:20260422T164515Z
DESCRIPTION:2/8 VS Drásov 'B' - Orel Křenovice 0:3 (-18\,-14\,-23)
DTSTART;TZID=Europe/Berlin:20251214T130000
DTEND;TZID=Europe/Berlin:20251214T150000
LOCATION:Hala u ZŠ TGM Drásov\, Školní 167 Drásov
SUMMARY:JM-Z-2-II: VS Drásov 'B'-Orel Křenovice
END:VEVENT
BEGIN:VEVENT
UID:64343436-3665-4031-b039-623038656265
DTSTAMP:20260422T164515Z
DESCRIPTION:5/18 HIPPO Kuřim - Orel Křenovice 0:3 (-24\,-19\,-17)
DTSTART;TZID=Europe/Berlin:20260111T100000
DTEND;TZID=Europe/Berlin:20260111T120000
LOCATION:ZŠ Jungmannova Kuřim\, Jungmannova 813 Kuřim
SUMMARY:JM-Z-2-II: HIPPO Kuřim-Orel Křenovice
END:VEVENT
BEGIN:VEVENT
UID:31363137-3866-4639-a139-653463326465
DTSTAMP:20260422T164515Z
DESCRIPTION:6/22 HIPPO Kuřim - Orel Křenovice 0:3 (-12\,-21\,-23)
DTSTART;TZID=Europe/Berlin:20260111T130000
DTEND;TZID=Europe/Berlin:20260111T150000
LOCATION:ZŠ Jungmannova Kuřim\, Jungmannova 813 Kuřim
SUMMARY:JM-Z-2-II: HIPPO Kuřim-Orel Křenovice
END:VEVENT
BEGIN:VEVENT
UID:38373962-6463-4364-a166-366235313435
DTSTAMP:20260422T164515Z
DESCRIPTION:11/43 TJ SOKOL LETOVICE\, z.s. - Orel Křenovice 0:3 (-19\,-22\,
 -21)
DTSTART;TZID=Europe/Berlin:20260208T100000
DTEND;TZID=Europe/Berlin:20260208T120000
LOCATION:Sportovní hala u ZŠ Brněnec \,  Brněnec - Moravská Chrastová100
SUMMARY:JM-Z-2-II: TJ SOKOL LETOVICE\, z.s.-Orel Křenovice
END:VEVENT
BEGIN:VEVENT
UID:65343232-3961-4239-b035-303062636566
DTSTAMP:20260422T164515Z
DESCRIPTION:12/47 TJ SOKOL LETOVICE\, z.s. - Orel Křenovice 3:1 (21\,20\,-2
 8\,12)
DTSTART;TZID=Europe/Berlin:20260208T130000
DTEND;TZID=Europe/Berlin:20260208T150000
LOCATION:Sportovní hala u ZŠ Brněnec \,  Brněnec - Moravská Chrastová100
SUMMARY:JM-Z-2-II: TJ SOKOL LETOVICE\, z.s.-Orel Křenovice
END:VEVENT
BEGIN:VEVENT
UID:31626430-3738-4365-a232-363533326335
DTSTAMP:20260422T164515Z
DESCRIPTION:15/57 Orel jednota Brno - Obřany - Orel Křenovice 3:1 (-18\,14\
 ,13\,10)
DTSTART;TZID=Europe/Berlin:20260315T100000
DTEND;TZID=Europe/Berlin:20260315T120000
LOCATION:ZŠ Masarova\, Masarova 2360 Brno - Líšeň
SUMMARY:JM-Z-2-II: Orel jednota Brno - Obřany-Orel Křenovice
END:VEVENT
BEGIN:VEVENT
UID:38393264-6566-4165-b364-396561383636
DTSTAMP:20260422T164515Z
DESCRIPTION:16/61 Orel jednota Brno - Obřany - Orel Křenovice 1:3 (-20\,-23
 \,22\,-20)
DTSTART;TZID=Europe/Berlin:20260315T130000
DTEND;TZID=Europe/Berlin:20260315T150000
LOCATION:ZŠ Masarova\, Masarova 2360 Brno - Líšeň
SUMMARY:JM-Z-2-II: Orel jednota Brno - Obřany-Orel Křenovice
END:VEVENT
END:VCALENDAR
