BEGIN:VCALENDAR
VERSION:2.0
PRODID:-//Tělocvičná jednota Sokol Rajhrad90649//NONSGML kigkonsult.se iCalcreator 2.41.80//
CALSCALE:GREGORIAN
UID:39343731-6532-4566-b438-356638376131
BEGIN:VEVENT
UID:63663632-3764-4536-b536-633232313865
DTSTAMP:20260422T235607Z
DESCRIPTION:3/10 Tělocvičná jednota Sokol Rajhrad - TJ JUNIOR Brno 3:0 (16\
 ,20\,17)
DTSTART;TZID=Europe/Berlin:20251012T100000
DTEND;TZID=Europe/Berlin:20251012T120000
LOCATION:, Havlíčkova 452 Rajhrad
SUMMARY:JM-Z-2-B: Tělocvičná jednota Sokol Rajhrad-TJ JUNIOR Brno
END:VEVENT
BEGIN:VEVENT
UID:34653437-3331-4931-b932-343661313935
DTSTAMP:20260422T235607Z
DESCRIPTION:4/14 Tělocvičná jednota Sokol Rajhrad - TJ JUNIOR Brno 2:3 (14\
 ,-19\,19\,-20\,-11)
DTSTART;TZID=Europe/Berlin:20251012T130000
DTEND;TZID=Europe/Berlin:20251012T150000
LOCATION:, Havlíčkova 452 Rajhrad
SUMMARY:JM-Z-2-B: Tělocvičná jednota Sokol Rajhrad-TJ JUNIOR Brno
END:VEVENT
BEGIN:VEVENT
UID:65623830-3862-4930-a432-306562633666
DTSTAMP:20260422T235607Z
DESCRIPTION:9/36 Tělocvičná jednota Sokol Rajhrad - Orel Křenovice 2:3 (-14
 \,17\,-25\,18\,-8)
DTSTART;TZID=Europe/Berlin:20251109T100000
DTEND;TZID=Europe/Berlin:20251109T120000
LOCATION:, Havlíčkova 452 Rajhrad
SUMMARY:JM-Z-2-B: Tělocvičná jednota Sokol Rajhrad-Orel Křenovice
END:VEVENT
BEGIN:VEVENT
UID:63383264-3661-4865-a239-656636313837
DTSTAMP:20260422T235607Z
DESCRIPTION:10/40 Tělocvičná jednota Sokol Rajhrad - Orel Křenovice 3:2 (16
 \,-12\,-16\,23\,15)
DTSTART;TZID=Europe/Berlin:20251109T130000
DTEND;TZID=Europe/Berlin:20251109T150000
LOCATION:, Havlíčkova 452 Rajhrad
SUMMARY:JM-Z-2-B: Tělocvičná jednota Sokol Rajhrad-Orel Křenovice
END:VEVENT
BEGIN:VEVENT
UID:37623861-3961-4361-b236-633263303836
DTSTAMP:20260422T235607Z
DESCRIPTION:13/51 Tělocvičná jednota Sokol Rajhrad - VK Křenovice\, z.s. 1:
 3 (-17\,-17\,20\,-23)
DTSTART;TZID=Europe/Berlin:20251130T100000
DTEND;TZID=Europe/Berlin:20251130T120000
LOCATION:, Havlíčkova 452 Rajhrad
SUMMARY:JM-Z-2-B: Tělocvičná jednota Sokol Rajhrad-VK Křenovice\, z.s.
END:VEVENT
BEGIN:VEVENT
UID:32356334-6164-4333-b732-646137336565
DTSTAMP:20260422T235607Z
DESCRIPTION:14/55 Tělocvičná jednota Sokol Rajhrad - VK Křenovice\, z.s. 3:
 0 (10\,24\,13)
DTSTART;TZID=Europe/Berlin:20251130T130000
DTEND;TZID=Europe/Berlin:20251130T150000
LOCATION:, Havlíčkova 452 Rajhrad
SUMMARY:JM-Z-2-B: Tělocvičná jednota Sokol Rajhrad-VK Křenovice\, z.s.
END:VEVENT
BEGIN:VEVENT
UID:30653465-6437-4866-a138-643836313130
DTSTAMP:20260422T235607Z
DESCRIPTION:1/3 Sokol Šlapanice - Tělocvičná jednota Sokol Rajhrad 3:1 (15\
 ,-20\,21\,14)
DTSTART;TZID=Europe/Berlin:20251005T100000
DTEND;TZID=Europe/Berlin:20251005T120000
LOCATION:Tělocvična ZŠ Šlapanice\, Masarykovo náměstí 1594 Šlapanice
SUMMARY:JM-Z-2-B: Sokol Šlapanice-Tělocvičná jednota Sokol Rajhrad
END:VEVENT
BEGIN:VEVENT
UID:39373139-3031-4231-b132-623134623661
DTSTAMP:20260422T235607Z
DESCRIPTION:2/7 Sokol Šlapanice - Tělocvičná jednota Sokol Rajhrad 3:1 (-20
 \,12\,23\,17)
DTSTART;TZID=Europe/Berlin:20251005T130000
DTEND;TZID=Europe/Berlin:20251005T150000
LOCATION:Tělocvična ZŠ Šlapanice\, Masarykovo náměstí 1594 Šlapanice
SUMMARY:JM-Z-2-B: Sokol Šlapanice-Tělocvičná jednota Sokol Rajhrad
END:VEVENT
BEGIN:VEVENT
UID:63376536-3661-4034-b263-376361363730
DTSTAMP:20260422T235607Z
DESCRIPTION:5/20 VOLEJBAL VYŠKOV - Tělocvičná jednota Sokol Rajhrad 3:0 (22
 \,17\,13)
DTSTART;TZID=Europe/Berlin:20251019T100000
DTEND;TZID=Europe/Berlin:20251019T120000
LOCATION:ZŠ Vyškov\, Purkyňova 39\, Purkyňova 308 Vyškov - Nosálovice
SUMMARY:JM-Z-2-B: VOLEJBAL VYŠKOV-Tělocvičná jednota Sokol Rajhrad
END:VEVENT
BEGIN:VEVENT
UID:63346432-6136-4639-b934-346338653430
DTSTAMP:20260422T235607Z
DESCRIPTION:6/24 VOLEJBAL VYŠKOV - Tělocvičná jednota Sokol Rajhrad 3:0 (16
 \,12\,22)
DTSTART;TZID=Europe/Berlin:20251019T130000
DTEND;TZID=Europe/Berlin:20251019T150000
LOCATION:ZŠ Vyškov\, Purkyňova 39\, Purkyňova 308 Vyškov - Nosálovice
SUMMARY:JM-Z-2-B: VOLEJBAL VYŠKOV-Tělocvičná jednota Sokol Rajhrad
END:VEVENT
BEGIN:VEVENT
UID:35646637-3235-4461-b335-313838326231
DTSTAMP:20260422T235607Z
DESCRIPTION:11/42 TJ TATRAN Rousínov\, z.s. - Tělocvičná jednota Sokol Rajh
 rad 0:3 (-23\,-24\,-17)
DTSTART;TZID=Europe/Berlin:20251123T100000
DTEND;TZID=Europe/Berlin:20251123T120000
LOCATION:Sportovní hala Rousínov\, Habrovanská 1199 Rousínov
SUMMARY:JM-Z-2-B: TJ TATRAN Rousínov\, z.s.-Tělocvičná jednota Sokol Rajhra
 d
END:VEVENT
BEGIN:VEVENT
UID:66356161-3633-4236-b963-306465616533
DTSTAMP:20260422T235607Z
DESCRIPTION:12/46 TJ TATRAN Rousínov\, z.s. - Tělocvičná jednota Sokol Rajh
 rad 3:1 (16\,17\,-29\,23)
DTSTART;TZID=Europe/Berlin:20251123T130000
DTEND;TZID=Europe/Berlin:20251123T150000
LOCATION:Sportovní hala Rousínov\, Habrovanská 1199 Rousínov
SUMMARY:JM-Z-2-B: TJ TATRAN Rousínov\, z.s.-Tělocvičná jednota Sokol Rajhra
 d
END:VEVENT
BEGIN:VEVENT
UID:32666236-6639-4635-b233-336139376666
DTSTAMP:20260422T235607Z
DESCRIPTION:3/10 Tělocvičná jednota Sokol Rajhrad - HIPPO Kuřim 1:3 (-20\,-
 19\,21\,-23)
DTSTART;TZID=Europe/Berlin:20260104T100000
DTEND;TZID=Europe/Berlin:20260104T120000
LOCATION:, Havlíčkova 452 Rajhrad
SUMMARY:JM-Z-2-II: Tělocvičná jednota Sokol Rajhrad-HIPPO Kuřim
END:VEVENT
BEGIN:VEVENT
UID:61346433-3763-4264-b162-653833303833
DTSTAMP:20260422T235607Z
DESCRIPTION:4/14 Tělocvičná jednota Sokol Rajhrad - HIPPO Kuřim 3:1 (-9\,23
 \,22\,21)
DTSTART;TZID=Europe/Berlin:20260104T130000
DTEND;TZID=Europe/Berlin:20260104T150000
LOCATION:, Havlíčkova 452 Rajhrad
SUMMARY:JM-Z-2-II: Tělocvičná jednota Sokol Rajhrad-HIPPO Kuřim
END:VEVENT
BEGIN:VEVENT
UID:36386465-3733-4163-b038-393538313766
DTSTAMP:20260422T235607Z
DESCRIPTION:7/28 Tělocvičná jednota Sokol Rajhrad - VS Drásov 'B' 3:1 (-17\
 ,21\,20\,22)
DTSTART;TZID=Europe/Berlin:20260118T100000
DTEND;TZID=Europe/Berlin:20260118T120000
LOCATION:, Havlíčkova 452 Rajhrad
SUMMARY:JM-Z-2-II: Tělocvičná jednota Sokol Rajhrad-VS Drásov 'B'
END:VEVENT
BEGIN:VEVENT
UID:37626335-3430-4134-b265-393062333165
DTSTAMP:20260422T235607Z
DESCRIPTION:8/32 Tělocvičná jednota Sokol Rajhrad - VS Drásov 'B' 3:1 (10\,
 11\,-15\,22)
DTSTART;TZID=Europe/Berlin:20260118T130000
DTEND;TZID=Europe/Berlin:20260118T150000
LOCATION:, Havlíčkova 452 Rajhrad
SUMMARY:JM-Z-2-II: Tělocvičná jednota Sokol Rajhrad-VS Drásov 'B'
END:VEVENT
BEGIN:VEVENT
UID:65353166-6331-4663-b866-636138643563
DTSTAMP:20260422T235607Z
DESCRIPTION:9/35 Tělocvičná jednota Sokol Rajhrad - TJ SOKOL LETOVICE\, z.s
 . 2:3 (27\,-19\,-14\,18\,-7)
DTSTART;TZID=Europe/Berlin:20260201T100000
DTEND;TZID=Europe/Berlin:20260201T120000
LOCATION:, Havlíčkova 452 Rajhrad
SUMMARY:JM-Z-2-II: Tělocvičná jednota Sokol Rajhrad-TJ SOKOL LETOVICE\, z.s
 .
END:VEVENT
BEGIN:VEVENT
UID:66653839-3835-4438-a235-383437363833
DTSTAMP:20260422T235607Z
DESCRIPTION:10/39 Tělocvičná jednota Sokol Rajhrad - TJ SOKOL LETOVICE\, z.
 s. 1:3 (-12\,22\,-17\,-22)
DTSTART;TZID=Europe/Berlin:20260201T130000
DTEND;TZID=Europe/Berlin:20260201T150000
LOCATION:, Havlíčkova 452 Rajhrad
SUMMARY:JM-Z-2-II: Tělocvičná jednota Sokol Rajhrad-TJ SOKOL LETOVICE\, z.s
 .
END:VEVENT
BEGIN:VEVENT
UID:62386334-6138-4463-a163-346562663861
DTSTAMP:20260422T235607Z
DESCRIPTION:13/49 Tělocvičná jednota Sokol Rajhrad - Orel jednota Brno - Ob
 řany 2:3 (-23\,22\,-16\,24\,-10)
DTSTART;TZID=Europe/Berlin:20260322T100000
DTEND;TZID=Europe/Berlin:20260322T120000
LOCATION:, Havlíčkova 452 Rajhrad
SUMMARY:JM-Z-2-II: Tělocvičná jednota Sokol Rajhrad-Orel jednota Brno - Obř
 any
END:VEVENT
BEGIN:VEVENT
UID:38323831-6535-4438-b661-303230396661
DTSTAMP:20260422T235607Z
DESCRIPTION:14/53 Tělocvičná jednota Sokol Rajhrad - Orel jednota Brno - Ob
 řany 0:3 (-12\,-19\,-21)
DTSTART;TZID=Europe/Berlin:20260322T130000
DTEND;TZID=Europe/Berlin:20260322T150000
LOCATION:, Havlíčkova 452 Rajhrad
SUMMARY:JM-Z-2-II: Tělocvičná jednota Sokol Rajhrad-Orel jednota Brno - Obř
 any
END:VEVENT
BEGIN:VEVENT
UID:61626637-3965-4234-a563-353936303931
DTSTAMP:20260422T235607Z
DESCRIPTION:1/3 TJ SOKOL LETOVICE\, z.s. - Tělocvičná jednota Sokol Rajhrad
  1:3 (-19\,16\,-19\,-20)
DTSTART;TZID=Europe/Berlin:20251214T100000
DTEND;TZID=Europe/Berlin:20251214T120000
LOCATION:Sportovní hala u ZŠ Brněnec \,  Brněnec - Moravská Chrastová100
SUMMARY:JM-Z-2-II: TJ SOKOL LETOVICE\, z.s.-Tělocvičná jednota Sokol Rajhra
 d
END:VEVENT
BEGIN:VEVENT
UID:36643735-3766-4865-b332-343761623433
DTSTAMP:20260422T235607Z
DESCRIPTION:2/7 TJ SOKOL LETOVICE\, z.s. - Tělocvičná jednota Sokol Rajhrad
  3:1 (16\,21\,-23\,16)
DTSTART;TZID=Europe/Berlin:20251214T130000
DTEND;TZID=Europe/Berlin:20251214T150000
LOCATION:Sportovní hala u ZŠ Brněnec \,  Brněnec - Moravská Chrastová100
SUMMARY:JM-Z-2-II: TJ SOKOL LETOVICE\, z.s.-Tělocvičná jednota Sokol Rajhra
 d
END:VEVENT
BEGIN:VEVENT
UID:35616564-3139-4136-a666-313365316265
DTSTAMP:20260422T235607Z
DESCRIPTION:5/17 Orel jednota Brno - Obřany - Tělocvičná jednota Sokol Rajh
 rad 2:3 (-23\,-26\,18\,8\,-12)
DTSTART;TZID=Europe/Berlin:20260111T100000
DTEND;TZID=Europe/Berlin:20260111T120000
LOCATION:ZŠ Masarova\, Masarova 2360 Brno - Líšeň
SUMMARY:JM-Z-2-II: Orel jednota Brno - Obřany-Tělocvičná jednota Sokol Rajh
 rad
END:VEVENT
BEGIN:VEVENT
UID:33346538-3634-4435-a136-383661616538
DTSTAMP:20260422T235607Z
DESCRIPTION:6/21 Orel jednota Brno - Obřany - Tělocvičná jednota Sokol Rajh
 rad 3:1 (21\,-23\,18\,10)
DTSTART;TZID=Europe/Berlin:20260111T130000
DTEND;TZID=Europe/Berlin:20260111T150000
LOCATION:ZŠ Masarova\, Masarova 2360 Brno - Líšeň
SUMMARY:JM-Z-2-II: Orel jednota Brno - Obřany-Tělocvičná jednota Sokol Rajh
 rad
END:VEVENT
BEGIN:VEVENT
UID:65616162-6161-4532-b432-373161633932
DTSTAMP:20260422T235607Z
DESCRIPTION:11/42 HIPPO Kuřim - Tělocvičná jednota Sokol Rajhrad 3:0 (11\,1
 5\,20)
DTSTART;TZID=Europe/Berlin:20260208T100000
DTEND;TZID=Europe/Berlin:20260208T120000
LOCATION:ZŠ Jungmannova Kuřim\, Jungmannova 813 Kuřim
SUMMARY:JM-Z-2-II: HIPPO Kuřim-Tělocvičná jednota Sokol Rajhrad
END:VEVENT
BEGIN:VEVENT
UID:33373865-3731-4130-b932-663262366366
DTSTAMP:20260422T235607Z
DESCRIPTION:12/46 HIPPO Kuřim - Tělocvičná jednota Sokol Rajhrad 3:0 (17\,1
 9\,22)
DTSTART;TZID=Europe/Berlin:20260208T130000
DTEND;TZID=Europe/Berlin:20260208T150000
LOCATION:ZŠ Jungmannova Kuřim\, Jungmannova 813 Kuřim
SUMMARY:JM-Z-2-II: HIPPO Kuřim-Tělocvičná jednota Sokol Rajhrad
END:VEVENT
BEGIN:VEVENT
UID:39613462-3836-4762-b464-306332306665
DTSTAMP:20260422T235608Z
DESCRIPTION:15/60 VS Drásov 'B' - Tělocvičná jednota Sokol Rajhrad 3:2 (-24
 \,12\,-20\,24\,13)
DTSTART;TZID=Europe/Berlin:20260315T100000
DTEND;TZID=Europe/Berlin:20260315T120000
LOCATION:Hala u ZŠ TGM Drásov\, Školní 167 Drásov
SUMMARY:JM-Z-2-II: VS Drásov 'B'-Tělocvičná jednota Sokol Rajhrad
END:VEVENT
BEGIN:VEVENT
UID:37356430-6437-4465-a134-616638616636
DTSTAMP:20260422T235608Z
DESCRIPTION:16/64 VS Drásov 'B' - Tělocvičná jednota Sokol Rajhrad 2:3 (-20
 \,-16\,18\,24\,-11)
DTSTART;TZID=Europe/Berlin:20260315T130000
DTEND;TZID=Europe/Berlin:20260315T150000
LOCATION:Hala u ZŠ TGM Drásov\, Školní 167 Drásov
SUMMARY:JM-Z-2-II: VS Drásov 'B'-Tělocvičná jednota Sokol Rajhrad
END:VEVENT
END:VCALENDAR
